Workbook

Sheet NOTAS
A6: NOTAS GENERALES DEL INFORME - DIRECCIÓN DE INFORMACIÓN PÚBLICA DEL TRIBUNAL SUPERIOR DE JUSTICIA / PERSONAS ATENDIDAS
A8: NOTAS
A9: Fuente: Dirección de Estadística de la Presidencia con información capturada por la Dirección de Información Pública del TSJCDMX.
A11: Última actualización: 26 de Agosto de 2026
A12: .

Sheet CONCENTRADO
A6: INFORMACIÓN ESTADÍSTICA, DICIEMBRE 2010 A JULIO 2026
A7: DIRECCIÓN DE INFORMACIÓN PÚBLICA DEL TRIBUNAL SUPERIOR DE JUSTICIA / PERSONAS ATENDIDAS
A9: Rubros | B9: Diciembre 2010 | C9: 2011 | D9: 2012 | E9: 2013 | F9: 2014 | G9: 2015 | H9: 2016 | I9: 2017 | J9: 2018 | K9: 2019 | L9: 2020 | M9: 2021 | N9: 2022 | O9: 2023 | P9: 2024 | Q9: 2025 | R9: 2026
A10: PERSONAS ATENDIDAS | B10: =DICIEMBRE_2010!C10 -> 14 | C10: ='2011'!N10 -> 846 | D10: ='2012'!N10 -> 511 | E10: ='2013'!N10 -> 648 | F10: ='2014'!N10 -> 357 | G10: ='2015'!N10 -> 386 | H10: ='2016'!N10 -> 518 | I10: ='2017'!N10 -> 555 | J10: ='2018'!N10 -> 667 | K10: ='2019'!N10 -> 578 | L10: ='2020'!N10 -> 136 | M10: ='2021'!N10 -> 64 | N10: ='2022'!N10 -> 76 | O10: ='2023'!N10 -> 96 | P10: ='2024'!N10 -> 24 | Q10: ='2025'!N10 -> 15 | R10: ='2026'!N10 -> 2
A12: SOLICITUDES DE INFORMACIÓN PÚBLICA RECIBIDAS
A13: VÍA ELECTRÓNICA (INFOMEX, TELINFOCDMX Y CORREO ELECTRÓNICO) | B13: =DICIEMBRE_2010!C13 -> 18 | C13: ='2011'!N13 -> 1448 | D13: ='2012'!N13 -> 1092 | E13: ='2013'!N13 -> 809 | F13: ='2014'!N13 -> 1460 | G13: ='2015'!N13 -> 1659 | H13: ='2016'!N13 -> 1963 | I13: ='2017'!N13 -> 2610 | J13: ='2018'!N13 -> 2827 | K13: ='2019'!N13 -> 3501 | L13: ='2020'!N13 -> 2335 | M13: ='2021'!N13 -> 2304 | N13: ='2022'!N13 -> 2228 | O13: ='2023'!N13 -> 2517 | P13: ='2024'!N13 -> 2099 | Q13: ='2025'!N13 -> 2027 | R13: ='2026'!N13 -> 240
A14: POR ESCRITO (FORMATO IMPRESO) | B14: =DICIEMBRE_2010!C14 -> 25 | C14: ='2011'!N14 -> 583 | D14: ='2012'!N14 -> 280 | E14: ='2013'!N14 -> 648 | F14: ='2014'!N14 -> 357 | G14: ='2015'!N14 -> 386 | H14: ='2016'!N14 -> 518 | I14: ='2017'!N14 -> 555 | J14: ='2018'!N14 -> 667 | K14: ='2019'!N14 -> 578 | L14: ='2020'!N14 -> 136 | M14: ='2021'!N14 -> 64 | N14: ='2022'!N14 -> 76 | O14: ='2023'!N14 -> 33 | P14: ='2024'!N14 -> 24 | Q14: ='2025'!N14 -> 20 | R14: ='2026'!N14 -> 2
A15: SOLICITUDES DIRIGIDAS A JUZGADOS | B15: =DICIEMBRE_2010!C15 -> 4 | C15: ='2011'!N15 -> 324 | D15: ='2012'!N15 -> 144 | E15: ='2013'!N15 -> 118 | F15: ='2014'!N15 -> 81 | G15: ='2015'!N15 -> 58 | H15: ='2016'!N15 -> 116 | I15: ='2017'!N15 -> 155 | J15: ='2018'!N15 -> 197 | K15: ='2019'!N15 -> 232 | L15: ='2020'!N15 -> 107 | M15: ='2021'!N15 -> 188 | N15: ='2022'!N15 -> 233 | O15: ='2023'!N15 -> 156 | P15: ='2024'!N15 -> 113 | Q15: ='2025'!N15 -> 60 | R15: ='2026'!N15 -> 19
A16: SOLICITUDES DIRIGIDAS A SALAS | B16: =DICIEMBRE_2010!C16 -> 0 | C16: ='2011'!N16 -> 19 | D16: ='2012'!N16 -> 8 | E16: ='2013'!N16 -> 3 | F16: ='2014'!N16 -> 5 | G16: ='2015'!N16 -> 6 | H16: ='2016'!N16 -> 36 | I16: ='2017'!N16 -> 26 | J16: ='2018'!N16 -> 27 | K16: ='2019'!N16 -> 28 | L16: ='2020'!N16 -> 29 | M16: ='2021'!N16 -> 24 | N16: ='2022'!N16 -> 51 | O16: ='2023'!N16 -> 25 | P16: ='2024'!N16 -> 43 | Q16: ='2025'!N16 -> 15 | R16: ='2026'!N16 -> 4
A17: SOLICITUDES DIRIGIDAS A ÁREAS DE APOYO JUDICIAL | B17: =DICIEMBRE_2010!C17 -> 25 | C17: ='2011'!N17 -> 1042 | D17: ='2012'!N17 -> 616 | E17: ='2013'!N17 -> 484 | F17: ='2014'!N17 -> 548 | G17: ='2015'!N17 -> 461 | H17: ='2016'!N17 -> 531 | I17: ='2017'!N17 -> 678 | J17: ='2018'!N17 -> 702 | K17: ='2019'!N17 -> 528 | L17: ='2020'!N17 -> 310 | M17: ='2021'!N17 -> 446 | N17: ='2022'!N17 -> 493 | O17: ='2023'!N17 -> 218 | P17: ='2024'!N17 -> 209 | Q17: ='2025'!N17 -> 446 | R17: ='2026'!N17 -> 95
A18: SOLICITUDES DIRIGIDAS A ÁREAS ADMINISTRATIVAS | B18: =DICIEMBRE_2010!C18 -> 14 | C18: ='2011'!N18 -> 680 | D18: ='2012'!N18 -> 756 | E18: ='2013'!N18 -> 278 | F18: ='2014'!N18 -> 527 | G18: ='2015'!N18 -> 425 | H18: ='2016'!N18 -> 819 | I18: ='2017'!N18 -> 1196 | J18: ='2018'!N18 -> 1291 | K18: ='2019'!N18 -> 1811 | L18: ='2020'!N18 -> 1796 | M18: ='2021'!N18 -> 1237 | N18: ='2022'!N18 -> 664 | O18: ='2023'!N18 -> 1790 | P18: ='2024'!N18 -> 1392 | Q18: ='2025'!N18 -> 1642 | R18: ='2026'!N18 -> 171
A20: SOLICITUDES DE INFORMACIÓN ENTREGADAS Y CASOS EN LOS QUE SE NEGÓ EL ACCESO
A21: SOLICITUDES EN LAS QUE HUBO ENTREGA TOTAL DE LA INFORMACIÓN | B21: =DICIEMBRE_2010!C21 -> 37 | C21: ='2011'!N21 -> 1676 | D21: ='2012'!N21 -> 1144 | E21: ='2013'!N21 -> 998 | F21: ='2014'!N21 -> 1309 | G21: ='2015'!N21 -> 1129 | H21: ='2016'!N21 -> 1495 | I21: ='2017'!N21 -> 2025 | J21: ='2018'!N21 -> 2154 | K21: ='2019'!N21 -> 2350 | L21: ='2020'!N21 -> 2101 | M21: ='2021'!N21 -> 2042 | N21: ='2022'!N21 -> 2474 | O21: ='2023'!N21 -> 3037 | P21: ='2024'!N21 -> 2123 | Q21: ='2025'!N21 -> 929 | R21: ='2026'!N21 -> 143
A22: SOLICITUDES EN LAS QUE SE DECLARÓ LA INEXISTENCIA DE INFORMACIÓN | B22: =DICIEMBRE_2010!C22 -> 0 | C22: ='2011'!N22 -> 0 | D22: ='2012'!N22 -> 0 | E22: ='2013'!N22 -> 0 | F22: ='2014'!N22 -> 0 | G22: ='2015'!N22 -> 2 | H22: ='2016'!N22 -> 0 | I22: ='2017'!N22 -> 10 | J22: ='2018'!N22 -> 17 | K22: ='2019'!N22 -> 4 | L22: ='2020'!N22 -> 2 | M22: ='2021'!N22 -> 0 | N22: ='2022'!N22 -> 0 | O22: ='2023'!N22 -> 21 | P22: ='2024'!N22 -> 14 | Q22: ='2025'!N22 -> 5 | R22: ='2026'!N22 -> 0
A23: SOLICITUDES CUYA INFORMACIÓN SE ENCONTRABA BAJO EL SUPUESTO DE ACCESO RESTRINGIDO | B23: =DICIEMBRE_2010!C23 -> 0 | C23: ='2011'!N23 -> 0 | D23: ='2012'!N23 -> 0 | E23: ='2013'!N23 -> 0 | F23: ='2014'!N23 -> 10 | G23: ='2015'!N23 -> 0 | H23: ='2016'!N23 -> 33 | I23: ='2017'!N23 -> 2 | J23: ='2018'!N23 -> 0 | K23: ='2019'!N23 -> 42 | L23: ='2020'!N23 -> 10 | M23: ='2021'!N23 -> 0 | N23: ='2022'!N23 -> 7 | O23: ='2023'!N23 -> 71 | P23: ='2024'!N23 -> 120 | Q23: ='2025'!N23 -> 13 | R23: ='2026'!N23 -> 0
A24: SOLICITUDES EN LAS QUE SE ENTREGÓ INFORMACIÓN DISTINTA A LA SOLICITADA O EN UN FORMATO INCOMPRENSIBLE | B24: =DICIEMBRE_2010!C24 -> 0 | C24: ='2011'!N24 -> 0 | D24: ='2012'!N24 -> 0 | E24: ='2013'!N24 -> 0 | F24: ='2014'!N24 -> 0 | G24: ='2015'!N24 -> 0 | H24: ='2016'!N24 -> 0 | I24: ='2017'!N24 -> 0 | J24: ='2018'!N24 -> 0 | K24: ='2019'!N24 -> 0 | L24: ='2020'!N24 -> 0 | M24: ='2021'!N24 -> 0 | N24: ='2022'!N24 -> 0 | O24: ='2023'!N24 -> 6 | P24: ='2024'!N24 -> 6 | Q24: ='2025'!N24 -> 0 | R24: ='2026'!N24 -> 0
A25: SOLICITUDES EN LAS QUE HUBO ENTREGA PARCIAL DE INFORMACIÓN | B25: =DICIEMBRE_2010!C25 -> 0 | C25: ='2011'!N25 -> 0 | D25: ='2012'!N25 -> 0 | E25: ='2013'!N25 -> 0 | F25: ='2014'!N25 -> 0 | G25: ='2015'!N25 -> 0 | H25: ='2016'!N25 -> 0 | I25: ='2017'!N25 -> 0 | J25: ='2018'!N25 -> 0 | K25: ='2019'!N25 -> 0 | L25: ='2020'!N25 -> 0 | M25: ='2021'!N25 -> 0 | N25: ='2022'!N25 -> 0 | O25: ='2023'!N25 -> 0 | P25: ='2024'!N25 -> 27 | Q25: ='2025'!N25 -> 0 | R25: ='2026'!N25 -> 0
A26: SOLICITUDES CANALIZADAS A OTRO ENTE PÚBLICO | B26: =DICIEMBRE_2010!C26 -> 5 | C26: ='2011'!N26 -> 95 | D26: ='2012'!N26 -> 84 | E26: ='2013'!N26 -> 116 | F26: ='2014'!N26 -> 99 | G26: ='2015'!N26 -> 98 | H26: ='2016'!N26 -> 49 | I26: ='2017'!N26 -> 60 | J26: ='2018'!N26 -> 234 | K26: ='2019'!N26 -> 366 | L26: ='2020'!N26 -> 202 | M26: ='2021'!N26 -> 271 | N26: ='2022'!N26 -> 272 | O26: ='2023'!N26 -> 136 | P26: ='2024'!N26 -> 241 | Q26: ='2025'!N26 -> 110 | R26: ='2026'!N26 -> 30
A27: SOLICITUDES PREVENIDAS SIN DESAHOGO POR PARTE DEL PETICIONARIO | B27: =DICIEMBRE_2010!C27 -> 2 | C27: ='2011'!N27 -> 196 | D27: ='2012'!N27 -> 525 | E27: ='2013'!N27 -> 418 | F27: ='2014'!N27 -> 524 | G27: ='2015'!N27 -> 314 | H27: ='2016'!N27 -> 399 | I27: ='2017'!N27 -> 306 | J27: ='2018'!N27 -> 404 | K27: ='2019'!N27 -> 388 | L27: ='2020'!N27 -> 258 | M27: ='2021'!N27 -> 275 | N27: ='2022'!N27 -> 230 | O27: ='2023'!N27 -> 368 | P27: ='2024'!N27 -> 172 | Q27: ='2025'!N27 -> 247 | R27: ='2026'!N27 -> 4
A28: SOLICITUDES ORIENTADAS PARA SU TRAMITACIÓN ANTE OTRO ENTE PÚBLICO POR PARTE DEL PETICIONARIO | B28: =DICIEMBRE_2010!C28 -> 0 | C28: ='2011'!N28 -> 32 | D28: ='2012'!N28 -> 82 | E28: ='2013'!N28 -> 54 | F28: ='2014'!N28 -> 64 | G28: ='2015'!N28 -> 60 | H28: ='2016'!N28 -> 154 | I28: ='2017'!N28 -> 164 | J28: ='2018'!N28 -> 125 | K28: ='2019'!N28 -> 100 | L28: ='2020'!N28 -> 159 | M28: ='2021'!N28 -> 248 | N28: ='2022'!N28 -> 213 | O28: ='2023'!N28 -> 95 | P28: ='2024'!N28 -> 80 | Q28: ='2025'!N28 -> 92 | R28: ='2026'!N28 -> 10
A30: RECURSOS DE REVISIÓN
A31: NÚMERO TOTAL DE RECURSOS DE REVISIÓN | B31: =DICIEMBRE_2010!C31 -> 0 | C31: ='2011'!N31 -> 32 | D31: ='2012'!N31 -> 17 | E31: ='2013'!N31 -> 16 | F31: ='2014'!N31 -> 21 | G31: ='2015'!N31 -> 30 | H31: ='2016'!N31 -> 39 | I31: ='2017'!N31 -> 44 | J31: ='2018'!N31 -> 37 | K31: ='2019'!N31 -> 58 | L31: ='2020'!N31 -> 30 | M31: ='2021'!N31 -> 72 | N31: ='2022'!N31 -> 123 | O31: ='2023'!N31 -> 104 | P31: ='2024'!N31 -> 93 | Q31: ='2025'!N31 -> 60 | R31: ='2026'!N31 -> 0
A32: RECURSOS DE REVISIÓN DESHECHADOS IMPROCEDENTES | B32: =DICIEMBRE_2010!C32 -> 0 | C32: ='2011'!N32 -> 0 | D32: ='2012'!N32 -> 0 | E32: ='2013'!N32 -> 0 | F32: ='2014'!N32 -> 0 | G32: ='2015'!N32 -> 0 | H32: ='2016'!N32 -> 0 | I32: ='2017'!N32 -> 0 | J32: ='2018'!N32 -> 0 | K32: ='2019'!N32 -> 3 | L32: ='2020'!N32 -> 0 | M32: ='2021'!N32 -> 0 | N32: ='2022'!N32 -> 0 | O32: ='2023'!N32 -> 0 | P32: ='2024'!N32 -> 0 | Q32: ='2025'!N32 -> 1 | R32: ='2026'!N32 -> 0
A33: RECURSOS DE REVISIÓN DESHECHADOS SOBRESEÍDOS | B33: =DICIEMBRE_2010!C33 -> 0 | C33: ='2011'!N33 -> 5 | D33: ='2012'!N33 -> 10 | E33: ='2013'!N33 -> 5 | F33: ='2014'!N33 -> 8 | G33: ='2015'!N33 -> 16 | H33: ='2016'!N33 -> 15 | I33: ='2017'!N33 -> 13 | J33: ='2018'!N33 -> 19 | K33: ='2019'!N33 -> 6 | L33: ='2020'!N33 -> 10 | M33: ='2021'!N33 -> 35 | N33: ='2022'!N33 -> 38 | O33: ='2023'!N33 -> 31 | P33: ='2024'!N33 -> 52 | Q33: ='2025'!N33 -> 29 | R33: ='2026'!N33 -> 0
A34: RECURSOS QUE CONFIRMAN EL ACTO O RESOLUCIÓN IMPUGNADA | B34: =DICIEMBRE_2010!C34 -> 0 | C34: ='2011'!N34 -> 4 | D34: ='2012'!N34 -> 0 | E34: ='2013'!N34 -> 6 | F34: ='2014'!N34 -> 2 | G34: ='2015'!N34 -> 6 | H34: ='2016'!N34 -> 7 | I34: ='2017'!N34 -> 9 | J34: ='2018'!N34 -> 10 | K34: ='2019'!N34 -> 12 | L34: ='2020'!N34 -> 8 | M34: ='2021'!N34 -> 18 | N34: ='2022'!N34 -> 18 | O34: ='2023'!N34 -> 8 | P34: ='2024'!N34 -> 5 | Q34: ='2025'!N34 -> 7 | R34: ='2026'!N34 -> 0
A35: RECURSOS DE MODIFICAN EL ACTO O RESOLUCIÓN IMPUGNADA | B35: =DICIEMBRE_2010!C35 -> 0 | C35: ='2011'!N35 -> 9 | D35: ='2012'!N35 -> 3 | E35: ='2013'!N35 -> 2 | F35: ='2014'!N35 -> 8 | G35: ='2015'!N35 -> 6 | H35: ='2016'!N35 -> 6 | I35: ='2017'!N35 -> 5 | J35: ='2018'!N35 -> 7 | K35: ='2019'!N35 -> 13 | L35: ='2020'!N35 -> 8 | M35: ='2021'!N35 -> 20 | N35: ='2022'!N35 -> 46 | O35: ='2023'!N35 -> 24 | P35: ='2024'!N35 -> 16 | Q35: ='2025'!N35 -> 11 | R35: ='2026'!N35 -> 0
A36: RECURSOS DE REVOCAN EL ACTO O RESOLUCIÓN IMPUGNADA | B36: =DICIEMBRE_2010!C36 -> 0 | C36: ='2011'!N36 -> 9 | D36: ='2012'!N36 -> 5 | E36: ='2013'!N36 -> 2 | F36: ='2014'!N36 -> 2 | G36: ='2015'!N36 -> 3 | H36: ='2016'!N36 -> 5 | I36: ='2017'!N36 -> 1 | J36: ='2018'!N36 -> 3 | K36: ='2019'!N36 -> 5 | L36: ='2020'!N36 -> 4 | M36: ='2021'!N36 -> 4 | N36: ='2022'!N36 -> 16 | O36: ='2023'!N36 -> 21 | P36: ='2024'!N36 -> 11 | Q36: ='2025'!N36 -> 15 | R36: ='2026'!N36 -> 0

Sheet FEBRERO_2011
A2: TIPO DE ÁREA: UNIDAD ADMINISTRATIVA DE LA OFICILIA MAYOR ENTIDAD: DIRECCIÓN DE INFORMACIÓN PÚBLICA DEL TRIBUNAL SUPERIOR DE JUSTICIA INFORME: PERSONAS ATENDIDAS FEBRERO 2011 | B2: VALOR
A5: PERSONAS ATENDIDAS | B5: 82
A7: SOLICITUDES DE INFORMACIÓN PÚBLICA RECIBIDAS
A8: VÍA ELECTRÓNICA (INFOMEX, TELINFOCDMX Y CORREO ELECTRÓNICO) | B8: 156
A9: POR ESCRITO (FORMATO IMPRESO) | B9: 57
A10: SOLICITUDES DIRIGIDAS A JUZGADOS | B10: 43
A11: SOLICITUDES DIRIGIDAS A SALAS | B11: 2
A12: SOLICITUDES DIRIGIDAS A ÁREAS DE APOYO JUDICIAL | B12: 81
A13: SOLICITUDES DIRIGIDAS A ÁREAS ADMINISTRATIVAS | B13: 83
A15: SOLICITUDES DE INFORMACIÓN ENTREGADAS Y CASOS EN LOS QUE SE NEGÓ EL ACCESO
A16: SOLICITUDES EN LAS QUE HUBO ENTREGA TOTAL DE LA INFORMACIÓN | B16: 174
A17: SOLICITUDES EN LAS QUE SE DECLARÓ LA INEXISTENCIA DE INFORMACIÓN | B17: 0
A18: SOLICITUDES CUYA INFORMACIÓN SE ENCONTRABA BAJO EL SUPUESTO DE ACCESO RESTRINGIDO | B18: 0
A19: SOLICITUDES EN LAS QUE SE ENTREGÓ INFORMACIÓN DISTINTA A LA SOLICITADA O EN UN FORMATO INCOMPRENSIBLE | B19: 0
A20: SOLICITUDES EN LAS QUE HUBO ENTREGA PARCIAL DE INFORMACIÓN | B20: 0
A21: SOLICITUDES CANALIZADAS A OTRO ENTE PÚBLICO | B21: 10
A22: SOLICITUDES PREVENIDAS SIN DESAHOGO POR PARTE DEL PETICIONARIO | B22: 14
A23: SOLICITUDES ORIENTADAS PARA SU TRAMITACIÓN ANTE OTRO ENTE PÚBLICO POR PARTE DEL PETICIONARIO | B23: 1
A25: RECURSOS DE REVISIÓN
A26: NÚMERO TOTAL DE RECURSOS DE REVISIÓN | B26: 1
A27: RECURSOS DE REVISIÓN DESHECHADOS IMPROCEDENTES | B27: 0
A28: RECURSOS DE REVISIÓN DESHECHADOS SOBRESEÍDOS | B28: 0
A29: RECURSOS QUE CONFIRMAN EL ACTO O RESOLUCIÓN IMPUGNADA | B29: 0
A30: RECURSOS DE MODIFICAN EL ACTO O RESOLUCIÓN IMPUGNADA | B30: 1
A31: RECURSOS DE REVOCAN EL ACTO O RESOLUCIÓN IMPUGNADA | B31: 0

Sheet MARZO_2011
A2: TIPO DE ÁREA: UNIDAD ADMINISTRATIVA DE LA OFICILIA MAYOR ENTIDAD: DIRECCIÓN DE INFORMACIÓN PÚBLICA DEL TRIBUNAL SUPERIOR DE JUSTICIA INFORME: PERSONAS ATENDIDAS MARZO 2011 | B2: VALOR
A5: PERSONAS ATENDIDAS | B5: 85
A7: SOLICITUDES DE INFORMACIÓN PÚBLICA RECIBIDAS
A8: VÍA ELECTRÓNICA (INFOMEX, TELINFOCDMX Y CORREO ELECTRÓNICO) | B8: 207
A9: POR ESCRITO (FORMATO IMPRESO) | B9: 89
A10: SOLICITUDES DIRIGIDAS A JUZGADOS | B10: 106
A11: SOLICITUDES DIRIGIDAS A SALAS | B11: 1
A12: SOLICITUDES DIRIGIDAS A ÁREAS DE APOYO JUDICIAL | B12: 105
A13: SOLICITUDES DIRIGIDAS A ÁREAS ADMINISTRATIVAS | B13: 84
A15: SOLICITUDES DE INFORMACIÓN ENTREGADAS Y CASOS EN LOS QUE SE NEGÓ EL ACCESO
A16: SOLICITUDES EN LAS QUE HUBO ENTREGA TOTAL DE LA INFORMACIÓN | B16: 190
A17: SOLICITUDES EN LAS QUE SE DECLARÓ LA INEXISTENCIA DE INFORMACIÓN | B17: 0
A18: SOLICITUDES CUYA INFORMACIÓN SE ENCONTRABA BAJO EL SUPUESTO DE ACCESO RESTRINGIDO | B18: 0
A19: SOLICITUDES EN LAS QUE SE ENTREGÓ INFORMACIÓN DISTINTA A LA SOLICITADA O EN UN FORMATO INCOMPRENSIBLE | B19: 0
A20: SOLICITUDES EN LAS QUE HUBO ENTREGA PARCIAL DE INFORMACIÓN | B20: 0
A21: SOLICITUDES CANALIZADAS A OTRO ENTE PÚBLICO | B21: 13
A22: SOLICITUDES PREVENIDAS SIN DESAHOGO POR PARTE DEL PETICIONARIO | B22: 10
A23: SOLICITUDES ORIENTADAS PARA SU TRAMITACIÓN ANTE OTRO ENTE PÚBLICO POR PARTE DEL PETICIONARIO | B23: 3
A25: RECURSOS DE REVISIÓN
A26: NÚMERO TOTAL DE RECURSOS DE REVISIÓN | B26: 3
A27: RECURSOS DE REVISIÓN DESHECHADOS IMPROCEDENTES | B27: 0
A28: RECURSOS DE REVISIÓN DESHECHADOS SOBRESEÍDOS | B28: 0
A29: RECURSOS QUE CONFIRMAN EL ACTO O RESOLUCIÓN IMPUGNADA | B29: 0
A30: RECURSOS DE MODIFICAN EL ACTO O RESOLUCIÓN IMPUGNADA | B30: 1
A31: RECURSOS DE REVOCAN EL ACTO O RESOLUCIÓN IMPUGNADA | B31: 1

Sheet ABRIL_2011
A2: TIPO DE ÁREA: UNIDAD ADMINISTRATIVA DE LA OFICILIA MAYOR ENTIDAD: DIRECCIÓN DE INFORMACIÓN PÚBLICA DEL TRIBUNAL SUPERIOR DE JUSTICIA INFORME: PERSONAS ATENDIDAS ABRIL 2011 | B2: VALOR
A5: PERSONAS ATENDIDAS | B5: 60
A7: SOLICITUDES DE INFORMACIÓN PÚBLICA RECIBIDAS
A8: VÍA ELECTRÓNICA (INFOMEX, TELINFOCDMX Y CORREO ELECTRÓNICO) | B8: 79
A9: POR ESCRITO (FORMATO IMPRESO) | B9: 51
A10: SOLICITUDES DIRIGIDAS A JUZGADOS | B10: 12
A11: SOLICITUDES DIRIGIDAS A SALAS | B11: 2
A12: SOLICITUDES DIRIGIDAS A ÁREAS DE APOYO JUDICIAL | B12: 68
A13: SOLICITUDES DIRIGIDAS A ÁREAS ADMINISTRATIVAS | B13: 48
A15: SOLICITUDES DE INFORMACIÓN ENTREGADAS Y CASOS EN LOS QUE SE NEGÓ EL ACCESO
A16: SOLICITUDES EN LAS QUE HUBO ENTREGA TOTAL DE LA INFORMACIÓN | B16: 113
A17: SOLICITUDES EN LAS QUE SE DECLARÓ LA INEXISTENCIA DE INFORMACIÓN | B17: 0
A18: SOLICITUDES CUYA INFORMACIÓN SE ENCONTRABA BAJO EL SUPUESTO DE ACCESO RESTRINGIDO | B18: 0
A19: SOLICITUDES EN LAS QUE SE ENTREGÓ INFORMACIÓN DISTINTA A LA SOLICITADA O EN UN FORMATO INCOMPRENSIBLE | B19: 0
A20: SOLICITUDES EN LAS QUE HUBO ENTREGA PARCIAL DE INFORMACIÓN | B20: 0
A21: SOLICITUDES CANALIZADAS A OTRO ENTE PÚBLICO | B21: 14
A22: SOLICITUDES PREVENIDAS SIN DESAHOGO POR PARTE DEL PETICIONARIO | B22: 10
A23: SOLICITUDES ORIENTADAS PARA SU TRAMITACIÓN ANTE OTRO ENTE PÚBLICO POR PARTE DEL PETICIONARIO | B23: 1
A25: RECURSOS DE REVISIÓN
A26: NÚMERO TOTAL DE RECURSOS DE REVISIÓN | B26: 1
A27: RECURSOS DE REVISIÓN DESHECHADOS IMPROCEDENTES | B27: 0
A28: RECURSOS DE REVISIÓN DESHECHADOS SOBRESEÍDOS | B28: 0
A29: RECURSOS QUE CONFIRMAN EL ACTO O RESOLUCIÓN IMPUGNADA | B29: 0
A30: RECURSOS DE MODIFICAN EL ACTO O RESOLUCIÓN IMPUGNADA | B30: 0
A31: RECURSOS DE REVOCAN EL ACTO O RESOLUCIÓN IMPUGNADA | B31: 0

Sheet MAYO_2011
A2: TIPO DE ÁREA: UNIDAD ADMINISTRATIVA DE LA OFICILIA MAYOR ENTIDAD: DIRECCIÓN DE INFORMACIÓN PÚBLICA DEL TRIBUNAL SUPERIOR DE JUSTICIA INFORME: PERSONAS ATENDIDAS MAYO 2011 | B2: VALOR
A5: PERSONAS ATENDIDAS | B5: 93
A7: SOLICITUDES DE INFORMACIÓN PÚBLICA RECIBIDAS
A8: VÍA ELECTRÓNICA (INFOMEX, TELINFOCDMX Y CORREO ELECTRÓNICO) | B8: 119
A9: POR ESCRITO (FORMATO IMPRESO) | B9: 64
A10: SOLICITUDES DIRIGIDAS A JUZGADOS | B10: 15
A11: SOLICITUDES DIRIGIDAS A SALAS | B11: 3
A12: SOLICITUDES DIRIGIDAS A ÁREAS DE APOYO JUDICIAL | B12: 108
A13: SOLICITUDES DIRIGIDAS A ÁREAS ADMINISTRATIVAS | B13: 57
A15: SOLICITUDES DE INFORMACIÓN ENTREGADAS Y CASOS EN LOS QUE SE NEGÓ EL ACCESO
A16: SOLICITUDES EN LAS QUE HUBO ENTREGA TOTAL DE LA INFORMACIÓN | B16: 167
A17: SOLICITUDES EN LAS QUE SE DECLARÓ LA INEXISTENCIA DE INFORMACIÓN | B17: 0
A18: SOLICITUDES CUYA INFORMACIÓN SE ENCONTRABA BAJO EL SUPUESTO DE ACCESO RESTRINGIDO | B18: 0
A19: SOLICITUDES EN LAS QUE SE ENTREGÓ INFORMACIÓN DISTINTA A LA SOLICITADA O EN UN FORMATO INCOMPRENSIBLE | B19: 0
A20: SOLICITUDES EN LAS QUE HUBO ENTREGA PARCIAL DE INFORMACIÓN | B20: 0
A21: SOLICITUDES CANALIZADAS A OTRO ENTE PÚBLICO | B21: 8
A22: SOLICITUDES PREVENIDAS SIN DESAHOGO POR PARTE DEL PETICIONARIO | B22: 13
A23: SOLICITUDES ORIENTADAS PARA SU TRAMITACIÓN ANTE OTRO ENTE PÚBLICO POR PARTE DEL PETICIONARIO | B23: 7
A25: RECURSOS DE REVISIÓN
A26: NÚMERO TOTAL DE RECURSOS DE REVISIÓN | B26: 5
A27: RECURSOS DE REVISIÓN DESHECHADOS IMPROCEDENTES | B27: 0
A28: RECURSOS DE REVISIÓN DESHECHADOS SOBRESEÍDOS | B28: 1
A29: RECURSOS QUE CONFIRMAN EL ACTO O RESOLUCIÓN IMPUGNADA | B29: 0
A30: RECURSOS DE MODIFICAN EL ACTO O RESOLUCIÓN IMPUGNADA | B30: 3
A31: RECURSOS DE REVOCAN EL ACTO O RESOLUCIÓN IMPUGNADA | B31: 0

Sheet JUNIO_2011
A2: TIPO DE ÁREA: UNIDAD ADMINISTRATIVA DE LA OFICILIA MAYOR ENTIDAD: DIRECCIÓN DE INFORMACIÓN PÚBLICA DEL TRIBUNAL SUPERIOR DE JUSTICIA INFORME: PERSONAS ATENDIDAS JUNIO 2011 | B2: VALOR
A5: PERSONAS ATENDIDAS | B5: 100
A7: SOLICITUDES DE INFORMACIÓN PÚBLICA RECIBIDAS
A8: VÍA ELECTRÓNICA (INFOMEX, TELINFOCDMX Y CORREO ELECTRÓNICO) | B8: 116
A9: POR ESCRITO (FORMATO IMPRESO) | B9: 72
A10: SOLICITUDES DIRIGIDAS A JUZGADOS | B10: 13
A11: SOLICITUDES DIRIGIDAS A SALAS | B11: 0
A12: SOLICITUDES DIRIGIDAS A ÁREAS DE APOYO JUDICIAL | B12: 130
A13: SOLICITUDES DIRIGIDAS A ÁREAS ADMINISTRATIVAS | B13: 58
A15: SOLICITUDES DE INFORMACIÓN ENTREGADAS Y CASOS EN LOS QUE SE NEGÓ EL ACCESO
A16: SOLICITUDES EN LAS QUE HUBO ENTREGA TOTAL DE LA INFORMACIÓN | B16: 180
A17: SOLICITUDES EN LAS QUE SE DECLARÓ LA INEXISTENCIA DE INFORMACIÓN | B17: 0
A18: SOLICITUDES CUYA INFORMACIÓN SE ENCONTRABA BAJO EL SUPUESTO DE ACCESO RESTRINGIDO | B18: 0
A19: SOLICITUDES EN LAS QUE SE ENTREGÓ INFORMACIÓN DISTINTA A LA SOLICITADA O EN UN FORMATO INCOMPRENSIBLE | B19: 0
A20: SOLICITUDES EN LAS QUE HUBO ENTREGA PARCIAL DE INFORMACIÓN | B20: 0
A21: SOLICITUDES CANALIZADAS A OTRO ENTE PÚBLICO | B21: 6
A22: SOLICITUDES PREVENIDAS SIN DESAHOGO POR PARTE DEL PETICIONARIO | B22: 13
A23: SOLICITUDES ORIENTADAS PARA SU TRAMITACIÓN ANTE OTRO ENTE PÚBLICO POR PARTE DEL PETICIONARIO | B23: 2
A25: RECURSOS DE REVISIÓN
A26: NÚMERO TOTAL DE RECURSOS DE REVISIÓN | B26: 2
A27: RECURSOS DE REVISIÓN DESHECHADOS IMPROCEDENTES | B27: 0
A28: RECURSOS DE REVISIÓN DESHECHADOS SOBRESEÍDOS | B28: 0
A29: RECURSOS QUE CONFIRMAN EL ACTO O RESOLUCIÓN IMPUGNADA | B29: 0
A30: RECURSOS DE MODIFICAN EL ACTO O RESOLUCIÓN IMPUGNADA | B30: 0
A31: RECURSOS DE REVOCAN EL ACTO O RESOLUCIÓN IMPUGNADA | B31: 1

Sheet JULIO_2011
A2: TIPO DE ÁREA: UNIDAD ADMINISTRATIVA DE LA OFICILIA MAYOR ENTIDAD: DIRECCIÓN DE INFORMACIÓN PÚBLICA DEL TRIBUNAL SUPERIOR DE JUSTICIA INFORME: PERSONAS ATENDIDAS JULIO 2011 | B2: VALOR
A5: PERSONAS ATENDIDAS | B5: 38
A7: SOLICITUDES DE INFORMACIÓN PÚBLICA RECIBIDAS
A8: VÍA ELECTRÓNICA (INFOMEX, TELINFOCDMX Y CORREO ELECTRÓNICO) | B8: 59
A9: POR ESCRITO (FORMATO IMPRESO) | B9: 34
A10: SOLICITUDES DIRIGIDAS A JUZGADOS | B10: 7
A11: SOLICITUDES DIRIGIDAS A SALAS | B11: 3
A12: SOLICITUDES DIRIGIDAS A ÁREAS DE APOYO JUDICIAL | B12: 58
A13: SOLICITUDES DIRIGIDAS A ÁREAS ADMINISTRATIVAS | B13: 25
A15: SOLICITUDES DE INFORMACIÓN ENTREGADAS Y CASOS EN LOS QUE SE NEGÓ EL ACCESO
A16: SOLICITUDES EN LAS QUE HUBO ENTREGA TOTAL DE LA INFORMACIÓN | B16: 80
A17: SOLICITUDES EN LAS QUE SE DECLARÓ LA INEXISTENCIA DE INFORMACIÓN | B17: 0
A18: SOLICITUDES CUYA INFORMACIÓN SE ENCONTRABA BAJO EL SUPUESTO DE ACCESO RESTRINGIDO | B18: 0
A19: SOLICITUDES EN LAS QUE SE ENTREGÓ INFORMACIÓN DISTINTA A LA SOLICITADA O EN UN FORMATO INCOMPRENSIBLE | B19: 0
A20: SOLICITUDES EN LAS QUE HUBO ENTREGA PARCIAL DE INFORMACIÓN | B20: 0
A21: SOLICITUDES CANALIZADAS A OTRO ENTE PÚBLICO | B21: 6
A22: SOLICITUDES PREVENIDAS SIN DESAHOGO POR PARTE DEL PETICIONARIO | B22: 6
A23: SOLICITUDES ORIENTADAS PARA SU TRAMITACIÓN ANTE OTRO ENTE PÚBLICO POR PARTE DEL PETICIONARIO | B23: 0
A25: RECURSOS DE REVISIÓN
A26: NÚMERO TOTAL DE RECURSOS DE REVISIÓN | B26: 2
A27: RECURSOS DE REVISIÓN DESHECHADOS IMPROCEDENTES | B27: 0
A28: RECURSOS DE REVISIÓN DESHECHADOS SOBRESEÍDOS | B28: 2
A29: RECURSOS QUE CONFIRMAN EL ACTO O RESOLUCIÓN IMPUGNADA | B29: 1
A30: RECURSOS DE MODIFICAN EL ACTO O RESOLUCIÓN IMPUGNADA | B30: 0
A31: RECURSOS DE REVOCAN EL ACTO O RESOLUCIÓN IMPUGNADA | B31: 0

Sheet AGOSTO_2011
A2: TIPO DE ÁREA: UNIDAD ADMINISTRATIVA DE LA OFICILIA MAYOR ENTIDAD: DIRECCIÓN DE INFORMACIÓN PÚBLICA DEL TRIBUNAL SUPERIOR DE JUSTICIA INFORME: PERSONAS ATENDIDAS AGOSTO 2011 | B2: VALOR
A5: PERSONAS ATENDIDAS | B5: 108
A7: SOLICITUDES DE INFORMACIÓN PÚBLICA RECIBIDAS
A8: VÍA ELECTRÓNICA (INFOMEX, TELINFOCDMX Y CORREO ELECTRÓNICO) | B8: 171
A9: POR ESCRITO (FORMATO IMPRESO) | B9: 71
A10: SOLICITUDES DIRIGIDAS A JUZGADOS | B10: 21
A11: SOLICITUDES DIRIGIDAS A SALAS | B11: 2
A12: SOLICITUDES DIRIGIDAS A ÁREAS DE APOYO JUDICIAL | B12: 124
A13: SOLICITUDES DIRIGIDAS A ÁREAS ADMINISTRATIVAS | B13: 95
A15: SOLICITUDES DE INFORMACIÓN ENTREGADAS Y CASOS EN LOS QUE SE NEGÓ EL ACCESO
A16: SOLICITUDES EN LAS QUE HUBO ENTREGA TOTAL DE LA INFORMACIÓN | B16: 175
A17: SOLICITUDES EN LAS QUE SE DECLARÓ LA INEXISTENCIA DE INFORMACIÓN | B17: 0
A18: SOLICITUDES CUYA INFORMACIÓN SE ENCONTRABA BAJO EL SUPUESTO DE ACCESO RESTRINGIDO | B18: 0
A19: SOLICITUDES EN LAS QUE SE ENTREGÓ INFORMACIÓN DISTINTA A LA SOLICITADA O EN UN FORMATO INCOMPRENSIBLE | B19: 0
A20: SOLICITUDES EN LAS QUE HUBO ENTREGA PARCIAL DE INFORMACIÓN | B20: 0
A21: SOLICITUDES CANALIZADAS A OTRO ENTE PÚBLICO | B21: 6
A22: SOLICITUDES PREVENIDAS SIN DESAHOGO POR PARTE DEL PETICIONARIO | B22: 38
A23: SOLICITUDES ORIENTADAS PARA SU TRAMITACIÓN ANTE OTRO ENTE PÚBLICO POR PARTE DEL PETICIONARIO | B23: 8
A25: RECURSOS DE REVISIÓN
A26: NÚMERO TOTAL DE RECURSOS DE REVISIÓN | B26: 1
A27: RECURSOS DE REVISIÓN DESHECHADOS IMPROCEDENTES | B27: 0
A28: RECURSOS DE REVISIÓN DESHECHADOS SOBRESEÍDOS | B28: 1
A29: RECURSOS QUE CONFIRMAN EL ACTO O RESOLUCIÓN IMPUGNADA | B29: 2
A30: RECURSOS DE MODIFICAN EL ACTO O RESOLUCIÓN IMPUGNADA | B30: 0
A31: RECURSOS DE REVOCAN EL ACTO O RESOLUCIÓN IMPUGNADA | B31: 1

Sheet SEPTIEMBRE_2011
A2: TIPO DE ÁREA: UNIDAD ADMINISTRATIVA DE LA OFICILIA MAYOR ENTIDAD: DIRECCIÓN DE INFORMACIÓN PÚBLICA DEL TRIBUNAL SUPERIOR DE JUSTICIA INFORME: PERSONAS ATENDIDAS SEPTIEMBRE 2011 | B2: VALOR
A5: PERSONAS ATENDIDAS | B5: 89
A7: SOLICITUDES DE INFORMACIÓN PÚBLICA RECIBIDAS
A8: VÍA ELECTRÓNICA (INFOMEX, TELINFOCDMX Y CORREO ELECTRÓNICO) | B8: 161
A9: POR ESCRITO (FORMATO IMPRESO) | B9: 22
A10: SOLICITUDES DIRIGIDAS A JUZGADOS | B10: 40
A11: SOLICITUDES DIRIGIDAS A SALAS | B11: 0
A12: SOLICITUDES DIRIGIDAS A ÁREAS DE APOYO JUDICIAL | B12: 103
A13: SOLICITUDES DIRIGIDAS A ÁREAS ADMINISTRATIVAS | B13: 40
A15: SOLICITUDES DE INFORMACIÓN ENTREGADAS Y CASOS EN LOS QUE SE NEGÓ EL ACCESO
A16: SOLICITUDES EN LAS QUE HUBO ENTREGA TOTAL DE LA INFORMACIÓN | B16: 145
A17: SOLICITUDES EN LAS QUE SE DECLARÓ LA INEXISTENCIA DE INFORMACIÓN | B17: 0
A18: SOLICITUDES CUYA INFORMACIÓN SE ENCONTRABA BAJO EL SUPUESTO DE ACCESO RESTRINGIDO | B18: 0
A19: SOLICITUDES EN LAS QUE SE ENTREGÓ INFORMACIÓN DISTINTA A LA SOLICITADA O EN UN FORMATO INCOMPRENSIBLE | B19: 0
A20: SOLICITUDES EN LAS QUE HUBO ENTREGA PARCIAL DE INFORMACIÓN | B20: 0
A21: SOLICITUDES CANALIZADAS A OTRO ENTE PÚBLICO | B21: 17
A22: SOLICITUDES PREVENIDAS SIN DESAHOGO POR PARTE DEL PETICIONARIO | B22: 20
A23: SOLICITUDES ORIENTADAS PARA SU TRAMITACIÓN ANTE OTRO ENTE PÚBLICO POR PARTE DEL PETICIONARIO | B23: 2
A25: RECURSOS DE REVISIÓN
A26: NÚMERO TOTAL DE RECURSOS DE REVISIÓN | B26: 2
A27: RECURSOS DE REVISIÓN DESHECHADOS IMPROCEDENTES | B27: 0
A28: RECURSOS DE REVISIÓN DESHECHADOS SOBRESEÍDOS | B28: 0
A29: RECURSOS QUE CONFIRMAN EL ACTO O RESOLUCIÓN IMPUGNADA | B29: 0
A30: RECURSOS DE MODIFICAN EL ACTO O RESOLUCIÓN IMPUGNADA | B30: 0
A31: RECURSOS DE REVOCAN EL ACTO O RESOLUCIÓN IMPUGNADA | B31: 1

Sheet OCTUBRE_2011
A2: TIPO DE ÁREA: UNIDAD ADMINISTRATIVA DE LA OFICILIA MAYOR ENTIDAD: DIRECCIÓN DE INFORMACIÓN PÚBLICA DEL TRIBUNAL SUPERIOR DE JUSTICIA INFORME: PERSONAS ATENDIDAS OCTUBRE 2011 | B2: VALOR
A5: PERSONAS ATENDIDAS | B5: 45
A7: SOLICITUDES DE INFORMACIÓN PÚBLICA RECIBIDAS
A8: VÍA ELECTRÓNICA (INFOMEX, TELINFOCDMX Y CORREO ELECTRÓNICO) | B8: 104
A9: POR ESCRITO (FORMATO IMPRESO) | B9: 26
A10: SOLICITUDES DIRIGIDAS A JUZGADOS | B10: 31
A11: SOLICITUDES DIRIGIDAS A SALAS | B11: 2
A12: SOLICITUDES DIRIGIDAS A ÁREAS DE APOYO JUDICIAL | B12: 52
A13: SOLICITUDES DIRIGIDAS A ÁREAS ADMINISTRATIVAS | B13: 45
A15: SOLICITUDES DE INFORMACIÓN ENTREGADAS Y CASOS EN LOS QUE SE NEGÓ EL ACCESO
A16: SOLICITUDES EN LAS QUE HUBO ENTREGA TOTAL DE LA INFORMACIÓN | B16: 157
A17: SOLICITUDES EN LAS QUE SE DECLARÓ LA INEXISTENCIA DE INFORMACIÓN | B17: 0
A18: SOLICITUDES CUYA INFORMACIÓN SE ENCONTRABA BAJO EL SUPUESTO DE ACCESO RESTRINGIDO | B18: 0
A19: SOLICITUDES EN LAS QUE SE ENTREGÓ INFORMACIÓN DISTINTA A LA SOLICITADA O EN UN FORMATO INCOMPRENSIBLE | B19: 0
A20: SOLICITUDES EN LAS QUE HUBO ENTREGA PARCIAL DE INFORMACIÓN | B20: 0
A21: SOLICITUDES CANALIZADAS A OTRO ENTE PÚBLICO | B21: 2
A22: SOLICITUDES PREVENIDAS SIN DESAHOGO POR PARTE DEL PETICIONARIO | B22: 28
A23: SOLICITUDES ORIENTADAS PARA SU TRAMITACIÓN ANTE OTRO ENTE PÚBLICO POR PARTE DEL PETICIONARIO | B23: 0
A25: RECURSOS DE REVISIÓN
A26: NÚMERO TOTAL DE RECURSOS DE REVISIÓN | B26: 6
A27: RECURSOS DE REVISIÓN DESHECHADOS IMPROCEDENTES | B27: 0
A28: RECURSOS DE REVISIÓN DESHECHADOS SOBRESEÍDOS | B28: 0
A29: RECURSOS QUE CONFIRMAN EL ACTO O RESOLUCIÓN IMPUGNADA | B29: 0
A30: RECURSOS DE MODIFICAN EL ACTO O RESOLUCIÓN IMPUGNADA | B30: 2
A31: RECURSOS DE REVOCAN EL ACTO O RESOLUCIÓN IMPUGNADA | B31: 0

Sheet NOVIEMBRE_2011
A2: TIPO DE ÁREA: UNIDAD ADMINISTRATIVA DE LA OFICILIA MAYOR ENTIDAD: DIRECCIÓN DE INFORMACIÓN PÚBLICA DEL TRIBUNAL SUPERIOR DE JUSTICIA INFORME: PERSONAS ATENDIDAS NOVIEMBRE 2011 | B2: VALOR
A5: PERSONAS ATENDIDAS | B5: 41
A7: SOLICITUDES DE INFORMACIÓN PÚBLICA RECIBIDAS
A8: VÍA ELECTRÓNICA (INFOMEX, TELINFOCDMX Y CORREO ELECTRÓNICO) | B8: 102
A9: POR ESCRITO (FORMATO IMPRESO) | B9: 23
A10: SOLICITUDES DIRIGIDAS A JUZGADOS | B10: 5
A11: SOLICITUDES DIRIGIDAS A SALAS | B11: 2
A12: SOLICITUDES DIRIGIDAS A ÁREAS DE APOYO JUDICIAL | B12: 58
A13: SOLICITUDES DIRIGIDAS A ÁREAS ADMINISTRATIVAS | B13: 60
A15: SOLICITUDES DE INFORMACIÓN ENTREGADAS Y CASOS EN LOS QUE SE NEGÓ EL ACCESO
A16: SOLICITUDES EN LAS QUE HUBO ENTREGA TOTAL DE LA INFORMACIÓN | B16: 108
A17: SOLICITUDES EN LAS QUE SE DECLARÓ LA INEXISTENCIA DE INFORMACIÓN | B17: 0
A18: SOLICITUDES CUYA INFORMACIÓN SE ENCONTRABA BAJO EL SUPUESTO DE ACCESO RESTRINGIDO | B18: 0
A19: SOLICITUDES EN LAS QUE SE ENTREGÓ INFORMACIÓN DISTINTA A LA SOLICITADA O EN UN FORMATO INCOMPRENSIBLE | B19: 0
A20: SOLICITUDES EN LAS QUE HUBO ENTREGA PARCIAL DE INFORMACIÓN | B20: 0
A21: SOLICITUDES CANALIZADAS A OTRO ENTE PÚBLICO | B21: 9
A22: SOLICITUDES PREVENIDAS SIN DESAHOGO POR PARTE DEL PETICIONARIO | B22: 27
A23: SOLICITUDES ORIENTADAS PARA SU TRAMITACIÓN ANTE OTRO ENTE PÚBLICO POR PARTE DEL PETICIONARIO | B23: 1
A25: RECURSOS DE REVISIÓN
A26: NÚMERO TOTAL DE RECURSOS DE REVISIÓN | B26: 5
A27: RECURSOS DE REVISIÓN DESHECHADOS IMPROCEDENTES | B27: 0
A28: RECURSOS DE REVISIÓN DESHECHADOS SOBRESEÍDOS | B28: 0
A29: RECURSOS QUE CONFIRMAN EL ACTO O RESOLUCIÓN IMPUGNADA | B29: 0
A30: RECURSOS DE MODIFICAN EL ACTO O RESOLUCIÓN IMPUGNADA | B30: 0
A31: RECURSOS DE REVOCAN EL ACTO O RESOLUCIÓN IMPUGNADA | B31: 2

Sheet DICIEMBRE_2011
A2: TIPO DE ÁREA: UNIDAD ADMINISTRATIVA DE LA OFICILIA MAYOR ENTIDAD: DIRECCIÓN DE INFORMACIÓN PÚBLICA DEL TRIBUNAL SUPERIOR DE JUSTICIA INFORME: PERSONAS ATENDIDAS DICIEMBRE 2011 | B2: VALOR
A5: PERSONAS ATENDIDAS | B5: 14
A7: SOLICITUDES DE INFORMACIÓN PÚBLICA RECIBIDAS
A8: VÍA ELECTRÓNICA (INFOMEX, TELINFOCDMX Y CORREO ELECTRÓNICO) | B8: 32
A9: POR ESCRITO (FORMATO IMPRESO) | B9: 4
A10: SOLICITUDES DIRIGIDAS A JUZGADOS | B10: 2
A11: SOLICITUDES DIRIGIDAS A SALAS | B11: 0
A12: SOLICITUDES DIRIGIDAS A ÁREAS DE APOYO JUDICIAL | B12: 10
A13: SOLICITUDES DIRIGIDAS A ÁREAS ADMINISTRATIVAS | B13: 24
A15: SOLICITUDES DE INFORMACIÓN ENTREGADAS Y CASOS EN LOS QUE SE NEGÓ EL ACCESO
A16: SOLICITUDES EN LAS QUE HUBO ENTREGA TOTAL DE LA INFORMACIÓN | B16: 48
A17: SOLICITUDES EN LAS QUE SE DECLARÓ LA INEXISTENCIA DE INFORMACIÓN | B17: 0
A18: SOLICITUDES CUYA INFORMACIÓN SE ENCONTRABA BAJO EL SUPUESTO DE ACCESO RESTRINGIDO | B18: 0
A19: SOLICITUDES EN LAS QUE SE ENTREGÓ INFORMACIÓN DISTINTA A LA SOLICITADA O EN UN FORMATO INCOMPRENSIBLE | B19: 0
A20: SOLICITUDES EN LAS QUE HUBO ENTREGA PARCIAL DE INFORMACIÓN | B20: 0
A21: SOLICITUDES CANALIZADAS A OTRO ENTE PÚBLICO | B21: 0
A22: SOLICITUDES PREVENIDAS SIN DESAHOGO POR PARTE DEL PETICIONARIO | B22: 5
A23: SOLICITUDES ORIENTADAS PARA SU TRAMITACIÓN ANTE OTRO ENTE PÚBLICO POR PARTE DEL PETICIONARIO | B23: 1
A25: RECURSOS DE REVISIÓN
A26: NÚMERO TOTAL DE RECURSOS DE REVISIÓN | B26: 1
A27: RECURSOS DE REVISIÓN DESHECHADOS IMPROCEDENTES | B27: 0
A28: RECURSOS DE REVISIÓN DESHECHADOS SOBRESEÍDOS | B28: 0
A29: RECURSOS QUE CONFIRMAN EL ACTO O RESOLUCIÓN IMPUGNADA | B29: 0
A30: RECURSOS DE MODIFICAN EL ACTO O RESOLUCIÓN IMPUGNADA | B30: 0
A31: RECURSOS DE REVOCAN EL ACTO O RESOLUCIÓN IMPUGNADA | B31: 2

Sheet FEBRERO_2012
A2: TIPO DE ÁREA: UNIDAD ADMINISTRATIVA DE LA OFICILIA MAYOR ENTIDAD: DIRECCIÓN DE INFORMACIÓN PÚBLICA DEL TRIBUNAL SUPERIOR DE JUSTICIA INFORME: PERSONAS ATENDIDAS FEBRERO 2012 | B2: VALOR
A5: PERSONAS ATENDIDAS | B5: 61
A7: SOLICITUDES DE INFORMACIÓN PÚBLICA RECIBIDAS
A8: VÍA ELECTRÓNICA (INFOMEX, TELINFOCDMX Y CORREO ELECTRÓNICO) | B8: 87
A9: POR ESCRITO (FORMATO IMPRESO) | B9: 35
A10: SOLICITUDES DIRIGIDAS A JUZGADOS | B10: 6
A11: SOLICITUDES DIRIGIDAS A SALAS | B11: 0
A12: SOLICITUDES DIRIGIDAS A ÁREAS DE APOYO JUDICIAL | B12: 75
A13: SOLICITUDES DIRIGIDAS A ÁREAS ADMINISTRATIVAS | B13: 41
A15: SOLICITUDES DE INFORMACIÓN ENTREGADAS Y CASOS EN LOS QUE SE NEGÓ EL ACCESO
A16: SOLICITUDES EN LAS QUE HUBO ENTREGA TOTAL DE LA INFORMACIÓN | B16: 97
A17: SOLICITUDES EN LAS QUE SE DECLARÓ LA INEXISTENCIA DE INFORMACIÓN | B17: 0
A18: SOLICITUDES CUYA INFORMACIÓN SE ENCONTRABA BAJO EL SUPUESTO DE ACCESO RESTRINGIDO | B18: 0
A19: SOLICITUDES EN LAS QUE SE ENTREGÓ INFORMACIÓN DISTINTA A LA SOLICITADA O EN UN FORMATO INCOMPRENSIBLE | B19: 0
A20: SOLICITUDES EN LAS QUE HUBO ENTREGA PARCIAL DE INFORMACIÓN | B20: 0
A21: SOLICITUDES CANALIZADAS A OTRO ENTE PÚBLICO | B21: 11
A22: SOLICITUDES PREVENIDAS SIN DESAHOGO POR PARTE DEL PETICIONARIO | B22: 17
A23: SOLICITUDES ORIENTADAS PARA SU TRAMITACIÓN ANTE OTRO ENTE PÚBLICO POR PARTE DEL PETICIONARIO | B23: 16
A25: RECURSOS DE REVISIÓN
A26: NÚMERO TOTAL DE RECURSOS DE REVISIÓN | B26: 1
A27: RECURSOS DE REVISIÓN DESHECHADOS IMPROCEDENTES | B27: 0
A28: RECURSOS DE REVISIÓN DESHECHADOS SOBRESEÍDOS | B28: 1
A29: RECURSOS QUE CONFIRMAN EL ACTO O RESOLUCIÓN IMPUGNADA | B29: 0
A30: RECURSOS DE MODIFICAN EL ACTO O RESOLUCIÓN IMPUGNADA | B30: 3
A31: RECURSOS DE REVOCAN EL ACTO O RESOLUCIÓN IMPUGNADA | B31: 1

Sheet MARZO_2012
A2: TIPO DE ÁREA: UNIDAD ADMINISTRATIVA DE LA OFICILIA MAYOR ENTIDAD: DIRECCIÓN DE INFORMACIÓN PÚBLICA DEL TRIBUNAL SUPERIOR DE JUSTICIA INFORME: PERSONAS ATENDIDAS MARZO 2012 | B2: VALOR
A5: PERSONAS ATENDIDAS | B5: 37
A7: SOLICITUDES DE INFORMACIÓN PÚBLICA RECIBIDAS
A8: VÍA ELECTRÓNICA (INFOMEX, TELINFOCDMX Y CORREO ELECTRÓNICO) | B8: 107
A9: POR ESCRITO (FORMATO IMPRESO) | B9: 23
A10: SOLICITUDES DIRIGIDAS A JUZGADOS | B10: 5
A11: SOLICITUDES DIRIGIDAS A SALAS | B11: 1
A12: SOLICITUDES DIRIGIDAS A ÁREAS DE APOYO JUDICIAL | B12: 57
A13: SOLICITUDES DIRIGIDAS A ÁREAS ADMINISTRATIVAS | B13: 73
A15: SOLICITUDES DE INFORMACIÓN ENTREGADAS Y CASOS EN LOS QUE SE NEGÓ EL ACCESO
A16: SOLICITUDES EN LAS QUE HUBO ENTREGA TOTAL DE LA INFORMACIÓN | B16: 127
A17: SOLICITUDES EN LAS QUE SE DECLARÓ LA INEXISTENCIA DE INFORMACIÓN | B17: 0
A18: SOLICITUDES CUYA INFORMACIÓN SE ENCONTRABA BAJO EL SUPUESTO DE ACCESO RESTRINGIDO | B18: 0
A19: SOLICITUDES EN LAS QUE SE ENTREGÓ INFORMACIÓN DISTINTA A LA SOLICITADA O EN UN FORMATO INCOMPRENSIBLE | B19: 0
A20: SOLICITUDES EN LAS QUE HUBO ENTREGA PARCIAL DE INFORMACIÓN | B20: 0
A21: SOLICITUDES CANALIZADAS A OTRO ENTE PÚBLICO | B21: 11
A22: SOLICITUDES PREVENIDAS SIN DESAHOGO POR PARTE DEL PETICIONARIO | B22: 87
A23: SOLICITUDES ORIENTADAS PARA SU TRAMITACIÓN ANTE OTRO ENTE PÚBLICO POR PARTE DEL PETICIONARIO | B23: 27
A25: RECURSOS DE REVISIÓN
A26: NÚMERO TOTAL DE RECURSOS DE REVISIÓN | B26: 2
A27: RECURSOS DE REVISIÓN DESHECHADOS IMPROCEDENTES | B27: 0
A28: RECURSOS DE REVISIÓN DESHECHADOS SOBRESEÍDOS | B28: 0
A29: RECURSOS QUE CONFIRMAN EL ACTO O RESOLUCIÓN IMPUGNADA | B29: 0
A30: RECURSOS DE MODIFICAN EL ACTO O RESOLUCIÓN IMPUGNADA | B30: 0
A31: RECURSOS DE REVOCAN EL ACTO O RESOLUCIÓN IMPUGNADA | B31: 1

Sheet ABRIL_2012
A2: TIPO DE ÁREA: UNIDAD ADMINISTRATIVA DE LA OFICILIA MAYOR ENTIDAD: DIRECCIÓN DE INFORMACIÓN PÚBLICA DEL TRIBUNAL SUPERIOR DE JUSTICIA INFORME: PERSONAS ATENDIDAS ABRIL 2012 | B2: VALOR
A5: PERSONAS ATENDIDAS | B5: 43
A7: SOLICITUDES DE INFORMACIÓN PÚBLICA RECIBIDAS
A8: VÍA ELECTRÓNICA (INFOMEX, TELINFOCDMX Y CORREO ELECTRÓNICO) | B8: 133
A9: POR ESCRITO (FORMATO IMPRESO) | B9: 20
A10: SOLICITUDES DIRIGIDAS A JUZGADOS | B10: 8
A11: SOLICITUDES DIRIGIDAS A SALAS | B11: 1
A12: SOLICITUDES DIRIGIDAS A ÁREAS DE APOYO JUDICIAL | B12: 63
A13: SOLICITUDES DIRIGIDAS A ÁREAS ADMINISTRATIVAS | B13: 81
A15: SOLICITUDES DE INFORMACIÓN ENTREGADAS Y CASOS EN LOS QUE SE NEGÓ EL ACCESO
A16: SOLICITUDES EN LAS QUE HUBO ENTREGA TOTAL DE LA INFORMACIÓN | B16: 110
A17: SOLICITUDES EN LAS QUE SE DECLARÓ LA INEXISTENCIA DE INFORMACIÓN | B17: 0
A18: SOLICITUDES CUYA INFORMACIÓN SE ENCONTRABA BAJO EL SUPUESTO DE ACCESO RESTRINGIDO | B18: 0
A19: SOLICITUDES EN LAS QUE SE ENTREGÓ INFORMACIÓN DISTINTA A LA SOLICITADA O EN UN FORMATO INCOMPRENSIBLE | B19: 0
A20: SOLICITUDES EN LAS QUE HUBO ENTREGA PARCIAL DE INFORMACIÓN | B20: 0
A21: SOLICITUDES CANALIZADAS A OTRO ENTE PÚBLICO | B21: 8
A22: SOLICITUDES PREVENIDAS SIN DESAHOGO POR PARTE DEL PETICIONARIO | B22: 83
A23: SOLICITUDES ORIENTADAS PARA SU TRAMITACIÓN ANTE OTRO ENTE PÚBLICO POR PARTE DEL PETICIONARIO | B23: 4
A25: RECURSOS DE REVISIÓN
A26: NÚMERO TOTAL DE RECURSOS DE REVISIÓN | B26: 2
A27: RECURSOS DE REVISIÓN DESHECHADOS IMPROCEDENTES | B27: 0
A28: RECURSOS DE REVISIÓN DESHECHADOS SOBRESEÍDOS | B28: 0
A29: RECURSOS QUE CONFIRMAN EL ACTO O RESOLUCIÓN IMPUGNADA | B29: 0
A30: RECURSOS DE MODIFICAN EL ACTO O RESOLUCIÓN IMPUGNADA | B30: 0
A31: RECURSOS DE REVOCAN EL ACTO O RESOLUCIÓN IMPUGNADA | B31: 0

Sheet MAYO_2012
A2: TIPO DE ÁREA: UNIDAD ADMINISTRATIVA DE LA OFICILIA MAYOR ENTIDAD: DIRECCIÓN DE INFORMACIÓN PÚBLICA DEL TRIBUNAL SUPERIOR DE JUSTICIA INFORME: PERSONAS ATENDIDAS MAYO 2012 | B2: VALOR
A5: PERSONAS ATENDIDAS | B5: 49
A7: SOLICITUDES DE INFORMACIÓN PÚBLICA RECIBIDAS
A8: VÍA ELECTRÓNICA (INFOMEX, TELINFOCDMX Y CORREO ELECTRÓNICO) | B8: 123
A9: POR ESCRITO (FORMATO IMPRESO) | B9: 14
A10: SOLICITUDES DIRIGIDAS A JUZGADOS | B10: 11
A11: SOLICITUDES DIRIGIDAS A SALAS | B11: 1
A12: SOLICITUDES DIRIGIDAS A ÁREAS DE APOYO JUDICIAL | B12: 43
A13: SOLICITUDES DIRIGIDAS A ÁREAS ADMINISTRATIVAS | B13: 94
A15: SOLICITUDES DE INFORMACIÓN ENTREGADAS Y CASOS EN LOS QUE SE NEGÓ EL ACCESO
A16: SOLICITUDES EN LAS QUE HUBO ENTREGA TOTAL DE LA INFORMACIÓN | B16: 112
A17: SOLICITUDES EN LAS QUE SE DECLARÓ LA INEXISTENCIA DE INFORMACIÓN | B17: 0
A18: SOLICITUDES CUYA INFORMACIÓN SE ENCONTRABA BAJO EL SUPUESTO DE ACCESO RESTRINGIDO | B18: 0
A19: SOLICITUDES EN LAS QUE SE ENTREGÓ INFORMACIÓN DISTINTA A LA SOLICITADA O EN UN FORMATO INCOMPRENSIBLE | B19: 0
A20: SOLICITUDES EN LAS QUE HUBO ENTREGA PARCIAL DE INFORMACIÓN | B20: 0
A21: SOLICITUDES CANALIZADAS A OTRO ENTE PÚBLICO | B21: 6
A22: SOLICITUDES PREVENIDAS SIN DESAHOGO POR PARTE DEL PETICIONARIO | B22: 47
A23: SOLICITUDES ORIENTADAS PARA SU TRAMITACIÓN ANTE OTRO ENTE PÚBLICO POR PARTE DEL PETICIONARIO | B23: 8
A25: RECURSOS DE REVISIÓN
A26: NÚMERO TOTAL DE RECURSOS DE REVISIÓN | B26: 2
A27: RECURSOS DE REVISIÓN DESHECHADOS IMPROCEDENTES | B27: 0
A28: RECURSOS DE REVISIÓN DESHECHADOS SOBRESEÍDOS | B28: 1
A29: RECURSOS QUE CONFIRMAN EL ACTO O RESOLUCIÓN IMPUGNADA | B29: 0
A30: RECURSOS DE MODIFICAN EL ACTO O RESOLUCIÓN IMPUGNADA | B30: 0
A31: RECURSOS DE REVOCAN EL ACTO O RESOLUCIÓN IMPUGNADA | B31: 0

Sheet JUNIO_2012
A2: TIPO DE ÁREA: UNIDAD ADMINISTRATIVA DE LA OFICILIA MAYOR ENTIDAD: DIRECCIÓN DE INFORMACIÓN PÚBLICA DEL TRIBUNAL SUPERIOR DE JUSTICIA INFORME: PERSONAS ATENDIDAS JUNIO 2012 | B2: VALOR
A5: PERSONAS ATENDIDAS | B5: 54
A7: SOLICITUDES DE INFORMACIÓN PÚBLICA RECIBIDAS
A8: VÍA ELECTRÓNICA (INFOMEX, TELINFOCDMX Y CORREO ELECTRÓNICO) | B8: 123
A9: POR ESCRITO (FORMATO IMPRESO) | B9: 37
A10: SOLICITUDES DIRIGIDAS A JUZGADOS | B10: 12
A11: SOLICITUDES DIRIGIDAS A SALAS | B11: 0
A12: SOLICITUDES DIRIGIDAS A ÁREAS DE APOYO JUDICIAL | B12: 45
A13: SOLICITUDES DIRIGIDAS A ÁREAS ADMINISTRATIVAS | B13: 103
A15: SOLICITUDES DE INFORMACIÓN ENTREGADAS Y CASOS EN LOS QUE SE NEGÓ EL ACCESO
A16: SOLICITUDES EN LAS QUE HUBO ENTREGA TOTAL DE LA INFORMACIÓN | B16: 96
A17: SOLICITUDES EN LAS QUE SE DECLARÓ LA INEXISTENCIA DE INFORMACIÓN | B17: 0
A18: SOLICITUDES CUYA INFORMACIÓN SE ENCONTRABA BAJO EL SUPUESTO DE ACCESO RESTRINGIDO | B18: 0
A19: SOLICITUDES EN LAS QUE SE ENTREGÓ INFORMACIÓN DISTINTA A LA SOLICITADA O EN UN FORMATO INCOMPRENSIBLE | B19: 0
A20: SOLICITUDES EN LAS QUE HUBO ENTREGA PARCIAL DE INFORMACIÓN | B20: 0
A21: SOLICITUDES CANALIZADAS A OTRO ENTE PÚBLICO | B21: 9
A22: SOLICITUDES PREVENIDAS SIN DESAHOGO POR PARTE DEL PETICIONARIO | B22: 31
A23: SOLICITUDES ORIENTADAS PARA SU TRAMITACIÓN ANTE OTRO ENTE PÚBLICO POR PARTE DEL PETICIONARIO | B23: 8
A25: RECURSOS DE REVISIÓN
A26: NÚMERO TOTAL DE RECURSOS DE REVISIÓN | B26: 0
A27: RECURSOS DE REVISIÓN DESHECHADOS IMPROCEDENTES | B27: 0
A28: RECURSOS DE REVISIÓN DESHECHADOS SOBRESEÍDOS | B28: 1
A29: RECURSOS QUE CONFIRMAN EL ACTO O RESOLUCIÓN IMPUGNADA | B29: 0
A30: RECURSOS DE MODIFICAN EL ACTO O RESOLUCIÓN IMPUGNADA | B30: 0
A31: RECURSOS DE REVOCAN EL ACTO O RESOLUCIÓN IMPUGNADA | B31: 2

Sheet JULIO_2012
A2: TIPO DE ÁREA: UNIDAD ADMINISTRATIVA DE LA OFICILIA MAYOR ENTIDAD: DIRECCIÓN DE INFORMACIÓN PÚBLICA DEL TRIBUNAL SUPERIOR DE JUSTICIA INFORME: PERSONAS ATENDIDAS JULIO 2012 | B2: VALOR
A5: PERSONAS ATENDIDAS | B5: 30
A7: SOLICITUDES DE INFORMACIÓN PÚBLICA RECIBIDAS
A8: VÍA ELECTRÓNICA (INFOMEX, TELINFOCDMX Y CORREO ELECTRÓNICO) | B8: 40
A9: POR ESCRITO (FORMATO IMPRESO) | B9: 13
A10: SOLICITUDES DIRIGIDAS A JUZGADOS | B10: 4
A11: SOLICITUDES DIRIGIDAS A SALAS | B11: 0
A12: SOLICITUDES DIRIGIDAS A ÁREAS DE APOYO JUDICIAL | B12: 26
A13: SOLICITUDES DIRIGIDAS A ÁREAS ADMINISTRATIVAS | B13: 27
A15: SOLICITUDES DE INFORMACIÓN ENTREGADAS Y CASOS EN LOS QUE SE NEGÓ EL ACCESO
A16: SOLICITUDES EN LAS QUE HUBO ENTREGA TOTAL DE LA INFORMACIÓN | B16: 33
A17: SOLICITUDES EN LAS QUE SE DECLARÓ LA INEXISTENCIA DE INFORMACIÓN | B17: 0
A18: SOLICITUDES CUYA INFORMACIÓN SE ENCONTRABA BAJO EL SUPUESTO DE ACCESO RESTRINGIDO | B18: 0
A19: SOLICITUDES EN LAS QUE SE ENTREGÓ INFORMACIÓN DISTINTA A LA SOLICITADA O EN UN FORMATO INCOMPRENSIBLE | B19: 0
A20: SOLICITUDES EN LAS QUE HUBO ENTREGA PARCIAL DE INFORMACIÓN | B20: 0
A21: SOLICITUDES CANALIZADAS A OTRO ENTE PÚBLICO | B21: 1
A22: SOLICITUDES PREVENIDAS SIN DESAHOGO POR PARTE DEL PETICIONARIO | B22: 17
A23: SOLICITUDES ORIENTADAS PARA SU TRAMITACIÓN ANTE OTRO ENTE PÚBLICO POR PARTE DEL PETICIONARIO | B23: 2
A25: RECURSOS DE REVISIÓN
A26: NÚMERO TOTAL DE RECURSOS DE REVISIÓN | B26: 0
A27: RECURSOS DE REVISIÓN DESHECHADOS IMPROCEDENTES | B27: 0
A28: RECURSOS DE REVISIÓN DESHECHADOS SOBRESEÍDOS | B28: 0
A29: RECURSOS QUE CONFIRMAN EL ACTO O RESOLUCIÓN IMPUGNADA | B29: 0
A30: RECURSOS DE MODIFICAN EL ACTO O RESOLUCIÓN IMPUGNADA | B30: 0
A31: RECURSOS DE REVOCAN EL ACTO O RESOLUCIÓN IMPUGNADA | B31: 1

Sheet AGOSTO_2012
A2: TIPO DE ÁREA: UNIDAD ADMINISTRATIVA DE LA OFICILIA MAYOR ENTIDAD: DIRECCIÓN DE INFORMACIÓN PÚBLICA DEL TRIBUNAL SUPERIOR DE JUSTICIA INFORME: PERSONAS ATENDIDAS AGOSTO 2012 | B2: VALOR
A5: PERSONAS ATENDIDAS | B5: 65
A7: SOLICITUDES DE INFORMACIÓN PÚBLICA RECIBIDAS
A8: VÍA ELECTRÓNICA (INFOMEX, TELINFOCDMX Y CORREO ELECTRÓNICO) | B8: 129
A9: POR ESCRITO (FORMATO IMPRESO) | B9: 49
A10: SOLICITUDES DIRIGIDAS A JUZGADOS | B10: 6
A11: SOLICITUDES DIRIGIDAS A SALAS | B11: 2
A12: SOLICITUDES DIRIGIDAS A ÁREAS DE APOYO JUDICIAL | B12: 71
A13: SOLICITUDES DIRIGIDAS A ÁREAS ADMINISTRATIVAS | B13: 97
A15: SOLICITUDES DE INFORMACIÓN ENTREGADAS Y CASOS EN LOS QUE SE NEGÓ EL ACCESO
A16: SOLICITUDES EN LAS QUE HUBO ENTREGA TOTAL DE LA INFORMACIÓN | B16: 88
A17: SOLICITUDES EN LAS QUE SE DECLARÓ LA INEXISTENCIA DE INFORMACIÓN | B17: 0
A18: SOLICITUDES CUYA INFORMACIÓN SE ENCONTRABA BAJO EL SUPUESTO DE ACCESO RESTRINGIDO | B18: 0
A19: SOLICITUDES EN LAS QUE SE ENTREGÓ INFORMACIÓN DISTINTA A LA SOLICITADA O EN UN FORMATO INCOMPRENSIBLE | B19: 0
A20: SOLICITUDES EN LAS QUE HUBO ENTREGA PARCIAL DE INFORMACIÓN | B20: 0
A21: SOLICITUDES CANALIZADAS A OTRO ENTE PÚBLICO | B21: 9
A22: SOLICITUDES PREVENIDAS SIN DESAHOGO POR PARTE DEL PETICIONARIO | B22: 47
A23: SOLICITUDES ORIENTADAS PARA SU TRAMITACIÓN ANTE OTRO ENTE PÚBLICO POR PARTE DEL PETICIONARIO | B23: 0
A25: RECURSOS DE REVISIÓN
A26: NÚMERO TOTAL DE RECURSOS DE REVISIÓN | B26: 1
A27: RECURSOS DE REVISIÓN DESHECHADOS IMPROCEDENTES | B27: 0
A28: RECURSOS DE REVISIÓN DESHECHADOS SOBRESEÍDOS | B28: 0
A29: RECURSOS QUE CONFIRMAN EL ACTO O RESOLUCIÓN IMPUGNADA | B29: 0
A30: RECURSOS DE MODIFICAN EL ACTO O RESOLUCIÓN IMPUGNADA | B30: 0
A31: RECURSOS DE REVOCAN EL ACTO O RESOLUCIÓN IMPUGNADA | B31: 0

Sheet SEPTIEMBRE_2012
A2: TIPO DE ÁREA: UNIDAD ADMINISTRATIVA DE LA OFICILIA MAYOR ENTIDAD: DIRECCIÓN DE INFORMACIÓN PÚBLICA DEL TRIBUNAL SUPERIOR DE JUSTICIA INFORME: PERSONAS ATENDIDAS SEPTIEMBRE 2012 | B2: VALOR
A5: PERSONAS ATENDIDAS | B5: 41
A7: SOLICITUDES DE INFORMACIÓN PÚBLICA RECIBIDAS
A8: VÍA ELECTRÓNICA (INFOMEX, TELINFOCDMX Y CORREO ELECTRÓNICO) | B8: 37
A9: POR ESCRITO (FORMATO IMPRESO) | B9: 15
A10: SOLICITUDES DIRIGIDAS A JUZGADOS | B10: 3
A11: SOLICITUDES DIRIGIDAS A SALAS | B11: 0
A12: SOLICITUDES DIRIGIDAS A ÁREAS DE APOYO JUDICIAL | B12: 44
A13: SOLICITUDES DIRIGIDAS A ÁREAS ADMINISTRATIVAS | B13: 73
A15: SOLICITUDES DE INFORMACIÓN ENTREGADAS Y CASOS EN LOS QUE SE NEGÓ EL ACCESO
A16: SOLICITUDES EN LAS QUE HUBO ENTREGA TOTAL DE LA INFORMACIÓN | B16: 80
A17: SOLICITUDES EN LAS QUE SE DECLARÓ LA INEXISTENCIA DE INFORMACIÓN | B17: 0
A18: SOLICITUDES CUYA INFORMACIÓN SE ENCONTRABA BAJO EL SUPUESTO DE ACCESO RESTRINGIDO | B18: 0
A19: SOLICITUDES EN LAS QUE SE ENTREGÓ INFORMACIÓN DISTINTA A LA SOLICITADA O EN UN FORMATO INCOMPRENSIBLE | B19: 0
A20: SOLICITUDES EN LAS QUE HUBO ENTREGA PARCIAL DE INFORMACIÓN | B20: 0
A21: SOLICITUDES CANALIZADAS A OTRO ENTE PÚBLICO | B21: 2
A22: SOLICITUDES PREVENIDAS SIN DESAHOGO POR PARTE DEL PETICIONARIO | B22: 43
A23: SOLICITUDES ORIENTADAS PARA SU TRAMITACIÓN ANTE OTRO ENTE PÚBLICO POR PARTE DEL PETICIONARIO | B23: 4
A25: RECURSOS DE REVISIÓN
A26: NÚMERO TOTAL DE RECURSOS DE REVISIÓN | B26: 0
A27: RECURSOS DE REVISIÓN DESHECHADOS IMPROCEDENTES | B27: 0
A28: RECURSOS DE REVISIÓN DESHECHADOS SOBRESEÍDOS | B28: 1
A29: RECURSOS QUE CONFIRMAN EL ACTO O RESOLUCIÓN IMPUGNADA | B29: 0
A30: RECURSOS DE MODIFICAN EL ACTO O RESOLUCIÓN IMPUGNADA | B30: 0
A31: RECURSOS DE REVOCAN EL ACTO O RESOLUCIÓN IMPUGNADA | B31: 0

Sheet OCTUBRE_2012
A2: TIPO DE ÁREA: UNIDAD ADMINISTRATIVA DE LA OFICILIA MAYOR ENTIDAD: DIRECCIÓN DE INFORMACIÓN PÚBLICA DEL TRIBUNAL SUPERIOR DE JUSTICIA INFORME: PERSONAS ATENDIDAS OCTUBRE 2012 | B2: VALOR
A5: PERSONAS ATENDIDAS | B5: 35
A7: SOLICITUDES DE INFORMACIÓN PÚBLICA RECIBIDAS
A8: VÍA ELECTRÓNICA (INFOMEX, TELINFOCDMX Y CORREO ELECTRÓNICO) | B8: 117
A9: POR ESCRITO (FORMATO IMPRESO) | B9: 22
A10: SOLICITUDES DIRIGIDAS A JUZGADOS | B10: 4
A11: SOLICITUDES DIRIGIDAS A SALAS | B11: 0
A12: SOLICITUDES DIRIGIDAS A ÁREAS DE APOYO JUDICIAL | B12: 86
A13: SOLICITUDES DIRIGIDAS A ÁREAS ADMINISTRATIVAS | B13: 53
A15: SOLICITUDES DE INFORMACIÓN ENTREGADAS Y CASOS EN LOS QUE SE NEGÓ EL ACCESO
A16: SOLICITUDES EN LAS QUE HUBO ENTREGA TOTAL DE LA INFORMACIÓN | B16: 122
A17: SOLICITUDES EN LAS QUE SE DECLARÓ LA INEXISTENCIA DE INFORMACIÓN | B17: 0
A18: SOLICITUDES CUYA INFORMACIÓN SE ENCONTRABA BAJO EL SUPUESTO DE ACCESO RESTRINGIDO | B18: 0
A19: SOLICITUDES EN LAS QUE SE ENTREGÓ INFORMACIÓN DISTINTA A LA SOLICITADA O EN UN FORMATO INCOMPRENSIBLE | B19: 0
A20: SOLICITUDES EN LAS QUE HUBO ENTREGA PARCIAL DE INFORMACIÓN | B20: 0
A21: SOLICITUDES CANALIZADAS A OTRO ENTE PÚBLICO | B21: 8
A22: SOLICITUDES PREVENIDAS SIN DESAHOGO POR PARTE DEL PETICIONARIO | B22: 52
A23: SOLICITUDES ORIENTADAS PARA SU TRAMITACIÓN ANTE OTRO ENTE PÚBLICO POR PARTE DEL PETICIONARIO | B23: 0
A25: RECURSOS DE REVISIÓN
A26: NÚMERO TOTAL DE RECURSOS DE REVISIÓN | B26: 3
A27: RECURSOS DE REVISIÓN DESHECHADOS IMPROCEDENTES | B27: 0
A28: RECURSOS DE REVISIÓN DESHECHADOS SOBRESEÍDOS | B28: 0
A29: RECURSOS QUE CONFIRMAN EL ACTO O RESOLUCIÓN IMPUGNADA | B29: 0
A30: RECURSOS DE MODIFICAN EL ACTO O RESOLUCIÓN IMPUGNADA | B30: 0
A31: RECURSOS DE REVOCAN EL ACTO O RESOLUCIÓN IMPUGNADA | B31: 0

Sheet NOVIEMBRE_2012
A2: TIPO DE ÁREA: UNIDAD ADMINISTRATIVA DE LA OFICILIA MAYOR ENTIDAD: DIRECCIÓN DE INFORMACIÓN PÚBLICA DEL TRIBUNAL SUPERIOR DE JUSTICIA INFORME: PERSONAS ATENDIDAS NOVIEMBRE 2012 | B2: VALOR
A5: PERSONAS ATENDIDAS | B5: 23
A7: SOLICITUDES DE INFORMACIÓN PÚBLICA RECIBIDAS
A8: VÍA ELECTRÓNICA (INFOMEX, TELINFOCDMX Y CORREO ELECTRÓNICO) | B8: 73
A9: POR ESCRITO (FORMATO IMPRESO) | B9: 4
A10: SOLICITUDES DIRIGIDAS A JUZGADOS | B10: 5
A11: SOLICITUDES DIRIGIDAS A SALAS | B11: 1
A12: SOLICITUDES DIRIGIDAS A ÁREAS DE APOYO JUDICIAL | B12: 24
A13: SOLICITUDES DIRIGIDAS A ÁREAS ADMINISTRATIVAS | B13: 53
A15: SOLICITUDES DE INFORMACIÓN ENTREGADAS Y CASOS EN LOS QUE SE NEGÓ EL ACCESO
A16: SOLICITUDES EN LAS QUE HUBO ENTREGA TOTAL DE LA INFORMACIÓN | B16: 79
A17: SOLICITUDES EN LAS QUE SE DECLARÓ LA INEXISTENCIA DE INFORMACIÓN | B17: 0
A18: SOLICITUDES CUYA INFORMACIÓN SE ENCONTRABA BAJO EL SUPUESTO DE ACCESO RESTRINGIDO | B18: 0
A19: SOLICITUDES EN LAS QUE SE ENTREGÓ INFORMACIÓN DISTINTA A LA SOLICITADA O EN UN FORMATO INCOMPRENSIBLE | B19: 0
A20: SOLICITUDES EN LAS QUE HUBO ENTREGA PARCIAL DE INFORMACIÓN | B20: 0
A21: SOLICITUDES CANALIZADAS A OTRO ENTE PÚBLICO | B21: 9
A22: SOLICITUDES PREVENIDAS SIN DESAHOGO POR PARTE DEL PETICIONARIO | B22: 62
A23: SOLICITUDES ORIENTADAS PARA SU TRAMITACIÓN ANTE OTRO ENTE PÚBLICO POR PARTE DEL PETICIONARIO | B23: 4
A25: RECURSOS DE REVISIÓN
A26: NÚMERO TOTAL DE RECURSOS DE REVISIÓN | B26: 1
A27: RECURSOS DE REVISIÓN DESHECHADOS IMPROCEDENTES | B27: 0
A28: RECURSOS DE REVISIÓN DESHECHADOS SOBRESEÍDOS | B28: 0
A29: RECURSOS QUE CONFIRMAN EL ACTO O RESOLUCIÓN IMPUGNADA | B29: 0
A30: RECURSOS DE MODIFICAN EL ACTO O RESOLUCIÓN IMPUGNADA | B30: 0
A31: RECURSOS DE REVOCAN EL ACTO O RESOLUCIÓN IMPUGNADA | B31: 0

Sheet DICIEMBRE_2012
A2: TIPO DE ÁREA: UNIDAD ADMINISTRATIVA DE LA OFICILIA MAYOR ENTIDAD: DIRECCIÓN DE INFORMACIÓN PÚBLICA DEL TRIBUNAL SUPERIOR DE JUSTICIA INFORME: PERSONAS ATENDIDAS DICIEMBRE 2012 | B2: VALOR
A5: PERSONAS ATENDIDAS | B5: 19
A7: SOLICITUDES DE INFORMACIÓN PÚBLICA RECIBIDAS
A8: VÍA ELECTRÓNICA (INFOMEX, TELINFOCDMX Y CORREO ELECTRÓNICO) | B8: 24
A9: POR ESCRITO (FORMATO IMPRESO) | B9: 19
A10: SOLICITUDES DIRIGIDAS A JUZGADOS | B10: 8
A11: SOLICITUDES DIRIGIDAS A SALAS | B11: 0
A12: SOLICITUDES DIRIGIDAS A ÁREAS DE APOYO JUDICIAL | B12: 32
A13: SOLICITUDES DIRIGIDAS A ÁREAS ADMINISTRATIVAS | B13: 3
A15: SOLICITUDES DE INFORMACIÓN ENTREGADAS Y CASOS EN LOS QUE SE NEGÓ EL ACCESO
A16: SOLICITUDES EN LAS QUE HUBO ENTREGA TOTAL DE LA INFORMACIÓN | B16: 40
A17: SOLICITUDES EN LAS QUE SE DECLARÓ LA INEXISTENCIA DE INFORMACIÓN | B17: 0
A18: SOLICITUDES CUYA INFORMACIÓN SE ENCONTRABA BAJO EL SUPUESTO DE ACCESO RESTRINGIDO | B18: 0
A19: SOLICITUDES EN LAS QUE SE ENTREGÓ INFORMACIÓN DISTINTA A LA SOLICITADA O EN UN FORMATO INCOMPRENSIBLE | B19: 0
A20: SOLICITUDES EN LAS QUE HUBO ENTREGA PARCIAL DE INFORMACIÓN | B20: 0
A21: SOLICITUDES CANALIZADAS A OTRO ENTE PÚBLICO | B21: 3
A22: SOLICITUDES PREVENIDAS SIN DESAHOGO POR PARTE DEL PETICIONARIO | B22: 12
A23: SOLICITUDES ORIENTADAS PARA SU TRAMITACIÓN ANTE OTRO ENTE PÚBLICO POR PARTE DEL PETICIONARIO | B23: 5
A25: RECURSOS DE REVISIÓN
A26: NÚMERO TOTAL DE RECURSOS DE REVISIÓN | B26: 2
A27: RECURSOS DE REVISIÓN DESHECHADOS IMPROCEDENTES | B27: 0
A28: RECURSOS DE REVISIÓN DESHECHADOS SOBRESEÍDOS | B28: 2
A29: RECURSOS QUE CONFIRMAN EL ACTO O RESOLUCIÓN IMPUGNADA | B29: 0
A30: RECURSOS DE MODIFICAN EL ACTO O RESOLUCIÓN IMPUGNADA | B30: 0
A31: RECURSOS DE REVOCAN EL ACTO O RESOLUCIÓN IMPUGNADA | B31: 0

Sheet FEBRERO_2013
A2: TIPO DE ÁREA: UNIDAD ADMINISTRATIVA DE LA OFICILIA MAYOR ENTIDAD: DIRECCIÓN DE INFORMACIÓN PÚBLICA DEL TRIBUNAL SUPERIOR DE JUSTICIA INFORME: PERSONAS ATENDIDAS FEBRERO 2013 | B2: VALOR
A5: PERSONAS ATENDIDAS | B5: 50
A7: SOLICITUDES DE INFORMACIÓN PÚBLICA RECIBIDAS
A8: VÍA ELECTRÓNICA (INFOMEX, TELINFOCDMX Y CORREO ELECTRÓNICO) | B8: 62
A9: POR ESCRITO (FORMATO IMPRESO) | B9: 50
A10: SOLICITUDES DIRIGIDAS A JUZGADOS | B10: 16
A11: SOLICITUDES DIRIGIDAS A SALAS | B11: 0
A12: SOLICITUDES DIRIGIDAS A ÁREAS DE APOYO JUDICIAL | B12: 58
A13: SOLICITUDES DIRIGIDAS A ÁREAS ADMINISTRATIVAS | B13: 10
A15: SOLICITUDES DE INFORMACIÓN ENTREGADAS Y CASOS EN LOS QUE SE NEGÓ EL ACCESO
A16: SOLICITUDES EN LAS QUE HUBO ENTREGA TOTAL DE LA INFORMACIÓN | B16: 83
A17: SOLICITUDES EN LAS QUE SE DECLARÓ LA INEXISTENCIA DE INFORMACIÓN | B17: 0
A18: SOLICITUDES CUYA INFORMACIÓN SE ENCONTRABA BAJO EL SUPUESTO DE ACCESO RESTRINGIDO | B18: 0
A19: SOLICITUDES EN LAS QUE SE ENTREGÓ INFORMACIÓN DISTINTA A LA SOLICITADA O EN UN FORMATO INCOMPRENSIBLE | B19: 0
A20: SOLICITUDES EN LAS QUE HUBO ENTREGA PARCIAL DE INFORMACIÓN | B20: 0
A21: SOLICITUDES CANALIZADAS A OTRO ENTE PÚBLICO | B21: 6
A22: SOLICITUDES PREVENIDAS SIN DESAHOGO POR PARTE DEL PETICIONARIO | B22: 27
A23: SOLICITUDES ORIENTADAS PARA SU TRAMITACIÓN ANTE OTRO ENTE PÚBLICO POR PARTE DEL PETICIONARIO | B23: 0
A25: RECURSOS DE REVISIÓN
A26: NÚMERO TOTAL DE RECURSOS DE REVISIÓN | B26: 1
A27: RECURSOS DE REVISIÓN DESHECHADOS IMPROCEDENTES | B27: 0
A28: RECURSOS DE REVISIÓN DESHECHADOS SOBRESEÍDOS | B28: 1
A29: RECURSOS QUE CONFIRMAN EL ACTO O RESOLUCIÓN IMPUGNADA | B29: 0
A30: RECURSOS DE MODIFICAN EL ACTO O RESOLUCIÓN IMPUGNADA | B30: 0
A31: RECURSOS DE REVOCAN EL ACTO O RESOLUCIÓN IMPUGNADA | B31: 0

Sheet MARZO_2013
A2: TIPO DE ÁREA: UNIDAD ADMINISTRATIVA DE LA OFICILIA MAYOR ENTIDAD: DIRECCIÓN DE INFORMACIÓN PÚBLICA DEL TRIBUNAL SUPERIOR DE JUSTICIA INFORME: PERSONAS ATENDIDAS MARZO 2013 | B2: VALOR
A5: PERSONAS ATENDIDAS | B5: 47
A7: SOLICITUDES DE INFORMACIÓN PÚBLICA RECIBIDAS
A8: VÍA ELECTRÓNICA (INFOMEX, TELINFOCDMX Y CORREO ELECTRÓNICO) | B8: 45
A9: POR ESCRITO (FORMATO IMPRESO) | B9: 47
A10: SOLICITUDES DIRIGIDAS A JUZGADOS | B10: 11
A11: SOLICITUDES DIRIGIDAS A SALAS | B11: 0
A12: SOLICITUDES DIRIGIDAS A ÁREAS DE APOYO JUDICIAL | B12: 25
A13: SOLICITUDES DIRIGIDAS A ÁREAS ADMINISTRATIVAS | B13: 13
A15: SOLICITUDES DE INFORMACIÓN ENTREGADAS Y CASOS EN LOS QUE SE NEGÓ EL ACCESO
A16: SOLICITUDES EN LAS QUE HUBO ENTREGA TOTAL DE LA INFORMACIÓN | B16: 66
A17: SOLICITUDES EN LAS QUE SE DECLARÓ LA INEXISTENCIA DE INFORMACIÓN | B17: 0
A18: SOLICITUDES CUYA INFORMACIÓN SE ENCONTRABA BAJO EL SUPUESTO DE ACCESO RESTRINGIDO | B18: 0
A19: SOLICITUDES EN LAS QUE SE ENTREGÓ INFORMACIÓN DISTINTA A LA SOLICITADA O EN UN FORMATO INCOMPRENSIBLE | B19: 0
A20: SOLICITUDES EN LAS QUE HUBO ENTREGA PARCIAL DE INFORMACIÓN | B20: 0
A21: SOLICITUDES CANALIZADAS A OTRO ENTE PÚBLICO | B21: 6
A22: SOLICITUDES PREVENIDAS SIN DESAHOGO POR PARTE DEL PETICIONARIO | B22: 28
A23: SOLICITUDES ORIENTADAS PARA SU TRAMITACIÓN ANTE OTRO ENTE PÚBLICO POR PARTE DEL PETICIONARIO | B23: 2
A25: RECURSOS DE REVISIÓN
A26: NÚMERO TOTAL DE RECURSOS DE REVISIÓN | B26: 0
A27: RECURSOS DE REVISIÓN DESHECHADOS IMPROCEDENTES | B27: 0
A28: RECURSOS DE REVISIÓN DESHECHADOS SOBRESEÍDOS | B28: 0
A29: RECURSOS QUE CONFIRMAN EL ACTO O RESOLUCIÓN IMPUGNADA | B29: 0
A30: RECURSOS DE MODIFICAN EL ACTO O RESOLUCIÓN IMPUGNADA | B30: 0
A31: RECURSOS DE REVOCAN EL ACTO O RESOLUCIÓN IMPUGNADA | B31: 0

Sheet ABRIL_2013
A2: TIPO DE ÁREA: UNIDAD ADMINISTRATIVA DE LA OFICILIA MAYOR ENTIDAD: DIRECCIÓN DE INFORMACIÓN PÚBLICA DEL TRIBUNAL SUPERIOR DE JUSTICIA INFORME: PERSONAS ATENDIDAS ABRIL 2013 | B2: VALOR
A5: PERSONAS ATENDIDAS | B5: 85
A7: SOLICITUDES DE INFORMACIÓN PÚBLICA RECIBIDAS
A8: VÍA ELECTRÓNICA (INFOMEX, TELINFOCDMX Y CORREO ELECTRÓNICO) | B8: 100
A9: POR ESCRITO (FORMATO IMPRESO) | B9: 85
A10: SOLICITUDES DIRIGIDAS A JUZGADOS | B10: 20
A11: SOLICITUDES DIRIGIDAS A SALAS | B11: 1
A12: SOLICITUDES DIRIGIDAS A ÁREAS DE APOYO JUDICIAL | B12: 52
A13: SOLICITUDES DIRIGIDAS A ÁREAS ADMINISTRATIVAS | B13: 21
A15: SOLICITUDES DE INFORMACIÓN ENTREGADAS Y CASOS EN LOS QUE SE NEGÓ EL ACCESO
A16: SOLICITUDES EN LAS QUE HUBO ENTREGA TOTAL DE LA INFORMACIÓN | B16: 132
A17: SOLICITUDES EN LAS QUE SE DECLARÓ LA INEXISTENCIA DE INFORMACIÓN | B17: 0
A18: SOLICITUDES CUYA INFORMACIÓN SE ENCONTRABA BAJO EL SUPUESTO DE ACCESO RESTRINGIDO | B18: 0
A19: SOLICITUDES EN LAS QUE SE ENTREGÓ INFORMACIÓN DISTINTA A LA SOLICITADA O EN UN FORMATO INCOMPRENSIBLE | B19: 0
A20: SOLICITUDES EN LAS QUE HUBO ENTREGA PARCIAL DE INFORMACIÓN | B20: 0
A21: SOLICITUDES CANALIZADAS A OTRO ENTE PÚBLICO | B21: 10
A22: SOLICITUDES PREVENIDAS SIN DESAHOGO POR PARTE DEL PETICIONARIO | B22: 63
A23: SOLICITUDES ORIENTADAS PARA SU TRAMITACIÓN ANTE OTRO ENTE PÚBLICO POR PARTE DEL PETICIONARIO | B23: 11
A25: RECURSOS DE REVISIÓN
A26: NÚMERO TOTAL DE RECURSOS DE REVISIÓN | B26: 5
A27: RECURSOS DE REVISIÓN DESHECHADOS IMPROCEDENTES | B27: 0
A28: RECURSOS DE REVISIÓN DESHECHADOS SOBRESEÍDOS | B28: 1
A29: RECURSOS QUE CONFIRMAN EL ACTO O RESOLUCIÓN IMPUGNADA | B29: 2
A30: RECURSOS DE MODIFICAN EL ACTO O RESOLUCIÓN IMPUGNADA | B30: 0
A31: RECURSOS DE REVOCAN EL ACTO O RESOLUCIÓN IMPUGNADA | B31: 0

Sheet MAYO_2013
A2: TIPO DE ÁREA: UNIDAD ADMINISTRATIVA DE LA OFICILIA MAYOR ENTIDAD: DIRECCIÓN DE INFORMACIÓN PÚBLICA DEL TRIBUNAL SUPERIOR DE JUSTICIA INFORME: PERSONAS ATENDIDAS MAYO 2013 | B2: VALOR
A5: PERSONAS ATENDIDAS | B5: 60
A7: SOLICITUDES DE INFORMACIÓN PÚBLICA RECIBIDAS
A8: VÍA ELECTRÓNICA (INFOMEX, TELINFOCDMX Y CORREO ELECTRÓNICO) | B8: 78
A9: POR ESCRITO (FORMATO IMPRESO) | B9: 60
A10: SOLICITUDES DIRIGIDAS A JUZGADOS | B10: 21
A11: SOLICITUDES DIRIGIDAS A SALAS | B11: 0
A12: SOLICITUDES DIRIGIDAS A ÁREAS DE APOYO JUDICIAL | B12: 34
A13: SOLICITUDES DIRIGIDAS A ÁREAS ADMINISTRATIVAS | B13: 32
A15: SOLICITUDES DE INFORMACIÓN ENTREGADAS Y CASOS EN LOS QUE SE NEGÓ EL ACCESO
A16: SOLICITUDES EN LAS QUE HUBO ENTREGA TOTAL DE LA INFORMACIÓN | B16: 92
A17: SOLICITUDES EN LAS QUE SE DECLARÓ LA INEXISTENCIA DE INFORMACIÓN | B17: 0
A18: SOLICITUDES CUYA INFORMACIÓN SE ENCONTRABA BAJO EL SUPUESTO DE ACCESO RESTRINGIDO | B18: 0
A19: SOLICITUDES EN LAS QUE SE ENTREGÓ INFORMACIÓN DISTINTA A LA SOLICITADA O EN UN FORMATO INCOMPRENSIBLE | B19: 0
A20: SOLICITUDES EN LAS QUE HUBO ENTREGA PARCIAL DE INFORMACIÓN | B20: 0
A21: SOLICITUDES CANALIZADAS A OTRO ENTE PÚBLICO | B21: 9
A22: SOLICITUDES PREVENIDAS SIN DESAHOGO POR PARTE DEL PETICIONARIO | B22: 48
A23: SOLICITUDES ORIENTADAS PARA SU TRAMITACIÓN ANTE OTRO ENTE PÚBLICO POR PARTE DEL PETICIONARIO | B23: 0
A25: RECURSOS DE REVISIÓN
A26: NÚMERO TOTAL DE RECURSOS DE REVISIÓN | B26: 1
A27: RECURSOS DE REVISIÓN DESHECHADOS IMPROCEDENTES | B27: 0
A28: RECURSOS DE REVISIÓN DESHECHADOS SOBRESEÍDOS | B28: 0
A29: RECURSOS QUE CONFIRMAN EL ACTO O RESOLUCIÓN IMPUGNADA | B29: 0
A30: RECURSOS DE MODIFICAN EL ACTO O RESOLUCIÓN IMPUGNADA | B30: 0
A31: RECURSOS DE REVOCAN EL ACTO O RESOLUCIÓN IMPUGNADA | B31: 0

Sheet JUNIO_2013
A2: TIPO DE ÁREA: UNIDAD ADMINISTRATIVA DE LA OFICILIA MAYOR ENTIDAD: DIRECCIÓN DE INFORMACIÓN PÚBLICA DEL TRIBUNAL SUPERIOR DE JUSTICIA INFORME: PERSONAS ATENDIDAS JUNIO 2013 | B2: VALOR
A5: PERSONAS ATENDIDAS | B5: 50
A7: SOLICITUDES DE INFORMACIÓN PÚBLICA RECIBIDAS
A8: VÍA ELECTRÓNICA (INFOMEX, TELINFOCDMX Y CORREO ELECTRÓNICO) | B8: 53
A9: POR ESCRITO (FORMATO IMPRESO) | B9: 50
A10: SOLICITUDES DIRIGIDAS A JUZGADOS | B10: 7
A11: SOLICITUDES DIRIGIDAS A SALAS | B11: 0
A12: SOLICITUDES DIRIGIDAS A ÁREAS DE APOYO JUDICIAL | B12: 42
A13: SOLICITUDES DIRIGIDAS A ÁREAS ADMINISTRATIVAS | B13: 17
A15: SOLICITUDES DE INFORMACIÓN ENTREGADAS Y CASOS EN LOS QUE SE NEGÓ EL ACCESO
A16: SOLICITUDES EN LAS QUE HUBO ENTREGA TOTAL DE LA INFORMACIÓN | B16: 90
A17: SOLICITUDES EN LAS QUE SE DECLARÓ LA INEXISTENCIA DE INFORMACIÓN | B17: 0
A18: SOLICITUDES CUYA INFORMACIÓN SE ENCONTRABA BAJO EL SUPUESTO DE ACCESO RESTRINGIDO | B18: 0
A19: SOLICITUDES EN LAS QUE SE ENTREGÓ INFORMACIÓN DISTINTA A LA SOLICITADA O EN UN FORMATO INCOMPRENSIBLE | B19: 0
A20: SOLICITUDES EN LAS QUE HUBO ENTREGA PARCIAL DE INFORMACIÓN | B20: 0
A21: SOLICITUDES CANALIZADAS A OTRO ENTE PÚBLICO | B21: 14
A22: SOLICITUDES PREVENIDAS SIN DESAHOGO POR PARTE DEL PETICIONARIO | B22: 28
A23: SOLICITUDES ORIENTADAS PARA SU TRAMITACIÓN ANTE OTRO ENTE PÚBLICO POR PARTE DEL PETICIONARIO | B23: 0
A25: RECURSOS DE REVISIÓN
A26: NÚMERO TOTAL DE RECURSOS DE REVISIÓN | B26: 0
A27: RECURSOS DE REVISIÓN DESHECHADOS IMPROCEDENTES | B27: 0
A28: RECURSOS DE REVISIÓN DESHECHADOS SOBRESEÍDOS | B28: 2
A29: RECURSOS QUE CONFIRMAN EL ACTO O RESOLUCIÓN IMPUGNADA | B29: 1
A30: RECURSOS DE MODIFICAN EL ACTO O RESOLUCIÓN IMPUGNADA | B30: 1
A31: RECURSOS DE REVOCAN EL ACTO O RESOLUCIÓN IMPUGNADA | B31: 1

Sheet JULIO_2013
A2: TIPO DE ÁREA: UNIDAD ADMINISTRATIVA DE LA OFICILIA MAYOR ENTIDAD: DIRECCIÓN DE INFORMACIÓN PÚBLICA DEL TRIBUNAL SUPERIOR DE JUSTICIA INFORME: PERSONAS ATENDIDAS JULIO 2013 | B2: VALOR
A5: PERSONAS ATENDIDAS | B5: 30
A7: SOLICITUDES DE INFORMACIÓN PÚBLICA RECIBIDAS
A8: VÍA ELECTRÓNICA (INFOMEX, TELINFOCDMX Y CORREO ELECTRÓNICO) | B8: 45
A9: POR ESCRITO (FORMATO IMPRESO) | B9: 30
A10: SOLICITUDES DIRIGIDAS A JUZGADOS | B10: 4
A11: SOLICITUDES DIRIGIDAS A SALAS | B11: 0
A12: SOLICITUDES DIRIGIDAS A ÁREAS DE APOYO JUDICIAL | B12: 50
A13: SOLICITUDES DIRIGIDAS A ÁREAS ADMINISTRATIVAS | B13: 6
A15: SOLICITUDES DE INFORMACIÓN ENTREGADAS Y CASOS EN LOS QUE SE NEGÓ EL ACCESO
A16: SOLICITUDES EN LAS QUE HUBO ENTREGA TOTAL DE LA INFORMACIÓN | B16: 33
A17: SOLICITUDES EN LAS QUE SE DECLARÓ LA INEXISTENCIA DE INFORMACIÓN | B17: 0
A18: SOLICITUDES CUYA INFORMACIÓN SE ENCONTRABA BAJO EL SUPUESTO DE ACCESO RESTRINGIDO | B18: 0
A19: SOLICITUDES EN LAS QUE SE ENTREGÓ INFORMACIÓN DISTINTA A LA SOLICITADA O EN UN FORMATO INCOMPRENSIBLE | B19: 0
A20: SOLICITUDES EN LAS QUE HUBO ENTREGA PARCIAL DE INFORMACIÓN | B20: 0
A21: SOLICITUDES CANALIZADAS A OTRO ENTE PÚBLICO | B21: 1
A22: SOLICITUDES PREVENIDAS SIN DESAHOGO POR PARTE DEL PETICIONARIO | B22: 17
A23: SOLICITUDES ORIENTADAS PARA SU TRAMITACIÓN ANTE OTRO ENTE PÚBLICO POR PARTE DEL PETICIONARIO | B23: 0
A25: RECURSOS DE REVISIÓN
A26: NÚMERO TOTAL DE RECURSOS DE REVISIÓN | B26: 0
A27: RECURSOS DE REVISIÓN DESHECHADOS IMPROCEDENTES | B27: 0
A28: RECURSOS DE REVISIÓN DESHECHADOS SOBRESEÍDOS | B28: 0
A29: RECURSOS QUE CONFIRMAN EL ACTO O RESOLUCIÓN IMPUGNADA | B29: 0
A30: RECURSOS DE MODIFICAN EL ACTO O RESOLUCIÓN IMPUGNADA | B30: 1
A31: RECURSOS DE REVOCAN EL ACTO O RESOLUCIÓN IMPUGNADA | B31: 0

Sheet AGOSTO_2013
A2: TIPO DE ÁREA: UNIDAD ADMINISTRATIVA DE LA OFICILIA MAYOR ENTIDAD: DIRECCIÓN DE INFORMACIÓN PÚBLICA DEL TRIBUNAL SUPERIOR DE JUSTICIA INFORME: PERSONAS ATENDIDAS AGOSTO 2013 | B2: VALOR
A5: PERSONAS ATENDIDAS | B5: 73
A7: SOLICITUDES DE INFORMACIÓN PÚBLICA RECIBIDAS
A8: VÍA ELECTRÓNICA (INFOMEX, TELINFOCDMX Y CORREO ELECTRÓNICO) | B8: 90
A9: POR ESCRITO (FORMATO IMPRESO) | B9: 73
A10: SOLICITUDES DIRIGIDAS A JUZGADOS | B10: 5
A11: SOLICITUDES DIRIGIDAS A SALAS | B11: 1
A12: SOLICITUDES DIRIGIDAS A ÁREAS DE APOYO JUDICIAL | B12: 43
A13: SOLICITUDES DIRIGIDAS A ÁREAS ADMINISTRATIVAS | B13: 75
A15: SOLICITUDES DE INFORMACIÓN ENTREGADAS Y CASOS EN LOS QUE SE NEGÓ EL ACCESO
A16: SOLICITUDES EN LAS QUE HUBO ENTREGA TOTAL DE LA INFORMACIÓN | B16: 101
A17: SOLICITUDES EN LAS QUE SE DECLARÓ LA INEXISTENCIA DE INFORMACIÓN | B17: 0
A18: SOLICITUDES CUYA INFORMACIÓN SE ENCONTRABA BAJO EL SUPUESTO DE ACCESO RESTRINGIDO | B18: 0
A19: SOLICITUDES EN LAS QUE SE ENTREGÓ INFORMACIÓN DISTINTA A LA SOLICITADA O EN UN FORMATO INCOMPRENSIBLE | B19: 0
A20: SOLICITUDES EN LAS QUE HUBO ENTREGA PARCIAL DE INFORMACIÓN | B20: 0
A21: SOLICITUDES CANALIZADAS A OTRO ENTE PÚBLICO | B21: 6
A22: SOLICITUDES PREVENIDAS SIN DESAHOGO POR PARTE DEL PETICIONARIO | B22: 44
A23: SOLICITUDES ORIENTADAS PARA SU TRAMITACIÓN ANTE OTRO ENTE PÚBLICO POR PARTE DEL PETICIONARIO | B23: 13
A25: RECURSOS DE REVISIÓN
A26: NÚMERO TOTAL DE RECURSOS DE REVISIÓN | B26: 0
A27: RECURSOS DE REVISIÓN DESHECHADOS IMPROCEDENTES | B27: 0
A28: RECURSOS DE REVISIÓN DESHECHADOS SOBRESEÍDOS | B28: 0
A29: RECURSOS QUE CONFIRMAN EL ACTO O RESOLUCIÓN IMPUGNADA | B29: 0
A30: RECURSOS DE MODIFICAN EL ACTO O RESOLUCIÓN IMPUGNADA | B30: 0
A31: RECURSOS DE REVOCAN EL ACTO O RESOLUCIÓN IMPUGNADA | B31: 0

Sheet SEPTIEMBRE_2013
A2: TIPO DE ÁREA: UNIDAD ADMINISTRATIVA DE LA OFICILIA MAYOR ENTIDAD: DIRECCIÓN DE INFORMACIÓN PÚBLICA DEL TRIBUNAL SUPERIOR DE JUSTICIA INFORME: PERSONAS ATENDIDAS SEPTIEMBRE 2013 | B2: VALOR
A5: PERSONAS ATENDIDAS | B5: 50
A7: SOLICITUDES DE INFORMACIÓN PÚBLICA RECIBIDAS
A8: VÍA ELECTRÓNICA (INFOMEX, TELINFOCDMX Y CORREO ELECTRÓNICO) | B8: 80
A9: POR ESCRITO (FORMATO IMPRESO) | B9: 50
A10: SOLICITUDES DIRIGIDAS A JUZGADOS | B10: 7
A11: SOLICITUDES DIRIGIDAS A SALAS | B11: 1
A12: SOLICITUDES DIRIGIDAS A ÁREAS DE APOYO JUDICIAL | B12: 33
A13: SOLICITUDES DIRIGIDAS A ÁREAS ADMINISTRATIVAS | B13: 39
A15: SOLICITUDES DE INFORMACIÓN ENTREGADAS Y CASOS EN LOS QUE SE NEGÓ EL ACCESO
A16: SOLICITUDES EN LAS QUE HUBO ENTREGA TOTAL DE LA INFORMACIÓN | B16: 100
A17: SOLICITUDES EN LAS QUE SE DECLARÓ LA INEXISTENCIA DE INFORMACIÓN | B17: 0
A18: SOLICITUDES CUYA INFORMACIÓN SE ENCONTRABA BAJO EL SUPUESTO DE ACCESO RESTRINGIDO | B18: 0
A19: SOLICITUDES EN LAS QUE SE ENTREGÓ INFORMACIÓN DISTINTA A LA SOLICITADA O EN UN FORMATO INCOMPRENSIBLE | B19: 0
A20: SOLICITUDES EN LAS QUE HUBO ENTREGA PARCIAL DE INFORMACIÓN | B20: 0
A21: SOLICITUDES CANALIZADAS A OTRO ENTE PÚBLICO | B21: 10
A22: SOLICITUDES PREVENIDAS SIN DESAHOGO POR PARTE DEL PETICIONARIO | B22: 32
A23: SOLICITUDES ORIENTADAS PARA SU TRAMITACIÓN ANTE OTRO ENTE PÚBLICO POR PARTE DEL PETICIONARIO | B23: 4
A25: RECURSOS DE REVISIÓN
A26: NÚMERO TOTAL DE RECURSOS DE REVISIÓN | B26: 1
A27: RECURSOS DE REVISIÓN DESHECHADOS IMPROCEDENTES | B27: 0
A28: RECURSOS DE REVISIÓN DESHECHADOS SOBRESEÍDOS | B28: 0
A29: RECURSOS QUE CONFIRMAN EL ACTO O RESOLUCIÓN IMPUGNADA | B29: 0
A30: RECURSOS DE MODIFICAN EL ACTO O RESOLUCIÓN IMPUGNADA | B30: 0
A31: RECURSOS DE REVOCAN EL ACTO O RESOLUCIÓN IMPUGNADA | B31: 0

Sheet OCTUBRE_2013
A2: TIPO DE ÁREA: UNIDAD ADMINISTRATIVA DE LA OFICILIA MAYOR ENTIDAD: DIRECCIÓN DE INFORMACIÓN PÚBLICA DEL TRIBUNAL SUPERIOR DE JUSTICIA INFORME: PERSONAS ATENDIDAS OCTUBRE 2013 | B2: VALOR
A5: PERSONAS ATENDIDAS | B5: 60
A7: SOLICITUDES DE INFORMACIÓN PÚBLICA RECIBIDAS
A8: VÍA ELECTRÓNICA (INFOMEX, TELINFOCDMX Y CORREO ELECTRÓNICO) | B8: 93
A9: POR ESCRITO (FORMATO IMPRESO) | B9: 60
A10: SOLICITUDES DIRIGIDAS A JUZGADOS | B10: 7
A11: SOLICITUDES DIRIGIDAS A SALAS | B11: 0
A12: SOLICITUDES DIRIGIDAS A ÁREAS DE APOYO JUDICIAL | B12: 42
A13: SOLICITUDES DIRIGIDAS A ÁREAS ADMINISTRATIVAS | B13: 33
A15: SOLICITUDES DE INFORMACIÓN ENTREGADAS Y CASOS EN LOS QUE SE NEGÓ EL ACCESO
A16: SOLICITUDES EN LAS QUE HUBO ENTREGA TOTAL DE LA INFORMACIÓN | B16: 70
A17: SOLICITUDES EN LAS QUE SE DECLARÓ LA INEXISTENCIA DE INFORMACIÓN | B17: 0
A18: SOLICITUDES CUYA INFORMACIÓN SE ENCONTRABA BAJO EL SUPUESTO DE ACCESO RESTRINGIDO | B18: 0
A19: SOLICITUDES EN LAS QUE SE ENTREGÓ INFORMACIÓN DISTINTA A LA SOLICITADA O EN UN FORMATO INCOMPRENSIBLE | B19: 0
A20: SOLICITUDES EN LAS QUE HUBO ENTREGA PARCIAL DE INFORMACIÓN | B20: 0
A21: SOLICITUDES CANALIZADAS A OTRO ENTE PÚBLICO | B21: 18
A22: SOLICITUDES PREVENIDAS SIN DESAHOGO POR PARTE DEL PETICIONARIO | B22: 38
A23: SOLICITUDES ORIENTADAS PARA SU TRAMITACIÓN ANTE OTRO ENTE PÚBLICO POR PARTE DEL PETICIONARIO | B23: 2
A25: RECURSOS DE REVISIÓN
A26: NÚMERO TOTAL DE RECURSOS DE REVISIÓN | B26: 3
A27: RECURSOS DE REVISIÓN DESHECHADOS IMPROCEDENTES | B27: 0
A28: RECURSOS DE REVISIÓN DESHECHADOS SOBRESEÍDOS | B28: 0
A29: RECURSOS QUE CONFIRMAN EL ACTO O RESOLUCIÓN IMPUGNADA | B29: 0
A30: RECURSOS DE MODIFICAN EL ACTO O RESOLUCIÓN IMPUGNADA | B30: 0
A31: RECURSOS DE REVOCAN EL ACTO O RESOLUCIÓN IMPUGNADA | B31: 0

Sheet NOVIEMBRE_2013
A2: TIPO DE ÁREA: UNIDAD ADMINISTRATIVA DE LA OFICILIA MAYOR ENTIDAD: DIRECCIÓN DE INFORMACIÓN PÚBLICA DEL TRIBUNAL SUPERIOR DE JUSTICIA INFORME: PERSONAS ATENDIDAS NOVIEMBRE 2013 | B2: VALOR
A5: PERSONAS ATENDIDAS | B5: 60
A7: SOLICITUDES DE INFORMACIÓN PÚBLICA RECIBIDAS
A8: VÍA ELECTRÓNICA (INFOMEX, TELINFOCDMX Y CORREO ELECTRÓNICO) | B8: 82
A9: POR ESCRITO (FORMATO IMPRESO) | B9: 60
A10: SOLICITUDES DIRIGIDAS A JUZGADOS | B10: 10
A11: SOLICITUDES DIRIGIDAS A SALAS | B11: 0
A12: SOLICITUDES DIRIGIDAS A ÁREAS DE APOYO JUDICIAL | B12: 58
A13: SOLICITUDES DIRIGIDAS A ÁREAS ADMINISTRATIVAS | B13: 13
A15: SOLICITUDES DE INFORMACIÓN ENTREGADAS Y CASOS EN LOS QUE SE NEGÓ EL ACCESO
A16: SOLICITUDES EN LAS QUE HUBO ENTREGA TOTAL DE LA INFORMACIÓN | B16: 103
A17: SOLICITUDES EN LAS QUE SE DECLARÓ LA INEXISTENCIA DE INFORMACIÓN | B17: 0
A18: SOLICITUDES CUYA INFORMACIÓN SE ENCONTRABA BAJO EL SUPUESTO DE ACCESO RESTRINGIDO | B18: 0
A19: SOLICITUDES EN LAS QUE SE ENTREGÓ INFORMACIÓN DISTINTA A LA SOLICITADA O EN UN FORMATO INCOMPRENSIBLE | B19: 0
A20: SOLICITUDES EN LAS QUE HUBO ENTREGA PARCIAL DE INFORMACIÓN | B20: 0
A21: SOLICITUDES CANALIZADAS A OTRO ENTE PÚBLICO | B21: 19
A22: SOLICITUDES PREVENIDAS SIN DESAHOGO POR PARTE DEL PETICIONARIO | B22: 42
A23: SOLICITUDES ORIENTADAS PARA SU TRAMITACIÓN ANTE OTRO ENTE PÚBLICO POR PARTE DEL PETICIONARIO | B23: 16
A25: RECURSOS DE REVISIÓN
A26: NÚMERO TOTAL DE RECURSOS DE REVISIÓN | B26: 2
A27: RECURSOS DE REVISIÓN DESHECHADOS IMPROCEDENTES | B27: 0
A28: RECURSOS DE REVISIÓN DESHECHADOS SOBRESEÍDOS | B28: 0
A29: RECURSOS QUE CONFIRMAN EL ACTO O RESOLUCIÓN IMPUGNADA | B29: 1
A30: RECURSOS DE MODIFICAN EL ACTO O RESOLUCIÓN IMPUGNADA | B30: 0
A31: RECURSOS DE REVOCAN EL ACTO O RESOLUCIÓN IMPUGNADA | B31: 0

Sheet DICIEMBRE_2013
A2: TIPO DE ÁREA: UNIDAD ADMINISTRATIVA DE LA OFICILIA MAYOR ENTIDAD: DIRECCIÓN DE INFORMACIÓN PÚBLICA DEL TRIBUNAL SUPERIOR DE JUSTICIA INFORME: PERSONAS ATENDIDAS DICIEMBRE 2013 | B2: VALOR
A5: PERSONAS ATENDIDAS | B5: 15
A7: SOLICITUDES DE INFORMACIÓN PÚBLICA RECIBIDAS
A8: VÍA ELECTRÓNICA (INFOMEX, TELINFOCDMX Y CORREO ELECTRÓNICO) | B8: 11
A9: POR ESCRITO (FORMATO IMPRESO) | B9: 15
A10: SOLICITUDES DIRIGIDAS A JUZGADOS | B10: 1
A11: SOLICITUDES DIRIGIDAS A SALAS | B11: 0
A12: SOLICITUDES DIRIGIDAS A ÁREAS DE APOYO JUDICIAL | B12: 14
A13: SOLICITUDES DIRIGIDAS A ÁREAS ADMINISTRATIVAS | B13: 12
A15: SOLICITUDES DE INFORMACIÓN ENTREGADAS Y CASOS EN LOS QUE SE NEGÓ EL ACCESO
A16: SOLICITUDES EN LAS QUE HUBO ENTREGA TOTAL DE LA INFORMACIÓN | B16: 45
A17: SOLICITUDES EN LAS QUE SE DECLARÓ LA INEXISTENCIA DE INFORMACIÓN | B17: 0
A18: SOLICITUDES CUYA INFORMACIÓN SE ENCONTRABA BAJO EL SUPUESTO DE ACCESO RESTRINGIDO | B18: 0
A19: SOLICITUDES EN LAS QUE SE ENTREGÓ INFORMACIÓN DISTINTA A LA SOLICITADA O EN UN FORMATO INCOMPRENSIBLE | B19: 0
A20: SOLICITUDES EN LAS QUE HUBO ENTREGA PARCIAL DE INFORMACIÓN | B20: 0
A21: SOLICITUDES CANALIZADAS A OTRO ENTE PÚBLICO | B21: 9
A22: SOLICITUDES PREVENIDAS SIN DESAHOGO POR PARTE DEL PETICIONARIO | B22: 12
A23: SOLICITUDES ORIENTADAS PARA SU TRAMITACIÓN ANTE OTRO ENTE PÚBLICO POR PARTE DEL PETICIONARIO | B23: 0
A25: RECURSOS DE REVISIÓN
A26: NÚMERO TOTAL DE RECURSOS DE REVISIÓN | B26: 1
A27: RECURSOS DE REVISIÓN DESHECHADOS IMPROCEDENTES | B27: 0
A28: RECURSOS DE REVISIÓN DESHECHADOS SOBRESEÍDOS | B28: 0
A29: RECURSOS QUE CONFIRMAN EL ACTO O RESOLUCIÓN IMPUGNADA | B29: 2
A30: RECURSOS DE MODIFICAN EL ACTO O RESOLUCIÓN IMPUGNADA | B30: 0
A31: RECURSOS DE REVOCAN EL ACTO O RESOLUCIÓN IMPUGNADA | B31: 1

Sheet FEBRERO_2014
A2: TIPO DE ÁREA: UNIDAD ADMINISTRATIVA DE LA OFICILIA MAYOR ENTIDAD: DIRECCIÓN DE INFORMACIÓN PÚBLICA DEL TRIBUNAL SUPERIOR DE JUSTICIA INFORME: PERSONAS ATENDIDAS FEBRERO 2014 | B2: VALOR
A5: PERSONAS ATENDIDAS | B5: 35
A7: SOLICITUDES DE INFORMACIÓN PÚBLICA RECIBIDAS
A8: VÍA ELECTRÓNICA (INFOMEX, TELINFOCDMX Y CORREO ELECTRÓNICO) | B8: 108
A9: POR ESCRITO (FORMATO IMPRESO) | B9: 35
A10: SOLICITUDES DIRIGIDAS A JUZGADOS | B10: 3
A11: SOLICITUDES DIRIGIDAS A SALAS | B11: 0
A12: SOLICITUDES DIRIGIDAS A ÁREAS DE APOYO JUDICIAL | B12: 61
A13: SOLICITUDES DIRIGIDAS A ÁREAS ADMINISTRATIVAS | B13: 74
A15: SOLICITUDES DE INFORMACIÓN ENTREGADAS Y CASOS EN LOS QUE SE NEGÓ EL ACCESO
A16: SOLICITUDES EN LAS QUE HUBO ENTREGA TOTAL DE LA INFORMACIÓN | B16: 100
A17: SOLICITUDES EN LAS QUE SE DECLARÓ LA INEXISTENCIA DE INFORMACIÓN | B17: 0
A18: SOLICITUDES CUYA INFORMACIÓN SE ENCONTRABA BAJO EL SUPUESTO DE ACCESO RESTRINGIDO | B18: 0
A19: SOLICITUDES EN LAS QUE SE ENTREGÓ INFORMACIÓN DISTINTA A LA SOLICITADA O EN UN FORMATO INCOMPRENSIBLE | B19: 0
A20: SOLICITUDES EN LAS QUE HUBO ENTREGA PARCIAL DE INFORMACIÓN | B20: 0
A21: SOLICITUDES CANALIZADAS A OTRO ENTE PÚBLICO | B21: 19
A22: SOLICITUDES PREVENIDAS SIN DESAHOGO POR PARTE DEL PETICIONARIO | B22: 30
A23: SOLICITUDES ORIENTADAS PARA SU TRAMITACIÓN ANTE OTRO ENTE PÚBLICO POR PARTE DEL PETICIONARIO | B23: 8
A25: RECURSOS DE REVISIÓN
A26: NÚMERO TOTAL DE RECURSOS DE REVISIÓN | B26: 3
A27: RECURSOS DE REVISIÓN DESHECHADOS IMPROCEDENTES | B27: 0
A28: RECURSOS DE REVISIÓN DESHECHADOS SOBRESEÍDOS | B28: 1
A29: RECURSOS QUE CONFIRMAN EL ACTO O RESOLUCIÓN IMPUGNADA | B29: 0
A30: RECURSOS DE MODIFICAN EL ACTO O RESOLUCIÓN IMPUGNADA | B30: 0
A31: RECURSOS DE REVOCAN EL ACTO O RESOLUCIÓN IMPUGNADA | B31: 0

Sheet MARZO_2014
A2: TIPO DE ÁREA: UNIDAD ADMINISTRATIVA DE LA OFICILIA MAYOR ENTIDAD: DIRECCIÓN DE INFORMACIÓN PÚBLICA DEL TRIBUNAL SUPERIOR DE JUSTICIA INFORME: PERSONAS ATENDIDAS MARZO 2014 | B2: VALOR
A5: PERSONAS ATENDIDAS | B5: 50
A7: SOLICITUDES DE INFORMACIÓN PÚBLICA RECIBIDAS
A8: VÍA ELECTRÓNICA (INFOMEX, TELINFOCDMX Y CORREO ELECTRÓNICO) | B8: 40
A9: POR ESCRITO (FORMATO IMPRESO) | B9: 50
A10: SOLICITUDES DIRIGIDAS A JUZGADOS | B10: 6
A11: SOLICITUDES DIRIGIDAS A SALAS | B11: 0
A12: SOLICITUDES DIRIGIDAS A ÁREAS DE APOYO JUDICIAL | B12: 68
A13: SOLICITUDES DIRIGIDAS A ÁREAS ADMINISTRATIVAS | B13: 22
A15: SOLICITUDES DE INFORMACIÓN ENTREGADAS Y CASOS EN LOS QUE SE NEGÓ EL ACCESO
A16: SOLICITUDES EN LAS QUE HUBO ENTREGA TOTAL DE LA INFORMACIÓN | B16: 126
A17: SOLICITUDES EN LAS QUE SE DECLARÓ LA INEXISTENCIA DE INFORMACIÓN | B17: 0
A18: SOLICITUDES CUYA INFORMACIÓN SE ENCONTRABA BAJO EL SUPUESTO DE ACCESO RESTRINGIDO | B18: 0
A19: SOLICITUDES EN LAS QUE SE ENTREGÓ INFORMACIÓN DISTINTA A LA SOLICITADA O EN UN FORMATO INCOMPRENSIBLE | B19: 0
A20: SOLICITUDES EN LAS QUE HUBO ENTREGA PARCIAL DE INFORMACIÓN | B20: 0
A21: SOLICITUDES CANALIZADAS A OTRO ENTE PÚBLICO | B21: 8
A22: SOLICITUDES PREVENIDAS SIN DESAHOGO POR PARTE DEL PETICIONARIO | B22: 43
A23: SOLICITUDES ORIENTADAS PARA SU TRAMITACIÓN ANTE OTRO ENTE PÚBLICO POR PARTE DEL PETICIONARIO | B23: 2
A25: RECURSOS DE REVISIÓN
A26: NÚMERO TOTAL DE RECURSOS DE REVISIÓN | B26: 2
A27: RECURSOS DE REVISIÓN DESHECHADOS IMPROCEDENTES | B27: 0
A28: RECURSOS DE REVISIÓN DESHECHADOS SOBRESEÍDOS | B28: 1
A29: RECURSOS QUE CONFIRMAN EL ACTO O RESOLUCIÓN IMPUGNADA | B29: 0
A30: RECURSOS DE MODIFICAN EL ACTO O RESOLUCIÓN IMPUGNADA | B30: 0
A31: RECURSOS DE REVOCAN EL ACTO O RESOLUCIÓN IMPUGNADA | B31: 0

Sheet ABRIL_2014
A2: TIPO DE ÁREA: UNIDAD ADMINISTRATIVA DE LA OFICILIA MAYOR ENTIDAD: DIRECCIÓN DE INFORMACIÓN PÚBLICA DEL TRIBUNAL SUPERIOR DE JUSTICIA INFORME: PERSONAS ATENDIDAS ABRIL 2014 | B2: VALOR
A5: PERSONAS ATENDIDAS | B5: 22
A7: SOLICITUDES DE INFORMACIÓN PÚBLICA RECIBIDAS
A8: VÍA ELECTRÓNICA (INFOMEX, TELINFOCDMX Y CORREO ELECTRÓNICO) | B8: 122
A9: POR ESCRITO (FORMATO IMPRESO) | B9: 22
A10: SOLICITUDES DIRIGIDAS A JUZGADOS | B10: 7
A11: SOLICITUDES DIRIGIDAS A SALAS | B11: 0
A12: SOLICITUDES DIRIGIDAS A ÁREAS DE APOYO JUDICIAL | B12: 30
A13: SOLICITUDES DIRIGIDAS A ÁREAS ADMINISTRATIVAS | B13: 71
A15: SOLICITUDES DE INFORMACIÓN ENTREGADAS Y CASOS EN LOS QUE SE NEGÓ EL ACCESO
A16: SOLICITUDES EN LAS QUE HUBO ENTREGA TOTAL DE LA INFORMACIÓN | B16: 130
A17: SOLICITUDES EN LAS QUE SE DECLARÓ LA INEXISTENCIA DE INFORMACIÓN | B17: 0
A18: SOLICITUDES CUYA INFORMACIÓN SE ENCONTRABA BAJO EL SUPUESTO DE ACCESO RESTRINGIDO | B18: 1
A19: SOLICITUDES EN LAS QUE SE ENTREGÓ INFORMACIÓN DISTINTA A LA SOLICITADA O EN UN FORMATO INCOMPRENSIBLE | B19: 0
A20: SOLICITUDES EN LAS QUE HUBO ENTREGA PARCIAL DE INFORMACIÓN | B20: 0
A21: SOLICITUDES CANALIZADAS A OTRO ENTE PÚBLICO | B21: 7
A22: SOLICITUDES PREVENIDAS SIN DESAHOGO POR PARTE DEL PETICIONARIO | B22: 45
A23: SOLICITUDES ORIENTADAS PARA SU TRAMITACIÓN ANTE OTRO ENTE PÚBLICO POR PARTE DEL PETICIONARIO | B23: 3
A25: RECURSOS DE REVISIÓN
A26: NÚMERO TOTAL DE RECURSOS DE REVISIÓN | B26: 1
A27: RECURSOS DE REVISIÓN DESHECHADOS IMPROCEDENTES | B27: 0
A28: RECURSOS DE REVISIÓN DESHECHADOS SOBRESEÍDOS | B28: 0
A29: RECURSOS QUE CONFIRMAN EL ACTO O RESOLUCIÓN IMPUGNADA | B29: 0
A30: RECURSOS DE MODIFICAN EL ACTO O RESOLUCIÓN IMPUGNADA | B30: 2
A31: RECURSOS DE REVOCAN EL ACTO O RESOLUCIÓN IMPUGNADA | B31: 0

Sheet MAYO_2014
A2: TIPO DE ÁREA: UNIDAD ADMINISTRATIVA DE LA OFICILIA MAYOR ENTIDAD: DIRECCIÓN DE INFORMACIÓN PÚBLICA DEL TRIBUNAL SUPERIOR DE JUSTICIA INFORME: PERSONAS ATENDIDAS MAYO 2014 | B2: VALOR
A5: PERSONAS ATENDIDAS | B5: 40
A7: SOLICITUDES DE INFORMACIÓN PÚBLICA RECIBIDAS
A8: VÍA ELECTRÓNICA (INFOMEX, TELINFOCDMX Y CORREO ELECTRÓNICO) | B8: 168
A9: POR ESCRITO (FORMATO IMPRESO) | B9: 40
A10: SOLICITUDES DIRIGIDAS A JUZGADOS | B10: 10
A11: SOLICITUDES DIRIGIDAS A SALAS | B11: 2
A12: SOLICITUDES DIRIGIDAS A ÁREAS DE APOYO JUDICIAL | B12: 41
A13: SOLICITUDES DIRIGIDAS A ÁREAS ADMINISTRATIVAS | B13: 82
A15: SOLICITUDES DE INFORMACIÓN ENTREGADAS Y CASOS EN LOS QUE SE NEGÓ EL ACCESO
A16: SOLICITUDES EN LAS QUE HUBO ENTREGA TOTAL DE LA INFORMACIÓN | B16: 141
A17: SOLICITUDES EN LAS QUE SE DECLARÓ LA INEXISTENCIA DE INFORMACIÓN | B17: 0
A18: SOLICITUDES CUYA INFORMACIÓN SE ENCONTRABA BAJO EL SUPUESTO DE ACCESO RESTRINGIDO | B18: 3
A19: SOLICITUDES EN LAS QUE SE ENTREGÓ INFORMACIÓN DISTINTA A LA SOLICITADA O EN UN FORMATO INCOMPRENSIBLE | B19: 0
A20: SOLICITUDES EN LAS QUE HUBO ENTREGA PARCIAL DE INFORMACIÓN | B20: 0
A21: SOLICITUDES CANALIZADAS A OTRO ENTE PÚBLICO | B21: 7
A22: SOLICITUDES PREVENIDAS SIN DESAHOGO POR PARTE DEL PETICIONARIO | B22: 60
A23: SOLICITUDES ORIENTADAS PARA SU TRAMITACIÓN ANTE OTRO ENTE PÚBLICO POR PARTE DEL PETICIONARIO | B23: 4
A25: RECURSOS DE REVISIÓN
A26: NÚMERO TOTAL DE RECURSOS DE REVISIÓN | B26: 2
A27: RECURSOS DE REVISIÓN DESHECHADOS IMPROCEDENTES | B27: 0
A28: RECURSOS DE REVISIÓN DESHECHADOS SOBRESEÍDOS | B28: 0
A29: RECURSOS QUE CONFIRMAN EL ACTO O RESOLUCIÓN IMPUGNADA | B29: 0
A30: RECURSOS DE MODIFICAN EL ACTO O RESOLUCIÓN IMPUGNADA | B30: 2
A31: RECURSOS DE REVOCAN EL ACTO O RESOLUCIÓN IMPUGNADA | B31: 0

Sheet JUNIO_2014
A2: TIPO DE ÁREA: UNIDAD ADMINISTRATIVA DE LA OFICILIA MAYOR ENTIDAD: DIRECCIÓN DE INFORMACIÓN PÚBLICA DEL TRIBUNAL SUPERIOR DE JUSTICIA INFORME: PERSONAS ATENDIDAS JUNIO 2014 | B2: VALOR
A5: PERSONAS ATENDIDAS | B5: 34
A7: SOLICITUDES DE INFORMACIÓN PÚBLICA RECIBIDAS
A8: VÍA ELECTRÓNICA (INFOMEX, TELINFOCDMX Y CORREO ELECTRÓNICO) | B8: 280
A9: POR ESCRITO (FORMATO IMPRESO) | B9: 34
A10: SOLICITUDES DIRIGIDAS A JUZGADOS | B10: 13
A11: SOLICITUDES DIRIGIDAS A SALAS | B11: 3
A12: SOLICITUDES DIRIGIDAS A ÁREAS DE APOYO JUDICIAL | B12: 61
A13: SOLICITUDES DIRIGIDAS A ÁREAS ADMINISTRATIVAS | B13: 102
A15: SOLICITUDES DE INFORMACIÓN ENTREGADAS Y CASOS EN LOS QUE SE NEGÓ EL ACCESO
A16: SOLICITUDES EN LAS QUE HUBO ENTREGA TOTAL DE LA INFORMACIÓN | B16: 160
A17: SOLICITUDES EN LAS QUE SE DECLARÓ LA INEXISTENCIA DE INFORMACIÓN | B17: 0
A18: SOLICITUDES CUYA INFORMACIÓN SE ENCONTRABA BAJO EL SUPUESTO DE ACCESO RESTRINGIDO | B18: 6
A19: SOLICITUDES EN LAS QUE SE ENTREGÓ INFORMACIÓN DISTINTA A LA SOLICITADA O EN UN FORMATO INCOMPRENSIBLE | B19: 0
A20: SOLICITUDES EN LAS QUE HUBO ENTREGA PARCIAL DE INFORMACIÓN | B20: 0
A21: SOLICITUDES CANALIZADAS A OTRO ENTE PÚBLICO | B21: 10
A22: SOLICITUDES PREVENIDAS SIN DESAHOGO POR PARTE DEL PETICIONARIO | B22: 70
A23: SOLICITUDES ORIENTADAS PARA SU TRAMITACIÓN ANTE OTRO ENTE PÚBLICO POR PARTE DEL PETICIONARIO | B23: 10
A25: RECURSOS DE REVISIÓN
A26: NÚMERO TOTAL DE RECURSOS DE REVISIÓN | B26: 3
A27: RECURSOS DE REVISIÓN DESHECHADOS IMPROCEDENTES | B27: 0
A28: RECURSOS DE REVISIÓN DESHECHADOS SOBRESEÍDOS | B28: 0
A29: RECURSOS QUE CONFIRMAN EL ACTO O RESOLUCIÓN IMPUGNADA | B29: 0
A30: RECURSOS DE MODIFICAN EL ACTO O RESOLUCIÓN IMPUGNADA | B30: 0
A31: RECURSOS DE REVOCAN EL ACTO O RESOLUCIÓN IMPUGNADA | B31: 1

Sheet JULIO_2014
A2: TIPO DE ÁREA: UNIDAD ADMINISTRATIVA DE LA OFICILIA MAYOR ENTIDAD: DIRECCIÓN DE INFORMACIÓN PÚBLICA DEL TRIBUNAL SUPERIOR DE JUSTICIA INFORME: PERSONAS ATENDIDAS JULIO 2014 | B2: VALOR
A5: PERSONAS ATENDIDAS | B5: 15
A7: SOLICITUDES DE INFORMACIÓN PÚBLICA RECIBIDAS
A8: VÍA ELECTRÓNICA (INFOMEX, TELINFOCDMX Y CORREO ELECTRÓNICO) | B8: 30
A9: POR ESCRITO (FORMATO IMPRESO) | B9: 15
A10: SOLICITUDES DIRIGIDAS A JUZGADOS | B10: 2
A11: SOLICITUDES DIRIGIDAS A SALAS | B11: 0
A12: SOLICITUDES DIRIGIDAS A ÁREAS DE APOYO JUDICIAL | B12: 37
A13: SOLICITUDES DIRIGIDAS A ÁREAS ADMINISTRATIVAS | B13: 8
A15: SOLICITUDES DE INFORMACIÓN ENTREGADAS Y CASOS EN LOS QUE SE NEGÓ EL ACCESO
A16: SOLICITUDES EN LAS QUE HUBO ENTREGA TOTAL DE LA INFORMACIÓN | B16: 124
A17: SOLICITUDES EN LAS QUE SE DECLARÓ LA INEXISTENCIA DE INFORMACIÓN | B17: 0
A18: SOLICITUDES CUYA INFORMACIÓN SE ENCONTRABA BAJO EL SUPUESTO DE ACCESO RESTRINGIDO | B18: 0
A19: SOLICITUDES EN LAS QUE SE ENTREGÓ INFORMACIÓN DISTINTA A LA SOLICITADA O EN UN FORMATO INCOMPRENSIBLE | B19: 0
A20: SOLICITUDES EN LAS QUE HUBO ENTREGA PARCIAL DE INFORMACIÓN | B20: 0
A21: SOLICITUDES CANALIZADAS A OTRO ENTE PÚBLICO | B21: 3
A22: SOLICITUDES PREVENIDAS SIN DESAHOGO POR PARTE DEL PETICIONARIO | B22: 25
A23: SOLICITUDES ORIENTADAS PARA SU TRAMITACIÓN ANTE OTRO ENTE PÚBLICO POR PARTE DEL PETICIONARIO | B23: 9
A25: RECURSOS DE REVISIÓN
A26: NÚMERO TOTAL DE RECURSOS DE REVISIÓN | B26: 0
A27: RECURSOS DE REVISIÓN DESHECHADOS IMPROCEDENTES | B27: 0
A28: RECURSOS DE REVISIÓN DESHECHADOS SOBRESEÍDOS | B28: 0
A29: RECURSOS QUE CONFIRMAN EL ACTO O RESOLUCIÓN IMPUGNADA | B29: 1
A30: RECURSOS DE MODIFICAN EL ACTO O RESOLUCIÓN IMPUGNADA | B30: 0
A31: RECURSOS DE REVOCAN EL ACTO O RESOLUCIÓN IMPUGNADA | B31: 0

Sheet AGOSTO_2014
A2: TIPO DE ÁREA: UNIDAD ADMINISTRATIVA DE LA OFICILIA MAYOR ENTIDAD: DIRECCIÓN DE INFORMACIÓN PÚBLICA DEL TRIBUNAL SUPERIOR DE JUSTICIA INFORME: PERSONAS ATENDIDAS AGOSTO 2014 | B2: VALOR
A5: PERSONAS ATENDIDAS | B5: 41
A7: SOLICITUDES DE INFORMACIÓN PÚBLICA RECIBIDAS
A8: VÍA ELECTRÓNICA (INFOMEX, TELINFOCDMX Y CORREO ELECTRÓNICO) | B8: 165
A9: POR ESCRITO (FORMATO IMPRESO) | B9: 41
A10: SOLICITUDES DIRIGIDAS A JUZGADOS | B10: 10
A11: SOLICITUDES DIRIGIDAS A SALAS | B11: 0
A12: SOLICITUDES DIRIGIDAS A ÁREAS DE APOYO JUDICIAL | B12: 62
A13: SOLICITUDES DIRIGIDAS A ÁREAS ADMINISTRATIVAS | B13: 21
A15: SOLICITUDES DE INFORMACIÓN ENTREGADAS Y CASOS EN LOS QUE SE NEGÓ EL ACCESO
A16: SOLICITUDES EN LAS QUE HUBO ENTREGA TOTAL DE LA INFORMACIÓN | B16: 132
A17: SOLICITUDES EN LAS QUE SE DECLARÓ LA INEXISTENCIA DE INFORMACIÓN | B17: 0
A18: SOLICITUDES CUYA INFORMACIÓN SE ENCONTRABA BAJO EL SUPUESTO DE ACCESO RESTRINGIDO | B18: 0
A19: SOLICITUDES EN LAS QUE SE ENTREGÓ INFORMACIÓN DISTINTA A LA SOLICITADA O EN UN FORMATO INCOMPRENSIBLE | B19: 0
A20: SOLICITUDES EN LAS QUE HUBO ENTREGA PARCIAL DE INFORMACIÓN | B20: 0
A21: SOLICITUDES CANALIZADAS A OTRO ENTE PÚBLICO | B21: 5
A22: SOLICITUDES PREVENIDAS SIN DESAHOGO POR PARTE DEL PETICIONARIO | B22: 40
A23: SOLICITUDES ORIENTADAS PARA SU TRAMITACIÓN ANTE OTRO ENTE PÚBLICO POR PARTE DEL PETICIONARIO | B23: 16
A25: RECURSOS DE REVISIÓN
A26: NÚMERO TOTAL DE RECURSOS DE REVISIÓN | B26: 1
A27: RECURSOS DE REVISIÓN DESHECHADOS IMPROCEDENTES | B27: 0
A28: RECURSOS DE REVISIÓN DESHECHADOS SOBRESEÍDOS | B28: 3
A29: RECURSOS QUE CONFIRMAN EL ACTO O RESOLUCIÓN IMPUGNADA | B29: 0
A30: RECURSOS DE MODIFICAN EL ACTO O RESOLUCIÓN IMPUGNADA | B30: 0
A31: RECURSOS DE REVOCAN EL ACTO O RESOLUCIÓN IMPUGNADA | B31: 0

Sheet SEPTIEMBRE_2014
A2: TIPO DE ÁREA: UNIDAD ADMINISTRATIVA DE LA OFICILIA MAYOR ENTIDAD: DIRECCIÓN DE INFORMACIÓN PÚBLICA DEL TRIBUNAL SUPERIOR DE JUSTICIA INFORME: PERSONAS ATENDIDAS SEPTIEMBRE 2014 | B2: VALOR
A5: PERSONAS ATENDIDAS | B5: 33
A7: SOLICITUDES DE INFORMACIÓN PÚBLICA RECIBIDAS
A8: VÍA ELECTRÓNICA (INFOMEX, TELINFOCDMX Y CORREO ELECTRÓNICO) | B8: 154
A9: POR ESCRITO (FORMATO IMPRESO) | B9: 33
A10: SOLICITUDES DIRIGIDAS A JUZGADOS | B10: 6
A11: SOLICITUDES DIRIGIDAS A SALAS | B11: 0
A12: SOLICITUDES DIRIGIDAS A ÁREAS DE APOYO JUDICIAL | B12: 66
A13: SOLICITUDES DIRIGIDAS A ÁREAS ADMINISTRATIVAS | B13: 17
A15: SOLICITUDES DE INFORMACIÓN ENTREGADAS Y CASOS EN LOS QUE SE NEGÓ EL ACCESO
A16: SOLICITUDES EN LAS QUE HUBO ENTREGA TOTAL DE LA INFORMACIÓN | B16: 79
A17: SOLICITUDES EN LAS QUE SE DECLARÓ LA INEXISTENCIA DE INFORMACIÓN | B17: 0
A18: SOLICITUDES CUYA INFORMACIÓN SE ENCONTRABA BAJO EL SUPUESTO DE ACCESO RESTRINGIDO | B18: 0
A19: SOLICITUDES EN LAS QUE SE ENTREGÓ INFORMACIÓN DISTINTA A LA SOLICITADA O EN UN FORMATO INCOMPRENSIBLE | B19: 0
A20: SOLICITUDES EN LAS QUE HUBO ENTREGA PARCIAL DE INFORMACIÓN | B20: 0
A21: SOLICITUDES CANALIZADAS A OTRO ENTE PÚBLICO | B21: 10
A22: SOLICITUDES PREVENIDAS SIN DESAHOGO POR PARTE DEL PETICIONARIO | B22: 49
A23: SOLICITUDES ORIENTADAS PARA SU TRAMITACIÓN ANTE OTRO ENTE PÚBLICO POR PARTE DEL PETICIONARIO | B23: 4
A25: RECURSOS DE REVISIÓN
A26: NÚMERO TOTAL DE RECURSOS DE REVISIÓN | B26: 4
A27: RECURSOS DE REVISIÓN DESHECHADOS IMPROCEDENTES | B27: 0
A28: RECURSOS DE REVISIÓN DESHECHADOS SOBRESEÍDOS | B28: 0
A29: RECURSOS QUE CONFIRMAN EL ACTO O RESOLUCIÓN IMPUGNADA | B29: 1
A30: RECURSOS DE MODIFICAN EL ACTO O RESOLUCIÓN IMPUGNADA | B30: 1
A31: RECURSOS DE REVOCAN EL ACTO O RESOLUCIÓN IMPUGNADA | B31: 0

Sheet OCTUBRE_2014
A2: TIPO DE ÁREA: UNIDAD ADMINISTRATIVA DE LA OFICILIA MAYOR ENTIDAD: DIRECCIÓN DE INFORMACIÓN PÚBLICA DEL TRIBUNAL SUPERIOR DE JUSTICIA INFORME: PERSONAS ATENDIDAS OCTUBRE 2014 | B2: VALOR
A5: PERSONAS ATENDIDAS | B5: 34
A7: SOLICITUDES DE INFORMACIÓN PÚBLICA RECIBIDAS
A8: VÍA ELECTRÓNICA (INFOMEX, TELINFOCDMX Y CORREO ELECTRÓNICO) | B8: 172
A9: POR ESCRITO (FORMATO IMPRESO) | B9: 34
A10: SOLICITUDES DIRIGIDAS A JUZGADOS | B10: 17
A11: SOLICITUDES DIRIGIDAS A SALAS | B11: 0
A12: SOLICITUDES DIRIGIDAS A ÁREAS DE APOYO JUDICIAL | B12: 33
A13: SOLICITUDES DIRIGIDAS A ÁREAS ADMINISTRATIVAS | B13: 49
A15: SOLICITUDES DE INFORMACIÓN ENTREGADAS Y CASOS EN LOS QUE SE NEGÓ EL ACCESO
A16: SOLICITUDES EN LAS QUE HUBO ENTREGA TOTAL DE LA INFORMACIÓN | B16: 115
A17: SOLICITUDES EN LAS QUE SE DECLARÓ LA INEXISTENCIA DE INFORMACIÓN | B17: 0
A18: SOLICITUDES CUYA INFORMACIÓN SE ENCONTRABA BAJO EL SUPUESTO DE ACCESO RESTRINGIDO | B18: 0
A19: SOLICITUDES EN LAS QUE SE ENTREGÓ INFORMACIÓN DISTINTA A LA SOLICITADA O EN UN FORMATO INCOMPRENSIBLE | B19: 0
A20: SOLICITUDES EN LAS QUE HUBO ENTREGA PARCIAL DE INFORMACIÓN | B20: 0
A21: SOLICITUDES CANALIZADAS A OTRO ENTE PÚBLICO | B21: 1
A22: SOLICITUDES PREVENIDAS SIN DESAHOGO POR PARTE DEL PETICIONARIO | B22: 64
A23: SOLICITUDES ORIENTADAS PARA SU TRAMITACIÓN ANTE OTRO ENTE PÚBLICO POR PARTE DEL PETICIONARIO | B23: 3
A25: RECURSOS DE REVISIÓN
A26: NÚMERO TOTAL DE RECURSOS DE REVISIÓN | B26: 3
A27: RECURSOS DE REVISIÓN DESHECHADOS IMPROCEDENTES | B27: 0
A28: RECURSOS DE REVISIÓN DESHECHADOS SOBRESEÍDOS | B28: 0
A29: RECURSOS QUE CONFIRMAN EL ACTO O RESOLUCIÓN IMPUGNADA | B29: 0
A30: RECURSOS DE MODIFICAN EL ACTO O RESOLUCIÓN IMPUGNADA | B30: 0
A31: RECURSOS DE REVOCAN EL ACTO O RESOLUCIÓN IMPUGNADA | B31: 0

Sheet NOVIEMBRE_2014
A2: TIPO DE ÁREA: UNIDAD ADMINISTRATIVA DE LA OFICILIA MAYOR ENTIDAD: DIRECCIÓN DE INFORMACIÓN PÚBLICA DEL TRIBUNAL SUPERIOR DE JUSTICIA INFORME: PERSONAS ATENDIDAS NOVIEMBRE 2014 | B2: VALOR
A5: PERSONAS ATENDIDAS | B5: 17
A7: SOLICITUDES DE INFORMACIÓN PÚBLICA RECIBIDAS
A8: VÍA ELECTRÓNICA (INFOMEX, TELINFOCDMX Y CORREO ELECTRÓNICO) | B8: 100
A9: POR ESCRITO (FORMATO IMPRESO) | B9: 17
A10: SOLICITUDES DIRIGIDAS A JUZGADOS | B10: 4
A11: SOLICITUDES DIRIGIDAS A SALAS | B11: 0
A12: SOLICITUDES DIRIGIDAS A ÁREAS DE APOYO JUDICIAL | B12: 35
A13: SOLICITUDES DIRIGIDAS A ÁREAS ADMINISTRATIVAS | B13: 18
A15: SOLICITUDES DE INFORMACIÓN ENTREGADAS Y CASOS EN LOS QUE SE NEGÓ EL ACCESO
A16: SOLICITUDES EN LAS QUE HUBO ENTREGA TOTAL DE LA INFORMACIÓN | B16: 91
A17: SOLICITUDES EN LAS QUE SE DECLARÓ LA INEXISTENCIA DE INFORMACIÓN | B17: 0
A18: SOLICITUDES CUYA INFORMACIÓN SE ENCONTRABA BAJO EL SUPUESTO DE ACCESO RESTRINGIDO | B18: 0
A19: SOLICITUDES EN LAS QUE SE ENTREGÓ INFORMACIÓN DISTINTA A LA SOLICITADA O EN UN FORMATO INCOMPRENSIBLE | B19: 0
A20: SOLICITUDES EN LAS QUE HUBO ENTREGA PARCIAL DE INFORMACIÓN | B20: 0
A21: SOLICITUDES CANALIZADAS A OTRO ENTE PÚBLICO | B21: 20
A22: SOLICITUDES PREVENIDAS SIN DESAHOGO POR PARTE DEL PETICIONARIO | B22: 33
A23: SOLICITUDES ORIENTADAS PARA SU TRAMITACIÓN ANTE OTRO ENTE PÚBLICO POR PARTE DEL PETICIONARIO | B23: 0
A25: RECURSOS DE REVISIÓN
A26: NÚMERO TOTAL DE RECURSOS DE REVISIÓN | B26: 1
A27: RECURSOS DE REVISIÓN DESHECHADOS IMPROCEDENTES | B27: 0
A28: RECURSOS DE REVISIÓN DESHECHADOS SOBRESEÍDOS | B28: 2
A29: RECURSOS QUE CONFIRMAN EL ACTO O RESOLUCIÓN IMPUGNADA | B29: 0
A30: RECURSOS DE MODIFICAN EL ACTO O RESOLUCIÓN IMPUGNADA | B30: 2
A31: RECURSOS DE REVOCAN EL ACTO O RESOLUCIÓN IMPUGNADA | B31: 0

Sheet DICIEMBRE_2014
A2: TIPO DE ÁREA: UNIDAD ADMINISTRATIVA DE LA OFICILIA MAYOR ENTIDAD: DIRECCIÓN DE INFORMACIÓN PÚBLICA DEL TRIBUNAL SUPERIOR DE JUSTICIA INFORME: PERSONAS ATENDIDAS DICIEMBRE 2014 | B2: VALOR
A5: PERSONAS ATENDIDAS | B5: 9
A7: SOLICITUDES DE INFORMACIÓN PÚBLICA RECIBIDAS
A8: VÍA ELECTRÓNICA (INFOMEX, TELINFOCDMX Y CORREO ELECTRÓNICO) | B8: 53
A9: POR ESCRITO (FORMATO IMPRESO) | B9: 9
A10: SOLICITUDES DIRIGIDAS A JUZGADOS | B10: 2
A11: SOLICITUDES DIRIGIDAS A SALAS | B11: 0
A12: SOLICITUDES DIRIGIDAS A ÁREAS DE APOYO JUDICIAL | B12: 13
A13: SOLICITUDES DIRIGIDAS A ÁREAS ADMINISTRATIVAS | B13: 9
A15: SOLICITUDES DE INFORMACIÓN ENTREGADAS Y CASOS EN LOS QUE SE NEGÓ EL ACCESO
A16: SOLICITUDES EN LAS QUE HUBO ENTREGA TOTAL DE LA INFORMACIÓN | B16: 20
A17: SOLICITUDES EN LAS QUE SE DECLARÓ LA INEXISTENCIA DE INFORMACIÓN | B17: 0
A18: SOLICITUDES CUYA INFORMACIÓN SE ENCONTRABA BAJO EL SUPUESTO DE ACCESO RESTRINGIDO | B18: 0
A19: SOLICITUDES EN LAS QUE SE ENTREGÓ INFORMACIÓN DISTINTA A LA SOLICITADA O EN UN FORMATO INCOMPRENSIBLE | B19: 0
A20: SOLICITUDES EN LAS QUE HUBO ENTREGA PARCIAL DE INFORMACIÓN | B20: 0
A21: SOLICITUDES CANALIZADAS A OTRO ENTE PÚBLICO | B21: 2
A22: SOLICITUDES PREVENIDAS SIN DESAHOGO POR PARTE DEL PETICIONARIO | B22: 22
A23: SOLICITUDES ORIENTADAS PARA SU TRAMITACIÓN ANTE OTRO ENTE PÚBLICO POR PARTE DEL PETICIONARIO | B23: 0
A25: RECURSOS DE REVISIÓN
A26: NÚMERO TOTAL DE RECURSOS DE REVISIÓN | B26: 0
A27: RECURSOS DE REVISIÓN DESHECHADOS IMPROCEDENTES | B27: 0
A28: RECURSOS DE REVISIÓN DESHECHADOS SOBRESEÍDOS | B28: 1
A29: RECURSOS QUE CONFIRMAN EL ACTO O RESOLUCIÓN IMPUGNADA | B29: 0
A30: RECURSOS DE MODIFICAN EL ACTO O RESOLUCIÓN IMPUGNADA | B30: 0
A31: RECURSOS DE REVOCAN EL ACTO O RESOLUCIÓN IMPUGNADA | B31: 1

Sheet FEBRERO_2015
A2: TIPO DE ÁREA: UNIDAD ADMINISTRATIVA DE LA OFICILIA MAYOR ENTIDAD: DIRECCIÓN DE INFORMACIÓN PÚBLICA DEL TRIBUNAL SUPERIOR DE JUSTICIA INFORME: PERSONAS ATENDIDAS FEBRERO 2015 | B2: VALOR
A5: PERSONAS ATENDIDAS | B5: 36
A7: SOLICITUDES DE INFORMACIÓN PÚBLICA RECIBIDAS
A8: VÍA ELECTRÓNICA (INFOMEX, TELINFOCDMX Y CORREO ELECTRÓNICO) | B8: 165
A9: POR ESCRITO (FORMATO IMPRESO) | B9: 36
A10: SOLICITUDES DIRIGIDAS A JUZGADOS | B10: 3
A11: SOLICITUDES DIRIGIDAS A SALAS | B11: 0
A12: SOLICITUDES DIRIGIDAS A ÁREAS DE APOYO JUDICIAL | B12: 33
A13: SOLICITUDES DIRIGIDAS A ÁREAS ADMINISTRATIVAS | B13: 33
A15: SOLICITUDES DE INFORMACIÓN ENTREGADAS Y CASOS EN LOS QUE SE NEGÓ EL ACCESO
A16: SOLICITUDES EN LAS QUE HUBO ENTREGA TOTAL DE LA INFORMACIÓN | B16: 99
A17: SOLICITUDES EN LAS QUE SE DECLARÓ LA INEXISTENCIA DE INFORMACIÓN | B17: 0
A18: SOLICITUDES CUYA INFORMACIÓN SE ENCONTRABA BAJO EL SUPUESTO DE ACCESO RESTRINGIDO | B18: 0
A19: SOLICITUDES EN LAS QUE SE ENTREGÓ INFORMACIÓN DISTINTA A LA SOLICITADA O EN UN FORMATO INCOMPRENSIBLE | B19: 0
A20: SOLICITUDES EN LAS QUE HUBO ENTREGA PARCIAL DE INFORMACIÓN | B20: 0
A21: SOLICITUDES CANALIZADAS A OTRO ENTE PÚBLICO | B21: 11
A22: SOLICITUDES PREVENIDAS SIN DESAHOGO POR PARTE DEL PETICIONARIO | B22: 43
A23: SOLICITUDES ORIENTADAS PARA SU TRAMITACIÓN ANTE OTRO ENTE PÚBLICO POR PARTE DEL PETICIONARIO | B23: 10
A25: RECURSOS DE REVISIÓN
A26: NÚMERO TOTAL DE RECURSOS DE REVISIÓN | B26: 5
A27: RECURSOS DE REVISIÓN DESHECHADOS IMPROCEDENTES | B27: 0
A28: RECURSOS DE REVISIÓN DESHECHADOS SOBRESEÍDOS | B28: 0
A29: RECURSOS QUE CONFIRMAN EL ACTO O RESOLUCIÓN IMPUGNADA | B29: 0
A30: RECURSOS DE MODIFICAN EL ACTO O RESOLUCIÓN IMPUGNADA | B30: 1
A31: RECURSOS DE REVOCAN EL ACTO O RESOLUCIÓN IMPUGNADA | B31: 0

Sheet MARZO_2015
A2: TIPO DE ÁREA: UNIDAD ADMINISTRATIVA DE LA OFICILIA MAYOR ENTIDAD: DIRECCIÓN DE INFORMACIÓN PÚBLICA DEL TRIBUNAL SUPERIOR DE JUSTICIA INFORME: PERSONAS ATENDIDAS MARZO 2015 | B2: VALOR
A5: PERSONAS ATENDIDAS | B5: 43
A7: SOLICITUDES DE INFORMACIÓN PÚBLICA RECIBIDAS
A8: VÍA ELECTRÓNICA (INFOMEX, TELINFOCDMX Y CORREO ELECTRÓNICO) | B8: 166
A9: POR ESCRITO (FORMATO IMPRESO) | B9: 43
A10: SOLICITUDES DIRIGIDAS A JUZGADOS | B10: 1
A11: SOLICITUDES DIRIGIDAS A SALAS | B11: 0
A12: SOLICITUDES DIRIGIDAS A ÁREAS DE APOYO JUDICIAL | B12: 37
A13: SOLICITUDES DIRIGIDAS A ÁREAS ADMINISTRATIVAS | B13: 47
A15: SOLICITUDES DE INFORMACIÓN ENTREGADAS Y CASOS EN LOS QUE SE NEGÓ EL ACCESO
A16: SOLICITUDES EN LAS QUE HUBO ENTREGA TOTAL DE LA INFORMACIÓN | B16: 78
A17: SOLICITUDES EN LAS QUE SE DECLARÓ LA INEXISTENCIA DE INFORMACIÓN | B17: 0
A18: SOLICITUDES CUYA INFORMACIÓN SE ENCONTRABA BAJO EL SUPUESTO DE ACCESO RESTRINGIDO | B18: 0
A19: SOLICITUDES EN LAS QUE SE ENTREGÓ INFORMACIÓN DISTINTA A LA SOLICITADA O EN UN FORMATO INCOMPRENSIBLE | B19: 0
A20: SOLICITUDES EN LAS QUE HUBO ENTREGA PARCIAL DE INFORMACIÓN | B20: 0
A21: SOLICITUDES CANALIZADAS A OTRO ENTE PÚBLICO | B21: 7
A22: SOLICITUDES PREVENIDAS SIN DESAHOGO POR PARTE DEL PETICIONARIO | B22: 16
A23: SOLICITUDES ORIENTADAS PARA SU TRAMITACIÓN ANTE OTRO ENTE PÚBLICO POR PARTE DEL PETICIONARIO | B23: 9
A25: RECURSOS DE REVISIÓN
A26: NÚMERO TOTAL DE RECURSOS DE REVISIÓN | B26: 3
A27: RECURSOS DE REVISIÓN DESHECHADOS IMPROCEDENTES | B27: 0
A28: RECURSOS DE REVISIÓN DESHECHADOS SOBRESEÍDOS | B28: 0
A29: RECURSOS QUE CONFIRMAN EL ACTO O RESOLUCIÓN IMPUGNADA | B29: 1
A30: RECURSOS DE MODIFICAN EL ACTO O RESOLUCIÓN IMPUGNADA | B30: 0
A31: RECURSOS DE REVOCAN EL ACTO O RESOLUCIÓN IMPUGNADA | B31: 0

Sheet ABRIL_2015
A2: TIPO DE ÁREA: UNIDAD ADMINISTRATIVA DE LA OFICILIA MAYOR ENTIDAD: DIRECCIÓN DE INFORMACIÓN PÚBLICA DEL TRIBUNAL SUPERIOR DE JUSTICIA INFORME: PERSONAS ATENDIDAS ABRIL 2015 | B2: VALOR
A5: PERSONAS ATENDIDAS | B5: 37
A7: SOLICITUDES DE INFORMACIÓN PÚBLICA RECIBIDAS
A8: VÍA ELECTRÓNICA (INFOMEX, TELINFOCDMX Y CORREO ELECTRÓNICO) | B8: 173
A9: POR ESCRITO (FORMATO IMPRESO) | B9: 37
A10: SOLICITUDES DIRIGIDAS A JUZGADOS | B10: 6
A11: SOLICITUDES DIRIGIDAS A SALAS | B11: 1
A12: SOLICITUDES DIRIGIDAS A ÁREAS DE APOYO JUDICIAL | B12: 42
A13: SOLICITUDES DIRIGIDAS A ÁREAS ADMINISTRATIVAS | B13: 38
A15: SOLICITUDES DE INFORMACIÓN ENTREGADAS Y CASOS EN LOS QUE SE NEGÓ EL ACCESO
A16: SOLICITUDES EN LAS QUE HUBO ENTREGA TOTAL DE LA INFORMACIÓN | B16: 108
A17: SOLICITUDES EN LAS QUE SE DECLARÓ LA INEXISTENCIA DE INFORMACIÓN | B17: 0
A18: SOLICITUDES CUYA INFORMACIÓN SE ENCONTRABA BAJO EL SUPUESTO DE ACCESO RESTRINGIDO | B18: 0
A19: SOLICITUDES EN LAS QUE SE ENTREGÓ INFORMACIÓN DISTINTA A LA SOLICITADA O EN UN FORMATO INCOMPRENSIBLE | B19: 0
A20: SOLICITUDES EN LAS QUE HUBO ENTREGA PARCIAL DE INFORMACIÓN | B20: 0
A21: SOLICITUDES CANALIZADAS A OTRO ENTE PÚBLICO | B21: 4
A22: SOLICITUDES PREVENIDAS SIN DESAHOGO POR PARTE DEL PETICIONARIO | B22: 41
A23: SOLICITUDES ORIENTADAS PARA SU TRAMITACIÓN ANTE OTRO ENTE PÚBLICO POR PARTE DEL PETICIONARIO | B23: 12
A25: RECURSOS DE REVISIÓN
A26: NÚMERO TOTAL DE RECURSOS DE REVISIÓN | B26: 3
A27: RECURSOS DE REVISIÓN DESHECHADOS IMPROCEDENTES | B27: 0
A28: RECURSOS DE REVISIÓN DESHECHADOS SOBRESEÍDOS | B28: 0
A29: RECURSOS QUE CONFIRMAN EL ACTO O RESOLUCIÓN IMPUGNADA | B29: 0
A30: RECURSOS DE MODIFICAN EL ACTO O RESOLUCIÓN IMPUGNADA | B30: 0
A31: RECURSOS DE REVOCAN EL ACTO O RESOLUCIÓN IMPUGNADA | B31: 0

Sheet MAYO_2015
A2: TIPO DE ÁREA: UNIDAD ADMINISTRATIVA DE LA OFICILIA MAYOR ENTIDAD: DIRECCIÓN DE INFORMACIÓN PÚBLICA DEL TRIBUNAL SUPERIOR DE JUSTICIA INFORME: PERSONAS ATENDIDAS MAYO 2015 | B2: VALOR
A5: PERSONAS ATENDIDAS | B5: 31
A7: SOLICITUDES DE INFORMACIÓN PÚBLICA RECIBIDAS
A8: VÍA ELECTRÓNICA (INFOMEX, TELINFOCDMX Y CORREO ELECTRÓNICO) | B8: 124
A9: POR ESCRITO (FORMATO IMPRESO) | B9: 31
A10: SOLICITUDES DIRIGIDAS A JUZGADOS | B10: 6
A11: SOLICITUDES DIRIGIDAS A SALAS | B11: 1
A12: SOLICITUDES DIRIGIDAS A ÁREAS DE APOYO JUDICIAL | B12: 70
A13: SOLICITUDES DIRIGIDAS A ÁREAS ADMINISTRATIVAS | B13: 15
A15: SOLICITUDES DE INFORMACIÓN ENTREGADAS Y CASOS EN LOS QUE SE NEGÓ EL ACCESO
A16: SOLICITUDES EN LAS QUE HUBO ENTREGA TOTAL DE LA INFORMACIÓN | B16: 108
A17: SOLICITUDES EN LAS QUE SE DECLARÓ LA INEXISTENCIA DE INFORMACIÓN | B17: 0
A18: SOLICITUDES CUYA INFORMACIÓN SE ENCONTRABA BAJO EL SUPUESTO DE ACCESO RESTRINGIDO | B18: 0
A19: SOLICITUDES EN LAS QUE SE ENTREGÓ INFORMACIÓN DISTINTA A LA SOLICITADA O EN UN FORMATO INCOMPRENSIBLE | B19: 0
A20: SOLICITUDES EN LAS QUE HUBO ENTREGA PARCIAL DE INFORMACIÓN | B20: 0
A21: SOLICITUDES CANALIZADAS A OTRO ENTE PÚBLICO | B21: 8
A22: SOLICITUDES PREVENIDAS SIN DESAHOGO POR PARTE DEL PETICIONARIO | B22: 21
A23: SOLICITUDES ORIENTADAS PARA SU TRAMITACIÓN ANTE OTRO ENTE PÚBLICO POR PARTE DEL PETICIONARIO | B23: 4
A25: RECURSOS DE REVISIÓN
A26: NÚMERO TOTAL DE RECURSOS DE REVISIÓN | B26: 1
A27: RECURSOS DE REVISIÓN DESHECHADOS IMPROCEDENTES | B27: 0
A28: RECURSOS DE REVISIÓN DESHECHADOS SOBRESEÍDOS | B28: 2
A29: RECURSOS QUE CONFIRMAN EL ACTO O RESOLUCIÓN IMPUGNADA | B29: 3
A30: RECURSOS DE MODIFICAN EL ACTO O RESOLUCIÓN IMPUGNADA | B30: 0
A31: RECURSOS DE REVOCAN EL ACTO O RESOLUCIÓN IMPUGNADA | B31: 0

Sheet JUNIO_2015
A2: TIPO DE ÁREA: UNIDAD ADMINISTRATIVA DE LA OFICILIA MAYOR ENTIDAD: DIRECCIÓN DE INFORMACIÓN PÚBLICA DEL TRIBUNAL SUPERIOR DE JUSTICIA INFORME: PERSONAS ATENDIDAS JUNIO 2015 | B2: VALOR
A5: PERSONAS ATENDIDAS | B5: 45
A7: SOLICITUDES DE INFORMACIÓN PÚBLICA RECIBIDAS
A8: VÍA ELECTRÓNICA (INFOMEX, TELINFOCDMX Y CORREO ELECTRÓNICO) | B8: 144
A9: POR ESCRITO (FORMATO IMPRESO) | B9: 45
A10: SOLICITUDES DIRIGIDAS A JUZGADOS | B10: 6
A11: SOLICITUDES DIRIGIDAS A SALAS | B11: 0
A12: SOLICITUDES DIRIGIDAS A ÁREAS DE APOYO JUDICIAL | B12: 76
A13: SOLICITUDES DIRIGIDAS A ÁREAS ADMINISTRATIVAS | B13: 16
A15: SOLICITUDES DE INFORMACIÓN ENTREGADAS Y CASOS EN LOS QUE SE NEGÓ EL ACCESO
A16: SOLICITUDES EN LAS QUE HUBO ENTREGA TOTAL DE LA INFORMACIÓN | B16: 108
A17: SOLICITUDES EN LAS QUE SE DECLARÓ LA INEXISTENCIA DE INFORMACIÓN | B17: 0
A18: SOLICITUDES CUYA INFORMACIÓN SE ENCONTRABA BAJO EL SUPUESTO DE ACCESO RESTRINGIDO | B18: 0
A19: SOLICITUDES EN LAS QUE SE ENTREGÓ INFORMACIÓN DISTINTA A LA SOLICITADA O EN UN FORMATO INCOMPRENSIBLE | B19: 0
A20: SOLICITUDES EN LAS QUE HUBO ENTREGA PARCIAL DE INFORMACIÓN | B20: 0
A21: SOLICITUDES CANALIZADAS A OTRO ENTE PÚBLICO | B21: 5
A22: SOLICITUDES PREVENIDAS SIN DESAHOGO POR PARTE DEL PETICIONARIO | B22: 37
A23: SOLICITUDES ORIENTADAS PARA SU TRAMITACIÓN ANTE OTRO ENTE PÚBLICO POR PARTE DEL PETICIONARIO | B23: 1
A25: RECURSOS DE REVISIÓN
A26: NÚMERO TOTAL DE RECURSOS DE REVISIÓN | B26: 7
A27: RECURSOS DE REVISIÓN DESHECHADOS IMPROCEDENTES | B27: 0
A28: RECURSOS DE REVISIÓN DESHECHADOS SOBRESEÍDOS | B28: 4
A29: RECURSOS QUE CONFIRMAN EL ACTO O RESOLUCIÓN IMPUGNADA | B29: 1
A30: RECURSOS DE MODIFICAN EL ACTO O RESOLUCIÓN IMPUGNADA | B30: 1
A31: RECURSOS DE REVOCAN EL ACTO O RESOLUCIÓN IMPUGNADA | B31: 0

Sheet JULIO_2015
A2: TIPO DE ÁREA: UNIDAD ADMINISTRATIVA DE LA OFICILIA MAYOR ENTIDAD: DIRECCIÓN DE INFORMACIÓN PÚBLICA DEL TRIBUNAL SUPERIOR DE JUSTICIA INFORME: PERSONAS ATENDIDAS JULIO 2015 | B2: VALOR
A5: PERSONAS ATENDIDAS | B5: 11
A7: SOLICITUDES DE INFORMACIÓN PÚBLICA RECIBIDAS
A8: VÍA ELECTRÓNICA (INFOMEX, TELINFOCDMX Y CORREO ELECTRÓNICO) | B8: 52
A9: POR ESCRITO (FORMATO IMPRESO) | B9: 11
A10: SOLICITUDES DIRIGIDAS A JUZGADOS | B10: 2
A11: SOLICITUDES DIRIGIDAS A SALAS | B11: 0
A12: SOLICITUDES DIRIGIDAS A ÁREAS DE APOYO JUDICIAL | B12: 19
A13: SOLICITUDES DIRIGIDAS A ÁREAS ADMINISTRATIVAS | B13: 2
A15: SOLICITUDES DE INFORMACIÓN ENTREGADAS Y CASOS EN LOS QUE SE NEGÓ EL ACCESO
A16: SOLICITUDES EN LAS QUE HUBO ENTREGA TOTAL DE LA INFORMACIÓN | B16: 40
A17: SOLICITUDES EN LAS QUE SE DECLARÓ LA INEXISTENCIA DE INFORMACIÓN | B17: 0
A18: SOLICITUDES CUYA INFORMACIÓN SE ENCONTRABA BAJO EL SUPUESTO DE ACCESO RESTRINGIDO | B18: 0
A19: SOLICITUDES EN LAS QUE SE ENTREGÓ INFORMACIÓN DISTINTA A LA SOLICITADA O EN UN FORMATO INCOMPRENSIBLE | B19: 0
A20: SOLICITUDES EN LAS QUE HUBO ENTREGA PARCIAL DE INFORMACIÓN | B20: 0
A21: SOLICITUDES CANALIZADAS A OTRO ENTE PÚBLICO | B21: 3
A22: SOLICITUDES PREVENIDAS SIN DESAHOGO POR PARTE DEL PETICIONARIO | B22: 9
A23: SOLICITUDES ORIENTADAS PARA SU TRAMITACIÓN ANTE OTRO ENTE PÚBLICO POR PARTE DEL PETICIONARIO | B23: 0
A25: RECURSOS DE REVISIÓN
A26: NÚMERO TOTAL DE RECURSOS DE REVISIÓN | B26: 2
A27: RECURSOS DE REVISIÓN DESHECHADOS IMPROCEDENTES | B27: 0
A28: RECURSOS DE REVISIÓN DESHECHADOS SOBRESEÍDOS | B28: 2
A29: RECURSOS QUE CONFIRMAN EL ACTO O RESOLUCIÓN IMPUGNADA | B29: 0
A30: RECURSOS DE MODIFICAN EL ACTO O RESOLUCIÓN IMPUGNADA | B30: 1
A31: RECURSOS DE REVOCAN EL ACTO O RESOLUCIÓN IMPUGNADA | B31: 1

Sheet AGOSTO_2015
A2: TIPO DE ÁREA: UNIDAD ADMINISTRATIVA DE LA OFICILIA MAYOR ENTIDAD: DIRECCIÓN DE INFORMACIÓN PÚBLICA DEL TRIBUNAL SUPERIOR DE JUSTICIA INFORME: PERSONAS ATENDIDAS AGOSTO 2015 | B2: VALOR
A5: PERSONAS ATENDIDAS | B5: 41
A7: SOLICITUDES DE INFORMACIÓN PÚBLICA RECIBIDAS
A8: VÍA ELECTRÓNICA (INFOMEX, TELINFOCDMX Y CORREO ELECTRÓNICO) | B8: 222
A9: POR ESCRITO (FORMATO IMPRESO) | B9: 41
A10: SOLICITUDES DIRIGIDAS A JUZGADOS | B10: 4
A11: SOLICITUDES DIRIGIDAS A SALAS | B11: 1
A12: SOLICITUDES DIRIGIDAS A ÁREAS DE APOYO JUDICIAL | B12: 28
A13: SOLICITUDES DIRIGIDAS A ÁREAS ADMINISTRATIVAS | B13: 52
A15: SOLICITUDES DE INFORMACIÓN ENTREGADAS Y CASOS EN LOS QUE SE NEGÓ EL ACCESO
A16: SOLICITUDES EN LAS QUE HUBO ENTREGA TOTAL DE LA INFORMACIÓN | B16: 96
A17: SOLICITUDES EN LAS QUE SE DECLARÓ LA INEXISTENCIA DE INFORMACIÓN | B17: 0
A18: SOLICITUDES CUYA INFORMACIÓN SE ENCONTRABA BAJO EL SUPUESTO DE ACCESO RESTRINGIDO | B18: 0
A19: SOLICITUDES EN LAS QUE SE ENTREGÓ INFORMACIÓN DISTINTA A LA SOLICITADA O EN UN FORMATO INCOMPRENSIBLE | B19: 0
A20: SOLICITUDES EN LAS QUE HUBO ENTREGA PARCIAL DE INFORMACIÓN | B20: 0
A21: SOLICITUDES CANALIZADAS A OTRO ENTE PÚBLICO | B21: 16
A22: SOLICITUDES PREVENIDAS SIN DESAHOGO POR PARTE DEL PETICIONARIO | B22: 18
A23: SOLICITUDES ORIENTADAS PARA SU TRAMITACIÓN ANTE OTRO ENTE PÚBLICO POR PARTE DEL PETICIONARIO | B23: 2
A25: RECURSOS DE REVISIÓN
A26: NÚMERO TOTAL DE RECURSOS DE REVISIÓN | B26: 3
A27: RECURSOS DE REVISIÓN DESHECHADOS IMPROCEDENTES | B27: 0
A28: RECURSOS DE REVISIÓN DESHECHADOS SOBRESEÍDOS | B28: 0
A29: RECURSOS QUE CONFIRMAN EL ACTO O RESOLUCIÓN IMPUGNADA | B29: 0
A30: RECURSOS DE MODIFICAN EL ACTO O RESOLUCIÓN IMPUGNADA | B30: 0
A31: RECURSOS DE REVOCAN EL ACTO O RESOLUCIÓN IMPUGNADA | B31: 0

Sheet SEPTIEMBRE_2015
A2: TIPO DE ÁREA: UNIDAD ADMINISTRATIVA DE LA OFICILIA MAYOR ENTIDAD: DIRECCIÓN DE INFORMACIÓN PÚBLICA DEL TRIBUNAL SUPERIOR DE JUSTICIA INFORME: PERSONAS ATENDIDAS SEPTIEMBRE 2015 | B2: VALOR
A5: PERSONAS ATENDIDAS | B5: 36
A7: SOLICITUDES DE INFORMACIÓN PÚBLICA RECIBIDAS
A8: VÍA ELECTRÓNICA (INFOMEX, TELINFOCDMX Y CORREO ELECTRÓNICO) | B8: 111
A9: POR ESCRITO (FORMATO IMPRESO) | B9: 36
A10: SOLICITUDES DIRIGIDAS A JUZGADOS | B10: 13
A11: SOLICITUDES DIRIGIDAS A SALAS | B11: 1
A12: SOLICITUDES DIRIGIDAS A ÁREAS DE APOYO JUDICIAL | B12: 25
A13: SOLICITUDES DIRIGIDAS A ÁREAS ADMINISTRATIVAS | B13: 40
A15: SOLICITUDES DE INFORMACIÓN ENTREGADAS Y CASOS EN LOS QUE SE NEGÓ EL ACCESO
A16: SOLICITUDES EN LAS QUE HUBO ENTREGA TOTAL DE LA INFORMACIÓN | B16: 80
A17: SOLICITUDES EN LAS QUE SE DECLARÓ LA INEXISTENCIA DE INFORMACIÓN | B17: 0
A18: SOLICITUDES CUYA INFORMACIÓN SE ENCONTRABA BAJO EL SUPUESTO DE ACCESO RESTRINGIDO | B18: 0
A19: SOLICITUDES EN LAS QUE SE ENTREGÓ INFORMACIÓN DISTINTA A LA SOLICITADA O EN UN FORMATO INCOMPRENSIBLE | B19: 0
A20: SOLICITUDES EN LAS QUE HUBO ENTREGA PARCIAL DE INFORMACIÓN | B20: 0
A21: SOLICITUDES CANALIZADAS A OTRO ENTE PÚBLICO | B21: 1
A22: SOLICITUDES PREVENIDAS SIN DESAHOGO POR PARTE DEL PETICIONARIO | B22: 32
A23: SOLICITUDES ORIENTADAS PARA SU TRAMITACIÓN ANTE OTRO ENTE PÚBLICO POR PARTE DEL PETICIONARIO | B23: 6
A25: RECURSOS DE REVISIÓN
A26: NÚMERO TOTAL DE RECURSOS DE REVISIÓN | B26: 1
A27: RECURSOS DE REVISIÓN DESHECHADOS IMPROCEDENTES | B27: 0
A28: RECURSOS DE REVISIÓN DESHECHADOS SOBRESEÍDOS | B28: 6
A29: RECURSOS QUE CONFIRMAN EL ACTO O RESOLUCIÓN IMPUGNADA | B29: 0
A30: RECURSOS DE MODIFICAN EL ACTO O RESOLUCIÓN IMPUGNADA | B30: 1
A31: RECURSOS DE REVOCAN EL ACTO O RESOLUCIÓN IMPUGNADA | B31: 0

Sheet OCTUBRE_2015
A2: TIPO DE ÁREA: UNIDAD ADMINISTRATIVA DE LA OFICILIA MAYOR ENTIDAD: DIRECCIÓN DE INFORMACIÓN PÚBLICA DEL TRIBUNAL SUPERIOR DE JUSTICIA INFORME: PERSONAS ATENDIDAS OCTUBRE 2015 | B2: VALOR
A5: PERSONAS ATENDIDAS | B5: 35
A7: SOLICITUDES DE INFORMACIÓN PÚBLICA RECIBIDAS
A8: VÍA ELECTRÓNICA (INFOMEX, TELINFOCDMX Y CORREO ELECTRÓNICO) | B8: 169
A9: POR ESCRITO (FORMATO IMPRESO) | B9: 35
A10: SOLICITUDES DIRIGIDAS A JUZGADOS | B10: 0
A11: SOLICITUDES DIRIGIDAS A SALAS | B11: 0
A12: SOLICITUDES DIRIGIDAS A ÁREAS DE APOYO JUDICIAL | B12: 53
A13: SOLICITUDES DIRIGIDAS A ÁREAS ADMINISTRATIVAS | B13: 64
A15: SOLICITUDES DE INFORMACIÓN ENTREGADAS Y CASOS EN LOS QUE SE NEGÓ EL ACCESO
A16: SOLICITUDES EN LAS QUE HUBO ENTREGA TOTAL DE LA INFORMACIÓN | B16: 95
A17: SOLICITUDES EN LAS QUE SE DECLARÓ LA INEXISTENCIA DE INFORMACIÓN | B17: 0
A18: SOLICITUDES CUYA INFORMACIÓN SE ENCONTRABA BAJO EL SUPUESTO DE ACCESO RESTRINGIDO | B18: 0
A19: SOLICITUDES EN LAS QUE SE ENTREGÓ INFORMACIÓN DISTINTA A LA SOLICITADA O EN UN FORMATO INCOMPRENSIBLE | B19: 0
A20: SOLICITUDES EN LAS QUE HUBO ENTREGA PARCIAL DE INFORMACIÓN | B20: 0
A21: SOLICITUDES CANALIZADAS A OTRO ENTE PÚBLICO | B21: 16
A22: SOLICITUDES PREVENIDAS SIN DESAHOGO POR PARTE DEL PETICIONARIO | B22: 36
A23: SOLICITUDES ORIENTADAS PARA SU TRAMITACIÓN ANTE OTRO ENTE PÚBLICO POR PARTE DEL PETICIONARIO | B23: 3
A25: RECURSOS DE REVISIÓN
A26: NÚMERO TOTAL DE RECURSOS DE REVISIÓN | B26: 0
A27: RECURSOS DE REVISIÓN DESHECHADOS IMPROCEDENTES | B27: 0
A28: RECURSOS DE REVISIÓN DESHECHADOS SOBRESEÍDOS | B28: 0
A29: RECURSOS QUE CONFIRMAN EL ACTO O RESOLUCIÓN IMPUGNADA | B29: 1
A30: RECURSOS DE MODIFICAN EL ACTO O RESOLUCIÓN IMPUGNADA | B30: 1
A31: RECURSOS DE REVOCAN EL ACTO O RESOLUCIÓN IMPUGNADA | B31: 1

Sheet NOVIEMBRE_2015
A2: TIPO DE ÁREA: UNIDAD ADMINISTRATIVA DE LA OFICILIA MAYOR ENTIDAD: DIRECCIÓN DE INFORMACIÓN PÚBLICA DEL TRIBUNAL SUPERIOR DE JUSTICIA INFORME: PERSONAS ATENDIDAS NOVIEMBRE 2015 | B2: VALOR
A5: PERSONAS ATENDIDAS | B5: 31
A7: SOLICITUDES DE INFORMACIÓN PÚBLICA RECIBIDAS
A8: VÍA ELECTRÓNICA (INFOMEX, TELINFOCDMX Y CORREO ELECTRÓNICO) | B8: 135
A9: POR ESCRITO (FORMATO IMPRESO) | B9: 31
A10: SOLICITUDES DIRIGIDAS A JUZGADOS | B10: 9
A11: SOLICITUDES DIRIGIDAS A SALAS | B11: 1
A12: SOLICITUDES DIRIGIDAS A ÁREAS DE APOYO JUDICIAL | B12: 17
A13: SOLICITUDES DIRIGIDAS A ÁREAS ADMINISTRATIVAS | B13: 56
A15: SOLICITUDES DE INFORMACIÓN ENTREGADAS Y CASOS EN LOS QUE SE NEGÓ EL ACCESO
A16: SOLICITUDES EN LAS QUE HUBO ENTREGA TOTAL DE LA INFORMACIÓN | B16: 101
A17: SOLICITUDES EN LAS QUE SE DECLARÓ LA INEXISTENCIA DE INFORMACIÓN | B17: 2
A18: SOLICITUDES CUYA INFORMACIÓN SE ENCONTRABA BAJO EL SUPUESTO DE ACCESO RESTRINGIDO | B18: 0
A19: SOLICITUDES EN LAS QUE SE ENTREGÓ INFORMACIÓN DISTINTA A LA SOLICITADA O EN UN FORMATO INCOMPRENSIBLE | B19: 0
A20: SOLICITUDES EN LAS QUE HUBO ENTREGA PARCIAL DE INFORMACIÓN | B20: 0
A21: SOLICITUDES CANALIZADAS A OTRO ENTE PÚBLICO | B21: 12
A22: SOLICITUDES PREVENIDAS SIN DESAHOGO POR PARTE DEL PETICIONARIO | B22: 26
A23: SOLICITUDES ORIENTADAS PARA SU TRAMITACIÓN ANTE OTRO ENTE PÚBLICO POR PARTE DEL PETICIONARIO | B23: 7
A25: RECURSOS DE REVISIÓN
A26: NÚMERO TOTAL DE RECURSOS DE REVISIÓN | B26: 3
A27: RECURSOS DE REVISIÓN DESHECHADOS IMPROCEDENTES | B27: 0
A28: RECURSOS DE REVISIÓN DESHECHADOS SOBRESEÍDOS | B28: 1
A29: RECURSOS QUE CONFIRMAN EL ACTO O RESOLUCIÓN IMPUGNADA | B29: 0
A30: RECURSOS DE MODIFICAN EL ACTO O RESOLUCIÓN IMPUGNADA | B30: 1
A31: RECURSOS DE REVOCAN EL ACTO O RESOLUCIÓN IMPUGNADA | B31: 0

Sheet DICIEMBRE_2015
A2: TIPO DE ÁREA: UNIDAD ADMINISTRATIVA DE LA OFICILIA MAYOR ENTIDAD: DIRECCIÓN DE INFORMACIÓN PÚBLICA DEL TRIBUNAL SUPERIOR DE JUSTICIA INFORME: PERSONAS ATENDIDAS DICIEMBRE 2015 | B2: VALOR
A5: PERSONAS ATENDIDAS | B5: 10
A7: SOLICITUDES DE INFORMACIÓN PÚBLICA RECIBIDAS
A8: VÍA ELECTRÓNICA (INFOMEX, TELINFOCDMX Y CORREO ELECTRÓNICO) | B8: 36
A9: POR ESCRITO (FORMATO IMPRESO) | B9: 10
A10: SOLICITUDES DIRIGIDAS A JUZGADOS | B10: 2
A11: SOLICITUDES DIRIGIDAS A SALAS | B11: 1
A12: SOLICITUDES DIRIGIDAS A ÁREAS DE APOYO JUDICIAL | B12: 14
A13: SOLICITUDES DIRIGIDAS A ÁREAS ADMINISTRATIVAS | B13: 9
A15: SOLICITUDES DE INFORMACIÓN ENTREGADAS Y CASOS EN LOS QUE SE NEGÓ EL ACCESO
A16: SOLICITUDES EN LAS QUE HUBO ENTREGA TOTAL DE LA INFORMACIÓN | B16: 111
A17: SOLICITUDES EN LAS QUE SE DECLARÓ LA INEXISTENCIA DE INFORMACIÓN | B17: 0
A18: SOLICITUDES CUYA INFORMACIÓN SE ENCONTRABA BAJO EL SUPUESTO DE ACCESO RESTRINGIDO | B18: 0
A19: SOLICITUDES EN LAS QUE SE ENTREGÓ INFORMACIÓN DISTINTA A LA SOLICITADA O EN UN FORMATO INCOMPRENSIBLE | B19: 0
A20: SOLICITUDES EN LAS QUE HUBO ENTREGA PARCIAL DE INFORMACIÓN | B20: 0
A21: SOLICITUDES CANALIZADAS A OTRO ENTE PÚBLICO | B21: 1
A22: SOLICITUDES PREVENIDAS SIN DESAHOGO POR PARTE DEL PETICIONARIO | B22: 21
A23: SOLICITUDES ORIENTADAS PARA SU TRAMITACIÓN ANTE OTRO ENTE PÚBLICO POR PARTE DEL PETICIONARIO | B23: 0
A25: RECURSOS DE REVISIÓN
A26: NÚMERO TOTAL DE RECURSOS DE REVISIÓN | B26: 1
A27: RECURSOS DE REVISIÓN DESHECHADOS IMPROCEDENTES | B27: 0
A28: RECURSOS DE REVISIÓN DESHECHADOS SOBRESEÍDOS | B28: 0
A29: RECURSOS QUE CONFIRMAN EL ACTO O RESOLUCIÓN IMPUGNADA | B29: 0
A30: RECURSOS DE MODIFICAN EL ACTO O RESOLUCIÓN IMPUGNADA | B30: 0
A31: RECURSOS DE REVOCAN EL ACTO O RESOLUCIÓN IMPUGNADA | B31: 1

Sheet FEBRERO_2016
A2: TIPO DE ÁREA: UNIDAD ADMINISTRATIVA DE LA OFICILIA MAYOR ENTIDAD: DIRECCIÓN DE INFORMACIÓN PÚBLICA DEL TRIBUNAL SUPERIOR DE JUSTICIA INFORME: PERSONAS ATENDIDAS FEBRERO 2016 | B2: VALOR
A5: PERSONAS ATENDIDAS | B5: 45
A7: SOLICITUDES DE INFORMACIÓN PÚBLICA RECIBIDAS
A8: VÍA ELECTRÓNICA (INFOMEX, TELINFOCDMX Y CORREO ELECTRÓNICO) | B8: 190
A9: POR ESCRITO (FORMATO IMPRESO) | B9: 45
A10: SOLICITUDES DIRIGIDAS A JUZGADOS | B10: 5
A11: SOLICITUDES DIRIGIDAS A SALAS | B11: 2
A12: SOLICITUDES DIRIGIDAS A ÁREAS DE APOYO JUDICIAL | B12: 51
A13: SOLICITUDES DIRIGIDAS A ÁREAS ADMINISTRATIVAS | B13: 90
A15: SOLICITUDES DE INFORMACIÓN ENTREGADAS Y CASOS EN LOS QUE SE NEGÓ EL ACCESO
A16: SOLICITUDES EN LAS QUE HUBO ENTREGA TOTAL DE LA INFORMACIÓN | B16: 131
A17: SOLICITUDES EN LAS QUE SE DECLARÓ LA INEXISTENCIA DE INFORMACIÓN | B17: 0
A18: SOLICITUDES CUYA INFORMACIÓN SE ENCONTRABA BAJO EL SUPUESTO DE ACCESO RESTRINGIDO | B18: 0
A19: SOLICITUDES EN LAS QUE SE ENTREGÓ INFORMACIÓN DISTINTA A LA SOLICITADA O EN UN FORMATO INCOMPRENSIBLE | B19: 0
A20: SOLICITUDES EN LAS QUE HUBO ENTREGA PARCIAL DE INFORMACIÓN | B20: 0
A21: SOLICITUDES CANALIZADAS A OTRO ENTE PÚBLICO | B21: 15
A22: SOLICITUDES PREVENIDAS SIN DESAHOGO POR PARTE DEL PETICIONARIO | B22: 40
A23: SOLICITUDES ORIENTADAS PARA SU TRAMITACIÓN ANTE OTRO ENTE PÚBLICO POR PARTE DEL PETICIONARIO | B23: 13
A25: RECURSOS DE REVISIÓN
A26: NÚMERO TOTAL DE RECURSOS DE REVISIÓN | B26: 1
A27: RECURSOS DE REVISIÓN DESHECHADOS IMPROCEDENTES | B27: 0
A28: RECURSOS DE REVISIÓN DESHECHADOS SOBRESEÍDOS | B28: 2
A29: RECURSOS QUE CONFIRMAN EL ACTO O RESOLUCIÓN IMPUGNADA | B29: 0
A30: RECURSOS DE MODIFICAN EL ACTO O RESOLUCIÓN IMPUGNADA | B30: 0
A31: RECURSOS DE REVOCAN EL ACTO O RESOLUCIÓN IMPUGNADA | B31: 0

Sheet MARZO_2016
A2: TIPO DE ÁREA: UNIDAD ADMINISTRATIVA DE LA OFICILIA MAYOR ENTIDAD: DIRECCIÓN DE INFORMACIÓN PÚBLICA DEL TRIBUNAL SUPERIOR DE JUSTICIA INFORME: PERSONAS ATENDIDAS MARZO 2016 | B2: VALOR
A5: PERSONAS ATENDIDAS | B5: 36
A7: SOLICITUDES DE INFORMACIÓN PÚBLICA RECIBIDAS
A8: VÍA ELECTRÓNICA (INFOMEX, TELINFOCDMX Y CORREO ELECTRÓNICO) | B8: 145
A9: POR ESCRITO (FORMATO IMPRESO) | B9: 36
A10: SOLICITUDES DIRIGIDAS A JUZGADOS | B10: 3
A11: SOLICITUDES DIRIGIDAS A SALAS | B11: 3
A12: SOLICITUDES DIRIGIDAS A ÁREAS DE APOYO JUDICIAL | B12: 55
A13: SOLICITUDES DIRIGIDAS A ÁREAS ADMINISTRATIVAS | B13: 61
A15: SOLICITUDES DE INFORMACIÓN ENTREGADAS Y CASOS EN LOS QUE SE NEGÓ EL ACCESO
A16: SOLICITUDES EN LAS QUE HUBO ENTREGA TOTAL DE LA INFORMACIÓN | B16: 122
A17: SOLICITUDES EN LAS QUE SE DECLARÓ LA INEXISTENCIA DE INFORMACIÓN | B17: 0
A18: SOLICITUDES CUYA INFORMACIÓN SE ENCONTRABA BAJO EL SUPUESTO DE ACCESO RESTRINGIDO | B18: 0
A19: SOLICITUDES EN LAS QUE SE ENTREGÓ INFORMACIÓN DISTINTA A LA SOLICITADA O EN UN FORMATO INCOMPRENSIBLE | B19: 0
A20: SOLICITUDES EN LAS QUE HUBO ENTREGA PARCIAL DE INFORMACIÓN | B20: 0
A21: SOLICITUDES CANALIZADAS A OTRO ENTE PÚBLICO | B21: 9
A22: SOLICITUDES PREVENIDAS SIN DESAHOGO POR PARTE DEL PETICIONARIO | B22: 29
A23: SOLICITUDES ORIENTADAS PARA SU TRAMITACIÓN ANTE OTRO ENTE PÚBLICO POR PARTE DEL PETICIONARIO | B23: 5
A25: RECURSOS DE REVISIÓN
A26: NÚMERO TOTAL DE RECURSOS DE REVISIÓN | B26: 2
A27: RECURSOS DE REVISIÓN DESHECHADOS IMPROCEDENTES | B27: 0
A28: RECURSOS DE REVISIÓN DESHECHADOS SOBRESEÍDOS | B28: 2
A29: RECURSOS QUE CONFIRMAN EL ACTO O RESOLUCIÓN IMPUGNADA | B29: 0
A30: RECURSOS DE MODIFICAN EL ACTO O RESOLUCIÓN IMPUGNADA | B30: 1
A31: RECURSOS DE REVOCAN EL ACTO O RESOLUCIÓN IMPUGNADA | B31: 1

Sheet ABRIL_2016
A2: TIPO DE ÁREA: UNIDAD ADMINISTRATIVA DE LA OFICILIA MAYOR ENTIDAD: DIRECCIÓN DE INFORMACIÓN PÚBLICA DEL TRIBUNAL SUPERIOR DE JUSTICIA INFORME: PERSONAS ATENDIDAS ABRIL 2016 | B2: VALOR
A5: PERSONAS ATENDIDAS | B5: 38
A7: SOLICITUDES DE INFORMACIÓN PÚBLICA RECIBIDAS
A8: VÍA ELECTRÓNICA (INFOMEX, TELINFOCDMX Y CORREO ELECTRÓNICO) | B8: 178
A9: POR ESCRITO (FORMATO IMPRESO) | B9: 38
A10: SOLICITUDES DIRIGIDAS A JUZGADOS | B10: 15
A11: SOLICITUDES DIRIGIDAS A SALAS | B11: 11
A12: SOLICITUDES DIRIGIDAS A ÁREAS DE APOYO JUDICIAL | B12: 60
A13: SOLICITUDES DIRIGIDAS A ÁREAS ADMINISTRATIVAS | B13: 43
A15: SOLICITUDES DE INFORMACIÓN ENTREGADAS Y CASOS EN LOS QUE SE NEGÓ EL ACCESO
A16: SOLICITUDES EN LAS QUE HUBO ENTREGA TOTAL DE LA INFORMACIÓN | B16: 130
A17: SOLICITUDES EN LAS QUE SE DECLARÓ LA INEXISTENCIA DE INFORMACIÓN | B17: 0
A18: SOLICITUDES CUYA INFORMACIÓN SE ENCONTRABA BAJO EL SUPUESTO DE ACCESO RESTRINGIDO | B18: 0
A19: SOLICITUDES EN LAS QUE SE ENTREGÓ INFORMACIÓN DISTINTA A LA SOLICITADA O EN UN FORMATO INCOMPRENSIBLE | B19: 0
A20: SOLICITUDES EN LAS QUE HUBO ENTREGA PARCIAL DE INFORMACIÓN | B20: 0
A21: SOLICITUDES CANALIZADAS A OTRO ENTE PÚBLICO | B21: 8
A22: SOLICITUDES PREVENIDAS SIN DESAHOGO POR PARTE DEL PETICIONARIO | B22: 45
A23: SOLICITUDES ORIENTADAS PARA SU TRAMITACIÓN ANTE OTRO ENTE PÚBLICO POR PARTE DEL PETICIONARIO | B23: 3
A25: RECURSOS DE REVISIÓN
A26: NÚMERO TOTAL DE RECURSOS DE REVISIÓN | B26: 2
A27: RECURSOS DE REVISIÓN DESHECHADOS IMPROCEDENTES | B27: 0
A28: RECURSOS DE REVISIÓN DESHECHADOS SOBRESEÍDOS | B28: 2
A29: RECURSOS QUE CONFIRMAN EL ACTO O RESOLUCIÓN IMPUGNADA | B29: 1
A30: RECURSOS DE MODIFICAN EL ACTO O RESOLUCIÓN IMPUGNADA | B30: 0
A31: RECURSOS DE REVOCAN EL ACTO O RESOLUCIÓN IMPUGNADA | B31: 1

Sheet MAYO_2016
A2: TIPO DE ÁREA: UNIDAD ADMINISTRATIVA DE LA OFICILIA MAYOR ENTIDAD: DIRECCIÓN DE INFORMACIÓN PÚBLICA DEL TRIBUNAL SUPERIOR DE JUSTICIA INFORME: PERSONAS ATENDIDAS MAYO 2016 | B2: VALOR
A5: PERSONAS ATENDIDAS | B5: 45
A7: SOLICITUDES DE INFORMACIÓN PÚBLICA RECIBIDAS
A8: VÍA ELECTRÓNICA (INFOMEX, TELINFOCDMX Y CORREO ELECTRÓNICO) | B8: 298
A9: POR ESCRITO (FORMATO IMPRESO) | B9: 45
A10: SOLICITUDES DIRIGIDAS A JUZGADOS | B10: 4
A11: SOLICITUDES DIRIGIDAS A SALAS | B11: 0
A12: SOLICITUDES DIRIGIDAS A ÁREAS DE APOYO JUDICIAL | B12: 50
A13: SOLICITUDES DIRIGIDAS A ÁREAS ADMINISTRATIVAS | B13: 64
A15: SOLICITUDES DE INFORMACIÓN ENTREGADAS Y CASOS EN LOS QUE SE NEGÓ EL ACCESO
A16: SOLICITUDES EN LAS QUE HUBO ENTREGA TOTAL DE LA INFORMACIÓN | B16: 144
A17: SOLICITUDES EN LAS QUE SE DECLARÓ LA INEXISTENCIA DE INFORMACIÓN | B17: 0
A18: SOLICITUDES CUYA INFORMACIÓN SE ENCONTRABA BAJO EL SUPUESTO DE ACCESO RESTRINGIDO | B18: 0
A19: SOLICITUDES EN LAS QUE SE ENTREGÓ INFORMACIÓN DISTINTA A LA SOLICITADA O EN UN FORMATO INCOMPRENSIBLE | B19: 0
A20: SOLICITUDES EN LAS QUE HUBO ENTREGA PARCIAL DE INFORMACIÓN | B20: 0
A21: SOLICITUDES CANALIZADAS A OTRO ENTE PÚBLICO | B21: 8
A22: SOLICITUDES PREVENIDAS SIN DESAHOGO POR PARTE DEL PETICIONARIO | B22: 98
A23: SOLICITUDES ORIENTADAS PARA SU TRAMITACIÓN ANTE OTRO ENTE PÚBLICO POR PARTE DEL PETICIONARIO | B23: 25
A25: RECURSOS DE REVISIÓN
A26: NÚMERO TOTAL DE RECURSOS DE REVISIÓN | B26: 2
A27: RECURSOS DE REVISIÓN DESHECHADOS IMPROCEDENTES | B27: 0
A28: RECURSOS DE REVISIÓN DESHECHADOS SOBRESEÍDOS | B28: 1
A29: RECURSOS QUE CONFIRMAN EL ACTO O RESOLUCIÓN IMPUGNADA | B29: 1
A30: RECURSOS DE MODIFICAN EL ACTO O RESOLUCIÓN IMPUGNADA | B30: 0
A31: RECURSOS DE REVOCAN EL ACTO O RESOLUCIÓN IMPUGNADA | B31: 0

Sheet JUNIO_2016
A2: TIPO DE ÁREA: UNIDAD ADMINISTRATIVA DE LA OFICILIA MAYOR ENTIDAD: DIRECCIÓN DE INFORMACIÓN PÚBLICA DEL TRIBUNAL SUPERIOR DE JUSTICIA INFORME: PERSONAS ATENDIDAS JUNIO 2016 | B2: VALOR
A5: PERSONAS ATENDIDAS | B5: 84
A7: SOLICITUDES DE INFORMACIÓN PÚBLICA RECIBIDAS
A8: VÍA ELECTRÓNICA (INFOMEX, TELINFOCDMX Y CORREO ELECTRÓNICO) | B8: 176
A9: POR ESCRITO (FORMATO IMPRESO) | B9: 84
A10: SOLICITUDES DIRIGIDAS A JUZGADOS | B10: 17
A11: SOLICITUDES DIRIGIDAS A SALAS | B11: 3
A12: SOLICITUDES DIRIGIDAS A ÁREAS DE APOYO JUDICIAL | B12: 41
A13: SOLICITUDES DIRIGIDAS A ÁREAS ADMINISTRATIVAS | B13: 113
A15: SOLICITUDES DE INFORMACIÓN ENTREGADAS Y CASOS EN LOS QUE SE NEGÓ EL ACCESO
A16: SOLICITUDES EN LAS QUE HUBO ENTREGA TOTAL DE LA INFORMACIÓN | B16: 167
A17: SOLICITUDES EN LAS QUE SE DECLARÓ LA INEXISTENCIA DE INFORMACIÓN | B17: 0
A18: SOLICITUDES CUYA INFORMACIÓN SE ENCONTRABA BAJO EL SUPUESTO DE ACCESO RESTRINGIDO | B18: 6
A19: SOLICITUDES EN LAS QUE SE ENTREGÓ INFORMACIÓN DISTINTA A LA SOLICITADA O EN UN FORMATO INCOMPRENSIBLE | B19: 0
A20: SOLICITUDES EN LAS QUE HUBO ENTREGA PARCIAL DE INFORMACIÓN | B20: 0
A21: SOLICITUDES CANALIZADAS A OTRO ENTE PÚBLICO | B21: 0
A22: SOLICITUDES PREVENIDAS SIN DESAHOGO POR PARTE DEL PETICIONARIO | B22: 35
A23: SOLICITUDES ORIENTADAS PARA SU TRAMITACIÓN ANTE OTRO ENTE PÚBLICO POR PARTE DEL PETICIONARIO | B23: 14
A25: RECURSOS DE REVISIÓN
A26: NÚMERO TOTAL DE RECURSOS DE REVISIÓN | B26: 3
A27: RECURSOS DE REVISIÓN DESHECHADOS IMPROCEDENTES | B27: 0
A28: RECURSOS DE REVISIÓN DESHECHADOS SOBRESEÍDOS | B28: 1
A29: RECURSOS QUE CONFIRMAN EL ACTO O RESOLUCIÓN IMPUGNADA | B29: 0
A30: RECURSOS DE MODIFICAN EL ACTO O RESOLUCIÓN IMPUGNADA | B30: 1
A31: RECURSOS DE REVOCAN EL ACTO O RESOLUCIÓN IMPUGNADA | B31: 0

Sheet JULIO_2016
A2: TIPO DE ÁREA: UNIDAD ADMINISTRATIVA DE LA OFICILIA MAYOR ENTIDAD: DIRECCIÓN DE INFORMACIÓN PÚBLICA DEL TRIBUNAL SUPERIOR DE JUSTICIA INFORME: PERSONAS ATENDIDAS JULIO 2016 | B2: VALOR
A5: PERSONAS ATENDIDAS | B5: 22
A7: SOLICITUDES DE INFORMACIÓN PÚBLICA RECIBIDAS
A8: VÍA ELECTRÓNICA (INFOMEX, TELINFOCDMX Y CORREO ELECTRÓNICO) | B8: 67
A9: POR ESCRITO (FORMATO IMPRESO) | B9: 22
A10: SOLICITUDES DIRIGIDAS A JUZGADOS | B10: 6
A11: SOLICITUDES DIRIGIDAS A SALAS | B11: 1
A12: SOLICITUDES DIRIGIDAS A ÁREAS DE APOYO JUDICIAL | B12: 4
A13: SOLICITUDES DIRIGIDAS A ÁREAS ADMINISTRATIVAS | B13: 50
A15: SOLICITUDES DE INFORMACIÓN ENTREGADAS Y CASOS EN LOS QUE SE NEGÓ EL ACCESO
A16: SOLICITUDES EN LAS QUE HUBO ENTREGA TOTAL DE LA INFORMACIÓN | B16: 70
A17: SOLICITUDES EN LAS QUE SE DECLARÓ LA INEXISTENCIA DE INFORMACIÓN | B17: 0
A18: SOLICITUDES CUYA INFORMACIÓN SE ENCONTRABA BAJO EL SUPUESTO DE ACCESO RESTRINGIDO | B18: 2
A19: SOLICITUDES EN LAS QUE SE ENTREGÓ INFORMACIÓN DISTINTA A LA SOLICITADA O EN UN FORMATO INCOMPRENSIBLE | B19: 0
A20: SOLICITUDES EN LAS QUE HUBO ENTREGA PARCIAL DE INFORMACIÓN | B20: 0
A21: SOLICITUDES CANALIZADAS A OTRO ENTE PÚBLICO | B21: 0
A22: SOLICITUDES PREVENIDAS SIN DESAHOGO POR PARTE DEL PETICIONARIO | B22: 9
A23: SOLICITUDES ORIENTADAS PARA SU TRAMITACIÓN ANTE OTRO ENTE PÚBLICO POR PARTE DEL PETICIONARIO | B23: 12
A25: RECURSOS DE REVISIÓN
A26: NÚMERO TOTAL DE RECURSOS DE REVISIÓN | B26: 0
A27: RECURSOS DE REVISIÓN DESHECHADOS IMPROCEDENTES | B27: 0
A28: RECURSOS DE REVISIÓN DESHECHADOS SOBRESEÍDOS | B28: 0
A29: RECURSOS QUE CONFIRMAN EL ACTO O RESOLUCIÓN IMPUGNADA | B29: 0
A30: RECURSOS DE MODIFICAN EL ACTO O RESOLUCIÓN IMPUGNADA | B30: 0
A31: RECURSOS DE REVOCAN EL ACTO O RESOLUCIÓN IMPUGNADA | B31: 0

Sheet AGOSTO_2016
A2: TIPO DE ÁREA: UNIDAD ADMINISTRATIVA DE LA OFICILIA MAYOR ENTIDAD: DIRECCIÓN DE INFORMACIÓN PÚBLICA DEL TRIBUNAL SUPERIOR DE JUSTICIA INFORME: PERSONAS ATENDIDAS AGOSTO 2016 | B2: VALOR
A5: PERSONAS ATENDIDAS | B5: 53
A7: SOLICITUDES DE INFORMACIÓN PÚBLICA RECIBIDAS
A8: VÍA ELECTRÓNICA (INFOMEX, TELINFOCDMX Y CORREO ELECTRÓNICO) | B8: 180
A9: POR ESCRITO (FORMATO IMPRESO) | B9: 53
A10: SOLICITUDES DIRIGIDAS A JUZGADOS | B10: 20
A11: SOLICITUDES DIRIGIDAS A SALAS | B11: 3
A12: SOLICITUDES DIRIGIDAS A ÁREAS DE APOYO JUDICIAL | B12: 70
A13: SOLICITUDES DIRIGIDAS A ÁREAS ADMINISTRATIVAS | B13: 85
A15: SOLICITUDES DE INFORMACIÓN ENTREGADAS Y CASOS EN LOS QUE SE NEGÓ EL ACCESO
A16: SOLICITUDES EN LAS QUE HUBO ENTREGA TOTAL DE LA INFORMACIÓN | B16: 175
A17: SOLICITUDES EN LAS QUE SE DECLARÓ LA INEXISTENCIA DE INFORMACIÓN | B17: 0
A18: SOLICITUDES CUYA INFORMACIÓN SE ENCONTRABA BAJO EL SUPUESTO DE ACCESO RESTRINGIDO | B18: 4
A19: SOLICITUDES EN LAS QUE SE ENTREGÓ INFORMACIÓN DISTINTA A LA SOLICITADA O EN UN FORMATO INCOMPRENSIBLE | B19: 0
A20: SOLICITUDES EN LAS QUE HUBO ENTREGA PARCIAL DE INFORMACIÓN | B20: 0
A21: SOLICITUDES CANALIZADAS A OTRO ENTE PÚBLICO | B21: 0
A22: SOLICITUDES PREVENIDAS SIN DESAHOGO POR PARTE DEL PETICIONARIO | B22: 40
A23: SOLICITUDES ORIENTADAS PARA SU TRAMITACIÓN ANTE OTRO ENTE PÚBLICO POR PARTE DEL PETICIONARIO | B23: 20
A25: RECURSOS DE REVISIÓN
A26: NÚMERO TOTAL DE RECURSOS DE REVISIÓN | B26: 8
A27: RECURSOS DE REVISIÓN DESHECHADOS IMPROCEDENTES | B27: 0
A28: RECURSOS DE REVISIÓN DESHECHADOS SOBRESEÍDOS | B28: 3
A29: RECURSOS QUE CONFIRMAN EL ACTO O RESOLUCIÓN IMPUGNADA | B29: 1
A30: RECURSOS DE MODIFICAN EL ACTO O RESOLUCIÓN IMPUGNADA | B30: 0
A31: RECURSOS DE REVOCAN EL ACTO O RESOLUCIÓN IMPUGNADA | B31: 1

Sheet SEPTIEMBRE_2016
A2: TIPO DE ÁREA: UNIDAD ADMINISTRATIVA DE LA OFICILIA MAYOR ENTIDAD: DIRECCIÓN DE INFORMACIÓN PÚBLICA DEL TRIBUNAL SUPERIOR DE JUSTICIA INFORME: PERSONAS ATENDIDAS SEPTIEMBRE 2016 | B2: VALOR
A5: PERSONAS ATENDIDAS | B5: 47
A7: SOLICITUDES DE INFORMACIÓN PÚBLICA RECIBIDAS
A8: VÍA ELECTRÓNICA (INFOMEX, TELINFOCDMX Y CORREO ELECTRÓNICO) | B8: 190
A9: POR ESCRITO (FORMATO IMPRESO) | B9: 47
A10: SOLICITUDES DIRIGIDAS A JUZGADOS | B10: 5
A11: SOLICITUDES DIRIGIDAS A SALAS | B11: 2
A12: SOLICITUDES DIRIGIDAS A ÁREAS DE APOYO JUDICIAL | B12: 40
A13: SOLICITUDES DIRIGIDAS A ÁREAS ADMINISTRATIVAS | B13: 80
A15: SOLICITUDES DE INFORMACIÓN ENTREGADAS Y CASOS EN LOS QUE SE NEGÓ EL ACCESO
A16: SOLICITUDES EN LAS QUE HUBO ENTREGA TOTAL DE LA INFORMACIÓN | B16: 123
A17: SOLICITUDES EN LAS QUE SE DECLARÓ LA INEXISTENCIA DE INFORMACIÓN | B17: 0
A18: SOLICITUDES CUYA INFORMACIÓN SE ENCONTRABA BAJO EL SUPUESTO DE ACCESO RESTRINGIDO | B18: 5
A19: SOLICITUDES EN LAS QUE SE ENTREGÓ INFORMACIÓN DISTINTA A LA SOLICITADA O EN UN FORMATO INCOMPRENSIBLE | B19: 0
A20: SOLICITUDES EN LAS QUE HUBO ENTREGA PARCIAL DE INFORMACIÓN | B20: 0
A21: SOLICITUDES CANALIZADAS A OTRO ENTE PÚBLICO | B21: 0
A22: SOLICITUDES PREVENIDAS SIN DESAHOGO POR PARTE DEL PETICIONARIO | B22: 24
A23: SOLICITUDES ORIENTADAS PARA SU TRAMITACIÓN ANTE OTRO ENTE PÚBLICO POR PARTE DEL PETICIONARIO | B23: 15
A25: RECURSOS DE REVISIÓN
A26: NÚMERO TOTAL DE RECURSOS DE REVISIÓN | B26: 6
A27: RECURSOS DE REVISIÓN DESHECHADOS IMPROCEDENTES | B27: 0
A28: RECURSOS DE REVISIÓN DESHECHADOS SOBRESEÍDOS | B28: 1
A29: RECURSOS QUE CONFIRMAN EL ACTO O RESOLUCIÓN IMPUGNADA | B29: 0
A30: RECURSOS DE MODIFICAN EL ACTO O RESOLUCIÓN IMPUGNADA | B30: 4
A31: RECURSOS DE REVOCAN EL ACTO O RESOLUCIÓN IMPUGNADA | B31: 0

Sheet OCTUBRE_2016
A2: TIPO DE ÁREA: UNIDAD ADMINISTRATIVA DE LA OFICILIA MAYOR ENTIDAD: DIRECCIÓN DE INFORMACIÓN PÚBLICA DEL TRIBUNAL SUPERIOR DE JUSTICIA INFORME: PERSONAS ATENDIDAS OCTUBRE 2016 | B2: VALOR
A5: PERSONAS ATENDIDAS | B5: 37
A7: SOLICITUDES DE INFORMACIÓN PÚBLICA RECIBIDAS
A8: VÍA ELECTRÓNICA (INFOMEX, TELINFOCDMX Y CORREO ELECTRÓNICO) | B8: 165
A9: POR ESCRITO (FORMATO IMPRESO) | B9: 37
A10: SOLICITUDES DIRIGIDAS A JUZGADOS | B10: 13
A11: SOLICITUDES DIRIGIDAS A SALAS | B11: 9
A12: SOLICITUDES DIRIGIDAS A ÁREAS DE APOYO JUDICIAL | B12: 42
A13: SOLICITUDES DIRIGIDAS A ÁREAS ADMINISTRATIVAS | B13: 89
A15: SOLICITUDES DE INFORMACIÓN ENTREGADAS Y CASOS EN LOS QUE SE NEGÓ EL ACCESO
A16: SOLICITUDES EN LAS QUE HUBO ENTREGA TOTAL DE LA INFORMACIÓN | B16: 135
A17: SOLICITUDES EN LAS QUE SE DECLARÓ LA INEXISTENCIA DE INFORMACIÓN | B17: 0
A18: SOLICITUDES CUYA INFORMACIÓN SE ENCONTRABA BAJO EL SUPUESTO DE ACCESO RESTRINGIDO | B18: 10
A19: SOLICITUDES EN LAS QUE SE ENTREGÓ INFORMACIÓN DISTINTA A LA SOLICITADA O EN UN FORMATO INCOMPRENSIBLE | B19: 0
A20: SOLICITUDES EN LAS QUE HUBO ENTREGA PARCIAL DE INFORMACIÓN | B20: 0
A21: SOLICITUDES CANALIZADAS A OTRO ENTE PÚBLICO | B21: 0
A22: SOLICITUDES PREVENIDAS SIN DESAHOGO POR PARTE DEL PETICIONARIO | B22: 20
A23: SOLICITUDES ORIENTADAS PARA SU TRAMITACIÓN ANTE OTRO ENTE PÚBLICO POR PARTE DEL PETICIONARIO | B23: 16
A25: RECURSOS DE REVISIÓN
A26: NÚMERO TOTAL DE RECURSOS DE REVISIÓN | B26: 4
A27: RECURSOS DE REVISIÓN DESHECHADOS IMPROCEDENTES | B27: 0
A28: RECURSOS DE REVISIÓN DESHECHADOS SOBRESEÍDOS | B28: 1
A29: RECURSOS QUE CONFIRMAN EL ACTO O RESOLUCIÓN IMPUGNADA | B29: 4
A30: RECURSOS DE MODIFICAN EL ACTO O RESOLUCIÓN IMPUGNADA | B30: 0
A31: RECURSOS DE REVOCAN EL ACTO O RESOLUCIÓN IMPUGNADA | B31: 2

Sheet NOVIEMBRE_2016
A2: TIPO DE ÁREA: UNIDAD ADMINISTRATIVA DE LA OFICILIA MAYOR ENTIDAD: DIRECCIÓN DE INFORMACIÓN PÚBLICA DEL TRIBUNAL SUPERIOR DE JUSTICIA INFORME: PERSONAS ATENDIDAS NOVIEMBRE 2016 | B2: VALOR
A5: PERSONAS ATENDIDAS | B5: 45
A7: SOLICITUDES DE INFORMACIÓN PÚBLICA RECIBIDAS
A8: VÍA ELECTRÓNICA (INFOMEX, TELINFOCDMX Y CORREO ELECTRÓNICO) | B8: 183
A9: POR ESCRITO (FORMATO IMPRESO) | B9: 45
A10: SOLICITUDES DIRIGIDAS A JUZGADOS | B10: 9
A11: SOLICITUDES DIRIGIDAS A SALAS | B11: 1
A12: SOLICITUDES DIRIGIDAS A ÁREAS DE APOYO JUDICIAL | B12: 56
A13: SOLICITUDES DIRIGIDAS A ÁREAS ADMINISTRATIVAS | B13: 61
A15: SOLICITUDES DE INFORMACIÓN ENTREGADAS Y CASOS EN LOS QUE SE NEGÓ EL ACCESO
A16: SOLICITUDES EN LAS QUE HUBO ENTREGA TOTAL DE LA INFORMACIÓN | B16: 119
A17: SOLICITUDES EN LAS QUE SE DECLARÓ LA INEXISTENCIA DE INFORMACIÓN | B17: 0
A18: SOLICITUDES CUYA INFORMACIÓN SE ENCONTRABA BAJO EL SUPUESTO DE ACCESO RESTRINGIDO | B18: 4
A19: SOLICITUDES EN LAS QUE SE ENTREGÓ INFORMACIÓN DISTINTA A LA SOLICITADA O EN UN FORMATO INCOMPRENSIBLE | B19: 0
A20: SOLICITUDES EN LAS QUE HUBO ENTREGA PARCIAL DE INFORMACIÓN | B20: 0
A21: SOLICITUDES CANALIZADAS A OTRO ENTE PÚBLICO | B21: 0
A22: SOLICITUDES PREVENIDAS SIN DESAHOGO POR PARTE DEL PETICIONARIO | B22: 20
A23: SOLICITUDES ORIENTADAS PARA SU TRAMITACIÓN ANTE OTRO ENTE PÚBLICO POR PARTE DEL PETICIONARIO | B23: 16
A25: RECURSOS DE REVISIÓN
A26: NÚMERO TOTAL DE RECURSOS DE REVISIÓN | B26: 3
A27: RECURSOS DE REVISIÓN DESHECHADOS IMPROCEDENTES | B27: 0
A28: RECURSOS DE REVISIÓN DESHECHADOS SOBRESEÍDOS | B28: 1
A29: RECURSOS QUE CONFIRMAN EL ACTO O RESOLUCIÓN IMPUGNADA | B29: 0
A30: RECURSOS DE MODIFICAN EL ACTO O RESOLUCIÓN IMPUGNADA | B30: 0
A31: RECURSOS DE REVOCAN EL ACTO O RESOLUCIÓN IMPUGNADA | B31: 0

Sheet DICIEMBRE_2016
A2: TIPO DE ÁREA: UNIDAD ADMINISTRATIVA DE LA OFICILIA MAYOR ENTIDAD: DIRECCIÓN DE INFORMACIÓN PÚBLICA DEL TRIBUNAL SUPERIOR DE JUSTICIA INFORME: PERSONAS ATENDIDAS DICIEMBRE 2016 | B2: VALOR
A5: PERSONAS ATENDIDAS | B5: 20
A7: SOLICITUDES DE INFORMACIÓN PÚBLICA RECIBIDAS
A8: VÍA ELECTRÓNICA (INFOMEX, TELINFOCDMX Y CORREO ELECTRÓNICO) | B8: 68
A9: POR ESCRITO (FORMATO IMPRESO) | B9: 20
A10: SOLICITUDES DIRIGIDAS A JUZGADOS | B10: 11
A11: SOLICITUDES DIRIGIDAS A SALAS | B11: 1
A12: SOLICITUDES DIRIGIDAS A ÁREAS DE APOYO JUDICIAL | B12: 14
A13: SOLICITUDES DIRIGIDAS A ÁREAS ADMINISTRATIVAS | B13: 17
A15: SOLICITUDES DE INFORMACIÓN ENTREGADAS Y CASOS EN LOS QUE SE NEGÓ EL ACCESO
A16: SOLICITUDES EN LAS QUE HUBO ENTREGA TOTAL DE LA INFORMACIÓN | B16: 92
A17: SOLICITUDES EN LAS QUE SE DECLARÓ LA INEXISTENCIA DE INFORMACIÓN | B17: 0
A18: SOLICITUDES CUYA INFORMACIÓN SE ENCONTRABA BAJO EL SUPUESTO DE ACCESO RESTRINGIDO | B18: 0
A19: SOLICITUDES EN LAS QUE SE ENTREGÓ INFORMACIÓN DISTINTA A LA SOLICITADA O EN UN FORMATO INCOMPRENSIBLE | B19: 0
A20: SOLICITUDES EN LAS QUE HUBO ENTREGA PARCIAL DE INFORMACIÓN | B20: 0
A21: SOLICITUDES CANALIZADAS A OTRO ENTE PÚBLICO | B21: 0
A22: SOLICITUDES PREVENIDAS SIN DESAHOGO POR PARTE DEL PETICIONARIO | B22: 11
A23: SOLICITUDES ORIENTADAS PARA SU TRAMITACIÓN ANTE OTRO ENTE PÚBLICO POR PARTE DEL PETICIONARIO | B23: 9
A25: RECURSOS DE REVISIÓN
A26: NÚMERO TOTAL DE RECURSOS DE REVISIÓN | B26: 3
A27: RECURSOS DE REVISIÓN DESHECHADOS IMPROCEDENTES | B27: 0
A28: RECURSOS DE REVISIÓN DESHECHADOS SOBRESEÍDOS | B28: 1
A29: RECURSOS QUE CONFIRMAN EL ACTO O RESOLUCIÓN IMPUGNADA | B29: 0
A30: RECURSOS DE MODIFICAN EL ACTO O RESOLUCIÓN IMPUGNADA | B30: 0
A31: RECURSOS DE REVOCAN EL ACTO O RESOLUCIÓN IMPUGNADA | B31: 0

Sheet 2026
A6: INFORMACIÓN ESTADÍSTICA, ENERO A JULIO 2026
A7: DIRECCIÓN DE UNIDAD DE TRANSPARENCIA / PERSONAS ATENDIDAS
A9: Rubros | B9: Enero | C9: Febrero | D9: Marzo | E9: Abril | F9: Mayo | G9: Junio | H9: Julio | I9: Agosto | J9: Septiembre | K9: Octubre | L9: Noviembre | M9: Diciembre | N9: Total
A10: PERSONAS ATENDIDAS | B10: 2 | C10: 0 | E10: En atención a los Acuerdos 02-12/2025, y OAJCDMX-19-21/2026 , emitidos por el H. Pleno del Órgano de Administración Judicial en fechas 03 de diciembre de 2025 y 14 de mayo, de 2026, respectivamente, mediante los cuales se autorizó la actualización e implementación de los Informes Estadísticos Mensuales de las diversas áreas del Poder Judicial de la Ciudad de México, los datos estadísticos del Sistema de Captura en Línea de Información Estadística (CLIE) de las áreas administrativas y de apoyo judicial correspondientes al periodo Abril - Julio 2026 , no están disponibles en razón de que la Dirección de Estadística de la Presidencia del Tribunal Superior de Justicia está en el proceso de implementación de los Informes Estadísticos Mensuales en el CLIE. | N10: =SUM(B10:M10) -> 2
A12: SOLICITUDES DE INFORMACIÓN PÚBLICA RECIBIDAS
A13: VÍA ELECTRÓNICA (INFOMEX, TELINFOCDMX Y CORREO ELECTRÓNICO) | B13: 147 | C13: 93 | N13: =SUM(B13:M13) -> 240
A14: POR ESCRITO (FORMATO IMPRESO) | B14: 2 | C14: 0 | N14: =SUM(B14:M14) -> 2
A15: SOLICITUDES DIRIGIDAS A JUZGADOS | B15: 12 | C15: 7 | N15: =SUM(B15:M15) -> 19
A16: SOLICITUDES DIRIGIDAS A SALAS | B16: 3 | C16: 1 | N16: =SUM(B16:M16) -> 4
A17: SOLICITUDES DIRIGIDAS A ÁREAS DE APOYO JUDICIAL | B17: 69 | C17: 26 | N17: =SUM(B17:M17) -> 95
A18: SOLICITUDES DIRIGIDAS A ÁREAS ADMINISTRATIVAS | B18: 76 | C18: 95 | N18: =SUM(B18:M18) -> 171
A20: SOLICITUDES DE INFORMACIÓN ENTREGADAS Y CASOS EN LOS QUE SE NEGÓ EL ACCESO
A21: SOLICITUDES EN LAS QUE HUBO ENTREGA TOTAL DE LA INFORMACIÓN | B21: 83 | C21: 60 | N21: =SUM(B21:M21) -> 143
A22: SOLICITUDES EN LAS QUE SE DECLARÓ LA INEXISTENCIA DE INFORMACIÓN | B22: 0 | C22: 0 | N22: =SUM(B22:M22) -> 0
A23: SOLICITUDES CUYA INFORMACIÓN SE ENCONTRABA BAJO EL SUPUESTO DE ACCESO RESTRINGIDO | B23: 0 | C23: 0 | N23: =SUM(B23:M23) -> 0
A24: SOLICITUDES EN LAS QUE SE ENTREGÓ INFORMACIÓN DISTINTA A LA SOLICITADA O EN UN FORMATO INCOMPRENSIBLE | B24: 0 | C24: 0 | N24: =SUM(B24:M24) -> 0
A25: SOLICITUDES EN LAS QUE HUBO ENTREGA PARCIAL DE INFORMACIÓN | B25: 0 | C25: 0 | N25: =SUM(B25:M25) -> 0
A26: SOLICITUDES CANALIZADAS A OTRO ENTE PÚBLICO | B26: 18 | C26: 12 | N26: =SUM(B26:M26) -> 30
A27: SOLICITUDES PREVENIDAS SIN DESAHOGO POR PARTE DEL PETICIONARIO | B27: 4 | C27: 0 | N27: =SUM(B27:M27) -> 4
A28: SOLICITUDES ORIENTADAS PARA SU TRAMITACIÓN ANTE OTRO ENTE PÚBLICO POR PARTE DEL PETICIONARIO | B28: 8 | C28: 2 | N28: =SUM(B28:M28) -> 10
A30: RECURSOS DE REVISIÓN
A31: NÚMERO TOTAL DE RECURSOS DE REVISIÓN | B31: 0 | C31: 0 | N31: =SUM(B31:M31) -> 0
A32: RECURSOS DE REVISIÓN DESHECHADOS IMPROCEDENTES | B32: 0 | C32: 0 | N32: =SUM(B32:M32) -> 0
A33: RECURSOS DE REVISIÓN DESHECHADOS SOBRESEÍDOS | B33: 0 | C33: 0 | N33: =SUM(B33:M33) -> 0
A34: RECURSOS QUE CONFIRMAN EL ACTO O RESOLUCIÓN IMPUGNADA | B34: 0 | C34: 0 | N34: =SUM(B34:M34) -> 0
A35: RECURSOS DE MODIFICAN EL ACTO O RESOLUCIÓN IMPUGNADA | B35: 0 | C35: 0 | N35: =SUM(B35:M35) -> 0
A36: RECURSOS DE REVOCAN EL ACTO O RESOLUCIÓN IMPUGNADA | B36: 0 | C36: 0 | N36: =SUM(B36:M36) -> 0

Sheet 2025
A6: INFORMACIÓN ESTADÍSTICA, ENERO A DICIEMBRE 2025
A7: DIRECCIÓN DE INFORMACIÓN PÚBLICA DEL TRIBUNAL SUPERIOR DE JUSTICIA / PERSONAS ATENDIDAS
A9: Rubros | B9: Enero | C9: Febrero | D9: Marzo | E9: Abril | F9: Mayo | G9: Junio | H9: Julio | I9: Agosto | J9: Septiembre | K9: Octubre | L9: Noviembre | M9: Diciembre | N9: Total
A10: PERSONAS ATENDIDAS | B10: 3 | C10: 0 | D10: 1 | E10: 0 | F10: 6 | G10: 0 | H10: 0 | I10: 0 | J10: 1 | K10: 1 | L10: 3 | M10: 0 | N10: =SUM(B10:M10) -> 15
A12: SOLICITUDES DE INFORMACIÓN PÚBLICA RECIBIDAS
A13: VÍA ELECTRÓNICA (INFOMEX, TELINFOCDMX Y CORREO ELECTRÓNICO) | B13: 191 | C13: 155 | D13: 196 | E13: 98 | F13: 135 | G13: 113 | H13: 133 | I13: 142 | J13: 175 | K13: 418 | L13: 187 | M13: 84 | N13: =SUM(B13:M13) -> 2027
A14: POR ESCRITO (FORMATO IMPRESO) | B14: 1 | C14: 1 | D14: 3 | E14: 9 | F14: 1 | G14: 0 | H14: 0 | I14: 0 | J14: 1 | K14: 1 | L14: 3 | M14: 0 | N14: =SUM(B14:M14) -> 20
A15: SOLICITUDES DIRIGIDAS A JUZGADOS | B15: 7 | C15: 4 | D15: 12 | E15: 7 | F15: 3 | G15: 1 | H15: 2 | I15: 4 | J15: 2 | K15: 2 | L15: 14 | M15: 2 | N15: =SUM(B15:M15) -> 60
A16: SOLICITUDES DIRIGIDAS A SALAS | B16: 0 | C16: 2 | D16: 0 | E16: 1 | F16: 0 | G16: 1 | H16: 1 | I16: 8 | J16: 1 | K16: 0 | L16: 0 | M16: 1 | N16: =SUM(B16:M16) -> 15
A17: SOLICITUDES DIRIGIDAS A ÁREAS DE APOYO JUDICIAL | B17: 30 | C17: 11 | D17: 37 | E17: 28 | F17: 13 | G17: 16 | H17: 9 | I17: 28 | J17: 19 | K17: 24 | L17: 222 | M17: 9 | N17: =SUM(B17:M17) -> 446
A18: SOLICITUDES DIRIGIDAS A ÁREAS ADMINISTRATIVAS | B18: 150 | C18: 122 | D18: 156 | E18: 74 | F18: 126 | G18: 145 | H18: 43 | I18: 125 | J18: 169 | K18: 329 | L18: 156 | M18: 47 | N18: =SUM(B18:M18) -> 1642
A20: SOLICITUDES DE INFORMACIÓN ENTREGADAS Y CASOS EN LOS QUE SE NEGÓ EL ACCESO
A21: SOLICITUDES EN LAS QUE HUBO ENTREGA TOTAL DE LA INFORMACIÓN | B21: 81 | C21: 34 | D21: 90 | E21: 24 | F21: 71 | G21: 107 | H21: 59 | I21: 80 | J21: 79 | K21: 106 | L21: 118 | M21: 80 | N21: =SUM(B21:M21) -> 929
A22: SOLICITUDES EN LAS QUE SE DECLARÓ LA INEXISTENCIA DE INFORMACIÓN | B22: 0 | C22: 1 | D22: 2 | E22: 0 | F22: 0 | G22: 0 | H22: 2 | I22: 0 | J22: 0 | K22: 0 | L22: 0 | M22: 0 | N22: =SUM(B22:M22) -> 5
A23: SOLICITUDES CUYA INFORMACIÓN SE ENCONTRABA BAJO EL SUPUESTO DE ACCESO RESTRINGIDO | B23: 0 | C23: 0 | D23: 2 | E23: 0 | F23: 0 | G23: 1 | H23: 10 | I23: 0 | J23: 0 | K23: 0 | L23: 0 | M23: 0 | N23: =SUM(B23:M23) -> 13
A24: SOLICITUDES EN LAS QUE SE ENTREGÓ INFORMACIÓN DISTINTA A LA SOLICITADA O EN UN FORMATO INCOMPRENSIBLE | B24: 0 | C24: 0 | D24: 0 | E24: 0 | F24: 0 | G24: 0 | H24: 0 | I24: 0 | J24: 0 | K24: 0 | L24: 0 | M24: 0 | N24: =SUM(B24:M24) -> 0
A25: SOLICITUDES EN LAS QUE HUBO ENTREGA PARCIAL DE INFORMACIÓN | B25: 0 | C25: 0 | D25: 0 | E25: 0 | F25: 0 | G25: 0 | H25: 0 | I25: 0 | J25: 0 | K25: 0 | L25: 0 | M25: 0 | N25: =SUM(B25:M25) -> 0
A26: SOLICITUDES CANALIZADAS A OTRO ENTE PÚBLICO | B26: 23 | C26: 7 | D26: 9 | E26: 11 | F26: 18 | G26: 0 | H26: 2 | I26: 6 | J26: 13 | K26: 13 | L26: 6 | M26: 2 | N26: =SUM(B26:M26) -> 110
A27: SOLICITUDES PREVENIDAS SIN DESAHOGO POR PARTE DEL PETICIONARIO | B27: 18 | C27: 2 | D27: 16 | E27: 7 | F27: 1 | G27: 1 | H27: 15 | I27: 8 | J27: 34 | K27: 144 | L27: 1 | M27: 0 | N27: =SUM(B27:M27) -> 247
A28: SOLICITUDES ORIENTADAS PARA SU TRAMITACIÓN ANTE OTRO ENTE PÚBLICO POR PARTE DEL PETICIONARIO | B28: 11 | C28: 5 | D28: 12 | E28: 13 | F28: 5 | G28: 26 | H28: 4 | I28: 4 | J28: 3 | K28: 7 | L28: 0 | M28: 2 | N28: =SUM(B28:M28) -> 92
A30: RECURSOS DE REVISIÓN
A31: NÚMERO TOTAL DE RECURSOS DE REVISIÓN | B31: 6 | C31: 8 | D31: 4 | E31: 7 | F31: 4 | G31: 4 | H31: 2 | I31: 1 | J31: 8 | K31: 6 | L31: 6 | M31: 4 | N31: =SUM(B31:M31) -> 60
A32: RECURSOS DE REVISIÓN DESHECHADOS IMPROCEDENTES | B32: 0 | C32: 0 | D32: 0 | E32: 0 | F32: 0 | G32: 0 | H32: 0 | I32: 0 | J32: 0 | K32: 1 | L32: 0 | M32: 0 | N32: =SUM(B32:M32) -> 1
A33: RECURSOS DE REVISIÓN DESHECHADOS SOBRESEÍDOS | B33: 3 | C33: 0 | D33: 3 | E33: 3 | F33: 6 | G33: 1 | H33: 1 | I33: 0 | J33: 3 | K33: 6 | L33: 3 | M33: 0 | N33: =SUM(B33:M33) -> 29
A34: RECURSOS QUE CONFIRMAN EL ACTO O RESOLUCIÓN IMPUGNADA | B34: 2 | C34: 0 | D34: 2 | E34: 0 | F34: 0 | G34: 0 | H34: 0 | I34: 0 | J34: 0 | K34: 2 | L34: 1 | M34: 0 | N34: =SUM(B34:M34) -> 7
A35: RECURSOS DE MODIFICAN EL ACTO O RESOLUCIÓN IMPUGNADA | B35: 1 | C35: 0 | D35: 1 | E35: 0 | F35: 1 | G35: 1 | H35: 1 | I35: 0 | J35: 0 | K35: 1 | L35: 4 | M35: 1 | N35: =SUM(B35:M35) -> 11
A36: RECURSOS DE REVOCAN EL ACTO O RESOLUCIÓN IMPUGNADA | B36: 0 | C36: 0 | D36: 2 | E36: 2 | F36: 2 | G36: 0 | H36: 0 | I36: 0 | J36: 0 | K36: 3 | L36: 2 | M36: 4 | N36: =SUM(B36:M36) -> 15

Sheet 2024
A6: INFORMACIÓN ESTADÍSTICA, ENERO A DICIEMBRE 2024
A7: DIRECCIÓN DE INFORMACIÓN PÚBLICA DEL TRIBUNAL SUPERIOR DE JUSTICIA / PERSONAS ATENDIDAS
A9: Rubros | B9: Enero | C9: Febrero | D9: Marzo | E9: Abril | F9: Mayo | G9: Junio | H9: Julio | I9: Agosto | J9: Septiembre | K9: Octubre | L9: Noviembre | M9: Diciembre | N9: Total
A10: PERSONAS ATENDIDAS | B10: 3 | C10: 4 | D10: 1 | E10: 4 | F10: 0 | G10: 0 | H10: 1 | I10: 4 | J10: 2 | K10: 1 | L10: 0 | M10: 4 | N10: =SUM(B10:M10) -> 24
A12: SOLICITUDES DE INFORMACIÓN PÚBLICA RECIBIDAS
A13: VÍA ELECTRÓNICA (INFOMEX, TELINFOCDMX Y CORREO ELECTRÓNICO) | B13: 177 | C13: 224 | D13: 145 | E13: 367 | F13: 180 | G13: 195 | H13: 69 | I13: 275 | J13: 134 | K13: 150 | L13: 139 | M13: 44 | N13: =SUM(B13:M13) -> 2099
A14: POR ESCRITO (FORMATO IMPRESO) | B14: 3 | C14: 4 | D14: 1 | E14: 4 | F14: 0 | G14: 0 | H14: 1 | I14: 4 | J14: 2 | K14: 1 | L14: 0 | M14: 4 | N14: =SUM(B14:M14) -> 24
A15: SOLICITUDES DIRIGIDAS A JUZGADOS | B15: 0 | C15: 8 | D15: 17 | E15: 4 | F15: 19 | G15: 23 | H15: 1 | I15: 10 | J15: 13 | K15: 6 | L15: 12 | M15: 0 | N15: =SUM(B15:M15) -> 113
A16: SOLICITUDES DIRIGIDAS A SALAS | B16: 2 | C16: 3 | D16: 8 | E16: 1 | F16: 0 | G16: 8 | H16: 2 | I16: 10 | J16: 5 | K16: 1 | L16: 3 | M16: 0 | N16: =SUM(B16:M16) -> 43
A17: SOLICITUDES DIRIGIDAS A ÁREAS DE APOYO JUDICIAL | B17: 23 | C17: 15 | D17: 11 | E17: 11 | F17: 18 | G17: 16 | H17: 13 | I17: 44 | J17: 16 | K17: 14 | L17: 15 | M17: 13 | N17: =SUM(B17:M17) -> 209
A18: SOLICITUDES DIRIGIDAS A ÁREAS ADMINISTRATIVAS | B18: 107 | C18: 167 | D18: 84 | E18: 220 | F18: 110 | G18: 176 | H18: 42 | I18: 158 | J18: 90 | K18: 144 | L18: 63 | M18: 31 | N18: =SUM(B18:M18) -> 1392
A20: SOLICITUDES DE INFORMACIÓN ENTREGADAS Y CASOS EN LOS QUE SE NEGÓ EL ACCESO
A21: SOLICITUDES EN LAS QUE HUBO ENTREGA TOTAL DE LA INFORMACIÓN | B21: 76 | C21: 269 | D21: 221 | E21: 283 | F21: 260 | G21: 202 | H21: 57 | I21: 323 | J21: 126 | K21: 141 | L21: 111 | M21: 54 | N21: =SUM(B21:M21) -> 2123
A22: SOLICITUDES EN LAS QUE SE DECLARÓ LA INEXISTENCIA DE INFORMACIÓN | B22: 0 | C22: 1 | D22: 3 | E22: 1 | F22: 1 | G22: 2 | H22: 2 | I22: 1 | J22: 1 | K22: 1 | L22: 0 | M22: 1 | N22: =SUM(B22:M22) -> 14
A23: SOLICITUDES CUYA INFORMACIÓN SE ENCONTRABA BAJO EL SUPUESTO DE ACCESO RESTRINGIDO | B23: 2 | C23: 4 | D23: 20 | E23: 7 | F23: 9 | G23: 23 | H23: 5 | I23: 26 | J23: 5 | K23: 0 | L23: 19 | M23: 0 | N23: =SUM(B23:M23) -> 120
A24: SOLICITUDES EN LAS QUE SE ENTREGÓ INFORMACIÓN DISTINTA A LA SOLICITADA O EN UN FORMATO INCOMPRENSIBLE | B24: 0 | C24: 0 | D24: 0 | E24: 6 | F24: 0 | G24: 0 | H24: 0 | I24: 0 | J24: 0 | K24: 0 | L24: 0 | M24: 0 | N24: =SUM(B24:M24) -> 6
A25: SOLICITUDES EN LAS QUE HUBO ENTREGA PARCIAL DE INFORMACIÓN | B25: 0 | C25: 0 | D25: 0 | E25: 0 | F25: 20 | G25: 0 | H25: 0 | I25: 0 | J25: 7 | K25: 0 | L25: 0 | M25: 0 | N25: =SUM(B25:M25) -> 27
A26: SOLICITUDES CANALIZADAS A OTRO ENTE PÚBLICO | B26: 8 | C26: 10 | D26: 8 | E26: 81 | F26: 20 | G26: 12 | H26: 16 | I26: 17 | J26: 9 | K26: 26 | L26: 28 | M26: 6 | N26: =SUM(B26:M26) -> 241
A27: SOLICITUDES PREVENIDAS SIN DESAHOGO POR PARTE DEL PETICIONARIO | B27: 18 | C27: 16 | D27: 7 | E27: 49 | F27: 5 | G27: 24 | H27: 3 | I27: 17 | J27: 9 | K27: 14 | L27: 9 | M27: 1 | N27: =SUM(B27:M27) -> 172
A28: SOLICITUDES ORIENTADAS PARA SU TRAMITACIÓN ANTE OTRO ENTE PÚBLICO POR PARTE DEL PETICIONARIO | B28: 10 | C28: 9 | D28: 5 | E28: 10 | F28: 4 | G28: 6 | H28: 7 | I28: 7 | J28: 7 | K28: 7 | L28: 7 | M28: 1 | N28: =SUM(B28:M28) -> 80
A30: RECURSOS DE REVISIÓN
A31: NÚMERO TOTAL DE RECURSOS DE REVISIÓN | B31: 3 | C31: 7 | D31: 8 | E31: 16 | F31: 9 | G31: 15 | H31: 4 | I31: 10 | J31: 5 | K31: 7 | L31: 5 | M31: 4 | N31: =SUM(B31:M31) -> 93
A32: RECURSOS DE REVISIÓN DESHECHADOS IMPROCEDENTES | B32: 0 | C32: 0 | D32: 0 | E32: 0 | F32: 0 | G32: 0 | H32: 0 | I32: 0 | J32: 0 | K32: 0 | L32: 0 | M32: 0 | N32: =SUM(B32:M32) -> 0
A33: RECURSOS DE REVISIÓN DESHECHADOS SOBRESEÍDOS | B33: 0 | C33: 2 | D33: 3 | E33: 10 | F33: 8 | G33: 13 | H33: 2 | I33: 7 | J33: 3 | K33: 3 | L33: 1 | M33: 0 | N33: =SUM(B33:M33) -> 52
A34: RECURSOS QUE CONFIRMAN EL ACTO O RESOLUCIÓN IMPUGNADA | B34: 1 | C34: 0 | D34: 0 | E34: 1 | F34: 0 | G34: 0 | H34: 0 | I34: 2 | J34: 1 | K34: 0 | L34: 0 | M34: 0 | N34: =SUM(B34:M34) -> 5
A35: RECURSOS DE MODIFICAN EL ACTO O RESOLUCIÓN IMPUGNADA | B35: 2 | C35: 1 | D35: 3 | E35: 3 | F35: 1 | G35: 2 | H35: 0 | I35: 1 | J35: 1 | K35: 0 | L35: 2 | M35: 0 | N35: =SUM(B35:M35) -> 16
A36: RECURSOS DE REVOCAN EL ACTO O RESOLUCIÓN IMPUGNADA | B36: 0 | C36: 4 | D36: 2 | E36: 2 | F36: 0 | G36: 0 | H36: 2 | I36: 0 | J36: 0 | K36: 0 | L36: 1 | M36: 0 | N36: =SUM(B36:M36) -> 11

Sheet 2023
A6: INFORMACIÓN ESTADÍSTICA, ENERO A DICIEMBRE 2023
A7: DIRECCIÓN DE INFORMACIÓN PÚBLICA DEL TRIBUNAL SUPERIOR DE JUSTICIA / PERSONAS ATENDIDAS
A9: Rubros | B9: Enero | C9: Febrero | D9: Marzo | E9: Abril | F9: Mayo | G9: Junio | H9: Julio | I9: Agosto | J9: Septiembre | K9: Octubre | L9: Noviembre | M9: Diciembre | N9: Total
A10: PERSONAS ATENDIDAS | B10: 2 | C10: 5 | D10: 4 | E10: 1 | F10: 4 | G10: 4 | H10: 64 | I10: 6 | J10: 0 | K10: 3 | L10: 3 | M10: 0 | N10: =SUM(B10:M10) -> 96
A12: SOLICITUDES DE INFORMACIÓN PÚBLICA RECIBIDAS
A13: VÍA ELECTRÓNICA (INFOMEX, TELINFOCDMX Y CORREO ELECTRÓNICO) | B13: 276 | C13: 209 | D13: 396 | E13: 213 | F13: 294 | G13: 198 | H13: 63 | I13: 367 | J13: 195 | K13: 121 | L13: 132 | M13: 53 | N13: =SUM(B13:M13) -> 2517
A14: POR ESCRITO (FORMATO IMPRESO) | B14: 2 | C14: 5 | D14: 4 | E14: 1 | F14: 4 | G14: 4 | H14: 1 | I14: 6 | J14: 0 | K14: 3 | L14: 3 | M14: 0 | N14: =SUM(B14:M14) -> 33
A15: SOLICITUDES DIRIGIDAS A JUZGADOS | B15: 65 | C15: 15 | D15: 31 | E15: 1 | F15: 10 | G15: 8 | H15: 3 | I15: 10 | J15: 3 | K15: 5 | L15: 3 | M15: 2 | N15: =SUM(B15:M15) -> 156
A16: SOLICITUDES DIRIGIDAS A SALAS | B16: 5 | C16: 3 | D16: 0 | E16: 2 | F16: 10 | G16: 1 | H16: 0 | I16: 1 | J16: 0 | K16: 3 | L16: 0 | M16: 0 | N16: =SUM(B16:M16) -> 25
A17: SOLICITUDES DIRIGIDAS A ÁREAS DE APOYO JUDICIAL | B17: 20 | C17: 22 | D17: 20 | E17: 17 | F17: 21 | G17: 28 | H17: 3 | I17: 47 | J17: 10 | K17: 7 | L17: 8 | M17: 15 | N17: =SUM(B17:M17) -> 218
A18: SOLICITUDES DIRIGIDAS A ÁREAS ADMINISTRATIVAS | B18: 92 | C18: 88 | D18: 331 | E18: 196 | F18: 251 | G18: 152 | H18: 55 | I18: 291 | J18: 133 | K18: 102 | L18: 67 | M18: 32 | N18: =SUM(B18:M18) -> 1790
A20: SOLICITUDES DE INFORMACIÓN ENTREGADAS Y CASOS EN LOS QUE SE NEGÓ EL ACCESO
A21: SOLICITUDES EN LAS QUE HUBO ENTREGA TOTAL DE LA INFORMACIÓN | B21: 238 | C21: 253 | D21: 230 | E21: 432 | F21: 373 | G21: 294 | H21: 125 | I21: 319 | J21: 321 | K21: 224 | L21: 150 | M21: 78 | N21: =SUM(B21:M21) -> 3037
A22: SOLICITUDES EN LAS QUE SE DECLARÓ LA INEXISTENCIA DE INFORMACIÓN | B22: 1 | C22: 1 | D22: 1 | E22: 1 | F22: 2 | G22: 0 | H22: 0 | I22: 7 | J22: 2 | K22: 1 | L22: 2 | M22: 3 | N22: =SUM(B22:M22) -> 21
A23: SOLICITUDES CUYA INFORMACIÓN SE ENCONTRABA BAJO EL SUPUESTO DE ACCESO RESTRINGIDO | B23: 13 | C23: 8 | D23: 8 | E23: 5 | F23: 16 | G23: 0 | H23: 0 | I23: 10 | J23: 0 | K23: 6 | L23: 1 | M23: 4 | N23: =SUM(B23:M23) -> 71
A24: SOLICITUDES EN LAS QUE SE ENTREGÓ INFORMACIÓN DISTINTA A LA SOLICITADA O EN UN FORMATO INCOMPRENSIBLE | B24: 0 | C24: 0 | D24: 0 | E24: 0 | F24: 0 | G24: 6 | H24: 0 | I24: 0 | J24: 0 | K24: 0 | L24: 0 | M24: 0 | N24: =SUM(B24:M24) -> 6
A25: SOLICITUDES EN LAS QUE HUBO ENTREGA PARCIAL DE INFORMACIÓN | B25: 0 | C25: 0 | D25: 0 | E25: 0 | F25: 0 | G25: 0 | H25: 0 | I25: 0 | J25: 0 | K25: 0 | L25: 0 | M25: 0 | N25: =SUM(B25:M25) -> 0
A26: SOLICITUDES CANALIZADAS A OTRO ENTE PÚBLICO | B26: 9 | C26: 21 | D26: 11 | E26: 15 | F26: 14 | G26: 14 | H26: 4 | I26: 16 | J26: 17 | K26: 4 | L26: 5 | M26: 6 | N26: =SUM(B26:M26) -> 136
A27: SOLICITUDES PREVENIDAS SIN DESAHOGO POR PARTE DEL PETICIONARIO | B27: 19 | C27: 65 | D27: 51 | E27: 24 | F27: 68 | G27: 36 | H27: 14 | I27: 54 | J27: 13 | K27: 13 | L27: 9 | M27: 2 | N27: =SUM(B27:M27) -> 368
A28: SOLICITUDES ORIENTADAS PARA SU TRAMITACIÓN ANTE OTRO ENTE PÚBLICO POR PARTE DEL PETICIONARIO | B28: 12 | C28: 13 | D28: 12 | E28: 1 | F28: 12 | G28: 9 | H28: 1 | I28: 13 | J28: 8 | K28: 7 | L28: 6 | M28: 1 | N28: =SUM(B28:M28) -> 95
A30: RECURSOS DE REVISIÓN
A31: NÚMERO TOTAL DE RECURSOS DE REVISIÓN | B31: 8 | C31: 4 | D31: 9 | E31: 5 | F31: 10 | G31: 18 | H31: 3 | I31: 10 | J31: 9 | K31: 10 | L31: 9 | M31: 9 | N31: =SUM(B31:M31) -> 104
A32: RECURSOS DE REVISIÓN DESHECHADOS IMPROCEDENTES | B32: 0 | C32: 0 | D32: 0 | E32: 0 | F32: 0 | G32: 0 | H32: 0 | I32: 0 | J32: 0 | K32: 0 | L32: 0 | M32: 0 | N32: =SUM(B32:M32) -> 0
A33: RECURSOS DE REVISIÓN DESHECHADOS SOBRESEÍDOS | B33: 3 | C33: 3 | D33: 0 | E33: 2 | F33: 1 | G33: 3 | H33: 0 | I33: 0 | J33: 4 | K33: 7 | L33: 2 | M33: 6 | N33: =SUM(B33:M33) -> 31
A34: RECURSOS QUE CONFIRMAN EL ACTO O RESOLUCIÓN IMPUGNADA | B34: 2 | C34: 2 | D34: 0 | E34: 0 | F34: 0 | G34: 2 | H34: 1 | I34: 0 | J34: 1 | K34: 0 | L34: 0 | M34: 0 | N34: =SUM(B34:M34) -> 8
A35: RECURSOS DE MODIFICAN EL ACTO O RESOLUCIÓN IMPUGNADA | B35: 2 | C35: 2 | D35: 4 | E35: 1 | F35: 0 | G35: 5 | H35: 0 | I35: 1 | J35: 2 | K35: 3 | L35: 2 | M35: 2 | N35: =SUM(B35:M35) -> 24
A36: RECURSOS DE REVOCAN EL ACTO O RESOLUCIÓN IMPUGNADA | B36: 1 | C36: 1 | D36: 2 | E36: 1 | F36: 4 | G36: 4 | H36: 0 | I36: 0 | J36: 2 | K36: 0 | L36: 5 | M36: 1 | N36: =SUM(B36:M36) -> 21

Sheet 2022
A6: INFORMACIÓN ESTADÍSTICA, ENERO A DICIEMBRE 2022
A7: DIRECCIÓN DE INFORMACIÓN PÚBLICA DEL TRIBUNAL SUPERIOR DE JUSTICIA / PERSONAS ATENDIDAS
A9: Rubros | B9: Enero | C9: Febrero | D9: Marzo | E9: Abril | F9: Mayo | G9: Junio | H9: Julio | I9: Agosto | J9: Septiembre | K9: Octubre | L9: Noviembre | M9: Diciembre | N9: Total
A10: PERSONAS ATENDIDAS | B10: 8 | C10: 8 | D10: 9 | E10: 7 | F10: 9 | G10: 8 | H10: 5 | I10: 7 | J10: 6 | K10: 1 | L10: 6 | M10: 2 | N10: =SUM(B10:M10) -> 76
A12: SOLICITUDES DE INFORMACIÓN PÚBLICA RECIBIDAS
A13: VÍA ELECTRÓNICA (INFOMEX, TELINFOCDMX Y CORREO ELECTRÓNICO) | B13: 152 | C13: 240 | D13: 232 | E13: 190 | F13: 233 | G13: 239 | H13: 60 | I13: 236 | J13: 211 | K13: 166 | L13: 206 | M13: 63 | N13: =SUM(B13:M13) -> 2228
A14: POR ESCRITO (FORMATO IMPRESO) | B14: 8 | C14: 8 | D14: 9 | E14: 7 | F14: 9 | G14: 8 | H14: 5 | I14: 7 | J14: 6 | K14: 1 | L14: 6 | M14: 2 | N14: =SUM(B14:M14) -> 76
A15: SOLICITUDES DIRIGIDAS A JUZGADOS | B15: 20 | C15: 25 | D15: 24 | E15: 19 | F15: 25 | G15: 21 | H15: 15 | I15: 20 | J15: 18 | K15: 22 | L15: 20 | M15: 4 | N15: =SUM(B15:M15) -> 233
A16: SOLICITUDES DIRIGIDAS A SALAS | B16: 3 | C16: 4 | D16: 4 | E16: 3 | F16: 6 | G16: 6 | H16: 3 | I16: 6 | J16: 4 | K16: 6 | L16: 6 | M16: 0 | N16: =SUM(B16:M16) -> 51
A17: SOLICITUDES DIRIGIDAS A ÁREAS DE APOYO JUDICIAL | B17: 33 | C17: 53 | D17: 40 | E17: 38 | F17: 43 | G17: 59 | H17: 29 | I17: 41 | J17: 43 | K17: 48 | L17: 56 | M17: 10 | N17: =SUM(B17:M17) -> 493
A18: SOLICITUDES DIRIGIDAS A ÁREAS ADMINISTRATIVAS | B18: 57 | C18: 76 | D18: 62 | E18: 57 | F18: 61 | G18: 78 | H18: 48 | I18: 46 | J18: 45 | K18: 50 | L18: 61 | M18: 23 | N18: =SUM(B18:M18) -> 664
A20: SOLICITUDES DE INFORMACIÓN ENTREGADAS Y CASOS EN LOS QUE SE NEGÓ EL ACCESO
A21: SOLICITUDES EN LAS QUE HUBO ENTREGA TOTAL DE LA INFORMACIÓN | B21: 132 | C21: 240 | D21: 308 | E21: 187 | F21: 260 | G21: 245 | H21: 104 | I21: 316 | J21: 184 | K21: 258 | L21: 171 | M21: 69 | N21: =SUM(B21:M21) -> 2474
A22: SOLICITUDES EN LAS QUE SE DECLARÓ LA INEXISTENCIA DE INFORMACIÓN | B22: 0 | C22: 0 | D22: 0 | E22: 0 | F22: 0 | G22: 0 | H22: 0 | I22: 0 | J22: 0 | K22: 0 | L22: 0 | M22: 0 | N22: =SUM(B22:M22) -> 0
A23: SOLICITUDES CUYA INFORMACIÓN SE ENCONTRABA BAJO EL SUPUESTO DE ACCESO RESTRINGIDO | B23: 0 | C23: 0 | D23: 0 | E23: 0 | F23: 0 | G23: 0 | H23: 0 | I23: 0 | J23: 0 | K23: 0 | L23: 0 | M23: 7 | N23: =SUM(B23:M23) -> 7
A24: SOLICITUDES EN LAS QUE SE ENTREGÓ INFORMACIÓN DISTINTA A LA SOLICITADA O EN UN FORMATO INCOMPRENSIBLE | B24: 0 | C24: 0 | D24: 0 | E24: 0 | F24: 0 | G24: 0 | H24: 0 | I24: 0 | J24: 0 | K24: 0 | L24: 0 | M24: 0 | N24: =SUM(B24:M24) -> 0
A25: SOLICITUDES EN LAS QUE HUBO ENTREGA PARCIAL DE INFORMACIÓN | B25: 0 | C25: 0 | D25: 0 | E25: 0 | F25: 0 | G25: 0 | H25: 0 | I25: 0 | J25: 0 | K25: 0 | L25: 0 | M25: 0 | N25: =SUM(B25:M25) -> 0
A26: SOLICITUDES CANALIZADAS A OTRO ENTE PÚBLICO | B26: 23 | C26: 32 | D26: 26 | E26: 24 | F26: 26 | G26: 23 | H26: 18 | I26: 21 | J26: 19 | K26: 23 | L26: 25 | M26: 12 | N26: =SUM(B26:M26) -> 272
A27: SOLICITUDES PREVENIDAS SIN DESAHOGO POR PARTE DEL PETICIONARIO | B27: 17 | C27: 19 | D27: 20 | E27: 18 | F27: 22 | G27: 20 | H27: 15 | I27: 16 | J27: 20 | K27: 18 | L27: 30 | M27: 15 | N27: =SUM(B27:M27) -> 230
A28: SOLICITUDES ORIENTADAS PARA SU TRAMITACIÓN ANTE OTRO ENTE PÚBLICO POR PARTE DEL PETICIONARIO | B28: 18 | C28: 16 | D28: 19 | E28: 17 | F28: 20 | G28: 22 | H28: 20 | I28: 18 | J28: 21 | K28: 23 | L28: 19 | M28: 0 | N28: =SUM(B28:M28) -> 213
A30: RECURSOS DE REVISIÓN
A31: NÚMERO TOTAL DE RECURSOS DE REVISIÓN | B31: 1 | C31: 12 | D31: 16 | E31: 12 | F31: 10 | G31: 10 | H31: 4 | I31: 17 | J31: 17 | K31: 11 | L31: 10 | M31: 3 | N31: =SUM(B31:M31) -> 123
A32: RECURSOS DE REVISIÓN DESHECHADOS IMPROCEDENTES | B32: 0 | C32: 0 | D32: 0 | E32: 0 | F32: 0 | G32: 0 | H32: 0 | I32: 0 | J32: 0 | K32: 0 | L32: 0 | M32: 0 | N32: =SUM(B32:M32) -> 0
A33: RECURSOS DE REVISIÓN DESHECHADOS SOBRESEÍDOS | B33: 0 | C33: 0 | D33: 2 | E33: 6 | F33: 3 | G33: 4 | H33: 1 | I33: 4 | J33: 6 | K33: 4 | L33: 3 | M33: 5 | N33: =SUM(B33:M33) -> 38
A34: RECURSOS QUE CONFIRMAN EL ACTO O RESOLUCIÓN IMPUGNADA | B34: 0 | C34: 0 | D34: 3 | E34: 0 | F34: 2 | G34: 1 | H34: 1 | I34: 3 | J34: 1 | K34: 4 | L34: 1 | M34: 2 | N34: =SUM(B34:M34) -> 18
A35: RECURSOS DE MODIFICAN EL ACTO O RESOLUCIÓN IMPUGNADA | B35: 2 | C35: 3 | D35: 2 | E35: 3 | F35: 11 | G35: 3 | H35: 3 | I35: 3 | J35: 6 | K35: 6 | L35: 2 | M35: 2 | N35: =SUM(B35:M35) -> 46
A36: RECURSOS DE REVOCAN EL ACTO O RESOLUCIÓN IMPUGNADA | B36: 1 | C36: 0 | D36: 2 | E36: 2 | F36: 1 | G36: 1 | H36: 0 | I36: 1 | J36: 0 | K36: 3 | L36: 3 | M36: 2 | N36: =SUM(B36:M36) -> 16

Sheet 2021
A6: INFORMACIÓN ESTADÍSTICA, ENERO A DICIEMBRE 2021
A7: DIRECCIÓN DE INFORMACIÓN PÚBLICA DEL TRIBUNAL SUPERIOR DE JUSTICIA / PERSONAS ATENDIDAS
A9: Rubros | B9: Enero | C9: Febrero | D9: Marzo | E9: Abril | F9: Mayo | G9: Junio | H9: Julio | I9: Agosto | J9: Septiembre | K9: Octubre | L9: Noviembre | M9: Diciembre | N9: Total
A10: PERSONAS ATENDIDAS | B10: 0 | C10: 0 | D10: 4 | E10: 11 | F10: 3 | G10: 7 | H10: 4 | I10: 9 | J10: 8 | K10: 7 | L10: 7 | M10: 4 | N10: =SUM(B10:M10) -> 64
A12: SOLICITUDES DE INFORMACIÓN PÚBLICA RECIBIDAS
A13: VÍA ELECTRÓNICA (INFOMEX, TELINFOCDMX Y CORREO ELECTRÓNICO) | B13: 345 | C13: 194 | D13: 181 | E13: 233 | F13: 207 | G13: 185 | H13: 90 | I13: 306 | J13: 182 | K13: 158 | L13: 156 | M13: 67 | N13: =SUM(B13:M13) -> 2304
A14: POR ESCRITO (FORMATO IMPRESO) | B14: 0 | C14: 0 | D14: 4 | E14: 11 | F14: 3 | G14: 7 | H14: 4 | I14: 9 | J14: 8 | K14: 7 | L14: 7 | M14: 4 | N14: =SUM(B14:M14) -> 64
A15: SOLICITUDES DIRIGIDAS A JUZGADOS | B15: 9 | C15: 9 | D15: 27 | E15: 40 | F15: 29 | G15: 7 | H15: 9 | I15: 10 | J15: 9 | K15: 7 | L15: 17 | M15: 15 | N15: =SUM(B15:M15) -> 188
A16: SOLICITUDES DIRIGIDAS A SALAS | B16: 0 | C16: 2 | D16: 0 | E16: 2 | F16: 4 | G16: 3 | H16: 1 | I16: 2 | J16: 2 | K16: 2 | L16: 4 | M16: 2 | N16: =SUM(B16:M16) -> 24
A17: SOLICITUDES DIRIGIDAS A ÁREAS DE APOYO JUDICIAL | B17: 40 | C17: 37 | D17: 35 | E17: 71 | F17: 61 | G17: 18 | H17: 20 | I17: 40 | J17: 31 | K17: 30 | L17: 34 | M17: 29 | N17: =SUM(B17:M17) -> 446
A18: SOLICITUDES DIRIGIDAS A ÁREAS ADMINISTRATIVAS | B18: 253 | C18: 115 | D18: 120 | E18: 120 | F18: 110 | G18: 157 | H18: 60 | I18: 80 | J18: 59 | K18: 57 | L18: 56 | M18: 50 | N18: =SUM(B18:M18) -> 1237
A20: SOLICITUDES DE INFORMACIÓN ENTREGADAS Y CASOS EN LOS QUE SE NEGÓ EL ACCESO
A21: SOLICITUDES EN LAS QUE HUBO ENTREGA TOTAL DE LA INFORMACIÓN | B21: 68 | C21: 85 | D21: 167 | E21: 323 | F21: 381 | G21: 205 | H21: 85 | I21: 251 | J21: 103 | K21: 142 | L21: 148 | M21: 84 | N21: =SUM(B21:M21) -> 2042
A22: SOLICITUDES EN LAS QUE SE DECLARÓ LA INEXISTENCIA DE INFORMACIÓN | B22: 0 | C22: 0 | D22: 0 | E22: 0 | F22: 0 | G22: 0 | H22: 0 | I22: 0 | J22: 0 | K22: 0 | L22: 0 | M22: 0 | N22: =SUM(B22:M22) -> 0
A23: SOLICITUDES CUYA INFORMACIÓN SE ENCONTRABA BAJO EL SUPUESTO DE ACCESO RESTRINGIDO | B23: 0 | C23: 0 | D23: 0 | E23: 0 | F23: 0 | G23: 0 | H23: 0 | I23: 0 | J23: 0 | K23: 0 | L23: 0 | M23: 0 | N23: =SUM(B23:M23) -> 0
A24: SOLICITUDES EN LAS QUE SE ENTREGÓ INFORMACIÓN DISTINTA A LA SOLICITADA O EN UN FORMATO INCOMPRENSIBLE | B24: 0 | C24: 0 | D24: 0 | E24: 0 | F24: 0 | G24: 0 | H24: 0 | I24: 0 | J24: 0 | K24: 0 | L24: 0 | M24: 0 | N24: =SUM(B24:M24) -> 0
A25: SOLICITUDES EN LAS QUE HUBO ENTREGA PARCIAL DE INFORMACIÓN | B25: 0 | C25: 0 | D25: 0 | E25: 0 | F25: 0 | G25: 0 | H25: 0 | I25: 0 | J25: 0 | K25: 0 | L25: 0 | M25: 0 | N25: =SUM(B25:M25) -> 0
A26: SOLICITUDES CANALIZADAS A OTRO ENTE PÚBLICO | B26: 20 | C26: 5 | D26: 31 | E26: 33 | F26: 41 | G26: 46 | H26: 12 | I26: 18 | J26: 15 | K26: 17 | L26: 18 | M26: 15 | N26: =SUM(B26:M26) -> 271
A27: SOLICITUDES PREVENIDAS SIN DESAHOGO POR PARTE DEL PETICIONARIO | B27: 31 | C27: 20 | D27: 35 | E27: 42 | F27: 31 | G27: 18 | H27: 15 | I27: 20 | J27: 19 | K27: 16 | L27: 15 | M27: 13 | N27: =SUM(B27:M27) -> 275
A28: SOLICITUDES ORIENTADAS PARA SU TRAMITACIÓN ANTE OTRO ENTE PÚBLICO POR PARTE DEL PETICIONARIO | B28: 34 | C28: 22 | D28: 35 | E28: 11 | F28: 22 | G28: 27 | H28: 10 | I28: 15 | J28: 18 | K28: 19 | L28: 20 | M28: 15 | N28: =SUM(B28:M28) -> 248
A30: RECURSOS DE REVISIÓN
A31: NÚMERO TOTAL DE RECURSOS DE REVISIÓN | B31: 1 | C31: 1 | D31: 9 | E31: 1 | F31: 9 | G31: 17 | H31: 4 | I31: 5 | J31: 4 | K31: 6 | L31: 6 | M31: 9 | N31: =SUM(B31:M31) -> 72
A32: RECURSOS DE REVISIÓN DESHECHADOS IMPROCEDENTES | B32: 0 | C32: 0 | D32: 0 | E32: 0 | F32: 0 | G32: 0 | H32: 0 | I32: 0 | J32: 0 | K32: 0 | L32: 0 | M32: 0 | N32: =SUM(B32:M32) -> 0
A33: RECURSOS DE REVISIÓN DESHECHADOS SOBRESEÍDOS | B33: 0 | C33: 0 | D33: 8 | E33: 5 | F33: 2 | G33: 8 | H33: 1 | I33: 8 | J33: 0 | K33: 1 | L33: 1 | M33: 1 | N33: =SUM(B33:M33) -> 35
A34: RECURSOS QUE CONFIRMAN EL ACTO O RESOLUCIÓN IMPUGNADA | B34: 0 | C34: 0 | D34: 5 | E34: 1 | F34: 2 | G34: 1 | H34: 1 | I34: 2 | J34: 1 | K34: 1 | L34: 4 | M34: 0 | N34: =SUM(B34:M34) -> 18
A35: RECURSOS DE MODIFICAN EL ACTO O RESOLUCIÓN IMPUGNADA | B35: 0 | C35: 0 | D35: 3 | E35: 0 | F35: 0 | G35: 0 | H35: 0 | I35: 8 | J35: 2 | K35: 3 | L35: 1 | M35: 3 | N35: =SUM(B35:M35) -> 20
A36: RECURSOS DE REVOCAN EL ACTO O RESOLUCIÓN IMPUGNADA | B36: 0 | C36: 0 | D36: 3 | E36: 0 | F36: 0 | G36: 0 | H36: 0 | I36: 0 | J36: 0 | K36: 1 | L36: 0 | M36: 0 | N36: =SUM(B36:M36) -> 4

Sheet 2020
A6: INFORMACIÓN ESTADÍSTICA, ENERO A DICIEMBRE 2020
A7: DIRECCIÓN DE INFORMACIÓN PÚBLICA DEL TRIBUNAL SUPERIOR DE JUSTICIA / PERSONAS ATENDIDAS
A9: Rubros | B9: Enero | C9: Febrero | D9: Marzo | E9: Abril | F9: Mayo | G9: Junio | H9: Julio | I9: Agosto | J9: Septiembre | K9: Octubre | L9: Noviembre | M9: Diciembre | N9: Total
A10: PERSONAS ATENDIDAS | B10: 50 | C10: 45 | D10: 36 | E10: 0 | F10: 0 | G10: 0 | H10: 0 | I10: 0 | J10: 2 | K10: 1 | L10: 2 | M10: 0 | N10: =SUM(B10:M10) -> 136
A12: SOLICITUDES DE INFORMACIÓN PÚBLICA RECIBIDAS
A13: VÍA ELECTRÓNICA (INFOMEX, TELINFOCDMX Y CORREO ELECTRÓNICO) | B13: 368 | C13: 336 | D13: 249 | E13: 45 | F13: 125 | G13: 84 | H13: 125 | I13: 270 | J13: 277 | K13: 213 | L13: 179 | M13: 64 | N13: =SUM(B13:M13) -> 2335
A14: POR ESCRITO (FORMATO IMPRESO) | B14: 50 | C14: 45 | D14: 36 | E14: 0 | F14: 0 | G14: 0 | H14: 0 | I14: 0 | J14: 2 | K14: 1 | L14: 2 | M14: 0 | N14: =SUM(B14:M14) -> 136
A15: SOLICITUDES DIRIGIDAS A JUZGADOS | B15: 10 | C15: 9 | D15: 15 | E15: 0 | F15: 0 | G15: 0 | H15: 0 | I15: 14 | J15: 19 | K15: 3 | L15: 25 | M15: 12 | N15: =SUM(B15:M15) -> 107
A16: SOLICITUDES DIRIGIDAS A SALAS | B16: 6 | C16: 5 | D16: 1 | E16: 0 | F16: 0 | G16: 0 | H16: 0 | I16: 3 | J16: 6 | K16: 5 | L16: 2 | M16: 1 | N16: =SUM(B16:M16) -> 29
A17: SOLICITUDES DIRIGIDAS A ÁREAS DE APOYO JUDICIAL | B17: 52 | C17: 60 | D17: 27 | E17: 0 | F17: 0 | G17: 0 | H17: 0 | I17: 59 | J17: 33 | K17: 30 | L17: 30 | M17: 19 | N17: =SUM(B17:M17) -> 310
A18: SOLICITUDES DIRIGIDAS A ÁREAS ADMINISTRATIVAS | B18: 261 | C18: 259 | D18: 144 | E18: 0 | F18: 0 | G18: 0 | H18: 0 | I18: 536 | J18: 208 | K18: 190 | L18: 61 | M18: 137 | N18: =SUM(B18:M18) -> 1796
A20: SOLICITUDES DE INFORMACIÓN ENTREGADAS Y CASOS EN LOS QUE SE NEGÓ EL ACCESO
A21: SOLICITUDES EN LAS QUE HUBO ENTREGA TOTAL DE LA INFORMACIÓN | B21: 274 | C21: 280 | D21: 95 | E21: 0 | F21: 0 | G21: 0 | H21: 0 | I21: 556 | J21: 459 | K21: 62 | L21: 218 | M21: 157 | N21: =SUM(B21:M21) -> 2101
A22: SOLICITUDES EN LAS QUE SE DECLARÓ LA INEXISTENCIA DE INFORMACIÓN | B22: 0 | C22: 0 | D22: 2 | E22: 0 | F22: 0 | G22: 0 | H22: 0 | I22: 0 | J22: 0 | K22: 0 | L22: 0 | M22: 0 | N22: =SUM(B22:M22) -> 2
A23: SOLICITUDES CUYA INFORMACIÓN SE ENCONTRABA BAJO EL SUPUESTO DE ACCESO RESTRINGIDO | B23: 0 | C23: 0 | D23: 10 | E23: 0 | F23: 0 | G23: 0 | H23: 0 | I23: 0 | J23: 0 | K23: 0 | L23: 0 | M23: 0 | N23: =SUM(B23:M23) -> 10
A24: SOLICITUDES EN LAS QUE SE ENTREGÓ INFORMACIÓN DISTINTA A LA SOLICITADA O EN UN FORMATO INCOMPRENSIBLE | B24: 0 | C24: 0 | D24: 0 | E24: 0 | F24: 0 | G24: 0 | H24: 0 | I24: 0 | J24: 0 | K24: 0 | L24: 0 | M24: 0 | N24: =SUM(B24:M24) -> 0
A25: SOLICITUDES EN LAS QUE HUBO ENTREGA PARCIAL DE INFORMACIÓN | B25: 0 | C25: 0 | D25: 0 | E25: 0 | F25: 0 | G25: 0 | H25: 0 | I25: 0 | J25: 0 | K25: 0 | L25: 0 | M25: 0 | N25: =SUM(B25:M25) -> 0
A26: SOLICITUDES CANALIZADAS A OTRO ENTE PÚBLICO | B26: 32 | C26: 36 | D26: 13 | E26: 0 | F26: 0 | G26: 0 | H26: 0 | I26: 31 | J26: 27 | K26: 25 | L26: 21 | M26: 17 | N26: =SUM(B26:M26) -> 202
A27: SOLICITUDES PREVENIDAS SIN DESAHOGO POR PARTE DEL PETICIONARIO | B27: 28 | C27: 31 | D27: 19 | E27: 0 | F27: 0 | G27: 0 | H27: 0 | I27: 19 | J27: 50 | K27: 45 | L27: 53 | M27: 13 | N27: =SUM(B27:M27) -> 258
A28: SOLICITUDES ORIENTADAS PARA SU TRAMITACIÓN ANTE OTRO ENTE PÚBLICO POR PARTE DEL PETICIONARIO | B28: 19 | C28: 21 | D28: 10 | E28: 0 | F28: 0 | G28: 0 | H28: 0 | I28: 19 | J28: 24 | K28: 22 | L28: 22 | M28: 22 | N28: =SUM(B28:M28) -> 159
A30: RECURSOS DE REVISIÓN
A31: NÚMERO TOTAL DE RECURSOS DE REVISIÓN | B31: 3 | C31: 3 | D31: 0 | E31: 1 | F31: 0 | G31: 0 | H31: 0 | I31: 1 | J31: 0 | K31: 16 | L31: 4 | M31: 2 | N31: =SUM(B31:M31) -> 30
A32: RECURSOS DE REVISIÓN DESHECHADOS IMPROCEDENTES | B32: 0 | C32: 0 | D32: 0 | E32: 0 | F32: 0 | G32: 0 | H32: 0 | I32: 0 | J32: 0 | K32: 0 | L32: 0 | M32: 0 | N32: =SUM(B32:M32) -> 0
A33: RECURSOS DE REVISIÓN DESHECHADOS SOBRESEÍDOS | B33: 0 | C33: 0 | D33: 5 | E33: 0 | F33: 0 | G33: 0 | H33: 0 | I33: 0 | J33: 0 | K33: 4 | L33: 0 | M33: 1 | N33: =SUM(B33:M33) -> 10
A34: RECURSOS QUE CONFIRMAN EL ACTO O RESOLUCIÓN IMPUGNADA | B34: 0 | C34: 0 | D34: 0 | E34: 0 | F34: 0 | G34: 0 | H34: 0 | I34: 0 | J34: 0 | K34: 5 | L34: 0 | M34: 3 | N34: =SUM(B34:M34) -> 8
A35: RECURSOS DE MODIFICAN EL ACTO O RESOLUCIÓN IMPUGNADA | B35: 0 | C35: 0 | D35: 0 | E35: 0 | F35: 0 | G35: 0 | H35: 0 | I35: 0 | J35: 0 | K35: 8 | L35: 0 | M35: 0 | N35: =SUM(B35:M35) -> 8
A36: RECURSOS DE REVOCAN EL ACTO O RESOLUCIÓN IMPUGNADA | B36: 0 | C36: 0 | D36: 3 | E36: 0 | F36: 0 | G36: 0 | H36: 0 | I36: 0 | J36: 0 | K36: 1 | L36: 0 | M36: 0 | N36: =SUM(B36:M36) -> 4

Sheet 2019
A6: INFORMACIÓN ESTADÍSTICA, ENERO A DICIEMBRE 2019
A7: DIRECCIÓN DE INFORMACIÓN PÚBLICA DEL TRIBUNAL SUPERIOR DE JUSTICIA / PERSONAS ATENDIDAS
A9: Rubros | B9: Enero | C9: Febrero | D9: Marzo | E9: Abril | F9: Mayo | G9: Junio | H9: Julio | I9: Agosto | J9: Septiembre | K9: Octubre | L9: Noviembre | M9: Diciembre | N9: Total
A10: PERSONAS ATENDIDAS | B10: 55 | C10: 43 | D10: 53 | E10: 51 | F10: 78 | G10: 56 | H10: 17 | I10: 46 | J10: 67 | K10: 45 | L10: 53 | M10: 14 | N10: =SUM(B10:M10) -> 578
A12: SOLICITUDES DE INFORMACIÓN PÚBLICA RECIBIDAS
A13: VÍA ELECTRÓNICA (INFOMEX, TELINFOCDMX Y CORREO ELECTRÓNICO) | B13: 266 | C13: 254 | D13: 525 | E13: 290 | F13: 255 | G13: 281 | H13: 99 | I13: 538 | J13: 341 | K13: 314 | L13: 230 | M13: 108 | N13: =SUM(B13:M13) -> 3501
A14: POR ESCRITO (FORMATO IMPRESO) | B14: 55 | C14: 43 | D14: 53 | E14: 51 | F14: 78 | G14: 56 | H14: 17 | I14: 46 | J14: 67 | K14: 45 | L14: 53 | M14: 14 | N14: =SUM(B14:M14) -> 578
A15: SOLICITUDES DIRIGIDAS A JUZGADOS | B15: 14 | C15: 24 | D15: 27 | E15: 28 | F15: 20 | G15: 20 | H15: 9 | I15: 25 | J15: 23 | K15: 26 | L15: 8 | M15: 8 | N15: =SUM(B15:M15) -> 232
A16: SOLICITUDES DIRIGIDAS A SALAS | B16: 1 | C16: 3 | D16: 2 | E16: 4 | F16: 3 | G16: 2 | H16: 0 | I16: 1 | J16: 2 | K16: 6 | L16: 1 | M16: 3 | N16: =SUM(B16:M16) -> 28
A17: SOLICITUDES DIRIGIDAS A ÁREAS DE APOYO JUDICIAL | B17: 68 | C17: 55 | D17: 26 | E17: 60 | F17: 79 | G17: 66 | H17: 15 | I17: 54 | J17: 35 | K17: 29 | L17: 33 | M17: 8 | N17: =SUM(B17:M17) -> 528
A18: SOLICITUDES DIRIGIDAS A ÁREAS ADMINISTRATIVAS | B18: 165 | C18: 123 | D18: 365 | E18: 112 | F18: 129 | G18: 127 | H18: 68 | I18: 211 | J18: 127 | K18: 155 | L18: 176 | M18: 53 | N18: =SUM(B18:M18) -> 1811
A20: SOLICITUDES DE INFORMACIÓN ENTREGADAS Y CASOS EN LOS QUE SE NEGÓ EL ACCESO
A21: SOLICITUDES EN LAS QUE HUBO ENTREGA TOTAL DE LA INFORMACIÓN | B21: 165 | C21: 162 | D21: 400 | E21: 208 | F21: 232 | G21: 173 | H21: 104 | I21: 284 | J21: 131 | K21: 227 | L21: 187 | M21: 77 | N21: =SUM(B21:M21) -> 2350
A22: SOLICITUDES EN LAS QUE SE DECLARÓ LA INEXISTENCIA DE INFORMACIÓN | B22: 0 | C22: 0 | D22: 0 | E22: 0 | F22: 0 | G22: 0 | H22: 0 | I22: 2 | J22: 0 | K22: 0 | L22: 2 | M22: 0 | N22: =SUM(B22:M22) -> 4
A23: SOLICITUDES CUYA INFORMACIÓN SE ENCONTRABA BAJO EL SUPUESTO DE ACCESO RESTRINGIDO | B23: 0 | C23: 0 | D23: 0 | E23: 0 | F23: 0 | G23: 0 | H23: 4 | I23: 14 | J23: 6 | K23: 7 | L23: 5 | M23: 6 | N23: =SUM(B23:M23) -> 42
A24: SOLICITUDES EN LAS QUE SE ENTREGÓ INFORMACIÓN DISTINTA A LA SOLICITADA O EN UN FORMATO INCOMPRENSIBLE | B24: 0 | C24: 0 | D24: 0 | E24: 0 | F24: 0 | G24: 0 | H24: 0 | I24: 0 | J24: 0 | K24: 0 | L24: 0 | M24: 0 | N24: =SUM(B24:M24) -> 0
A25: SOLICITUDES EN LAS QUE HUBO ENTREGA PARCIAL DE INFORMACIÓN | B25: 0 | C25: 0 | D25: 0 | E25: 0 | F25: 0 | G25: 0 | H25: 0 | I25: 0 | J25: 0 | K25: 0 | L25: 0 | M25: 0 | N25: =SUM(B25:M25) -> 0
A26: SOLICITUDES CANALIZADAS A OTRO ENTE PÚBLICO | B26: 44 | C26: 21 | D26: 33 | E26: 37 | F26: 44 | G26: 35 | H26: 14 | I26: 47 | J26: 22 | K26: 30 | L26: 20 | M26: 19 | N26: =SUM(B26:M26) -> 366
A27: SOLICITUDES PREVENIDAS SIN DESAHOGO POR PARTE DEL PETICIONARIO | B27: 45 | C27: 53 | D27: 48 | E27: 41 | F27: 57 | G27: 45 | H27: 8 | I27: 6 | J27: 11 | K27: 42 | L27: 22 | M27: 10 | N27: =SUM(B27:M27) -> 388
A28: SOLICITUDES ORIENTADAS PARA SU TRAMITACIÓN ANTE OTRO ENTE PÚBLICO POR PARTE DEL PETICIONARIO | B28: 9 | C28: 10 | D28: 7 | E28: 12 | F28: 13 | G28: 4 | H28: 4 | I28: 11 | J28: 4 | K28: 11 | L28: 7 | M28: 8 | N28: =SUM(B28:M28) -> 100
A30: RECURSOS DE REVISIÓN
A31: NÚMERO TOTAL DE RECURSOS DE REVISIÓN | B31: 8 | C31: 2 | D31: 7 | E31: 3 | F31: 1 | G31: 0 | H31: 2 | I31: 12 | J31: 7 | K31: 6 | L31: 4 | M31: 6 | N31: =SUM(B31:M31) -> 58
A32: RECURSOS DE REVISIÓN DESHECHADOS IMPROCEDENTES | B32: 0 | C32: 0 | D32: 0 | E32: 0 | F32: 0 | G32: 3 | H32: 0 | I32: 0 | J32: 0 | K32: 0 | L32: 0 | M32: 0 | N32: =SUM(B32:M32) -> 3
A33: RECURSOS DE REVISIÓN DESHECHADOS SOBRESEÍDOS | B33: 0 | C33: 1 | D33: 1 | E33: 1 | F33: 0 | G33: 0 | H33: 0 | I33: 0 | J33: 0 | K33: 1 | L33: 2 | M33: 0 | N33: =SUM(B33:M33) -> 6
A34: RECURSOS QUE CONFIRMAN EL ACTO O RESOLUCIÓN IMPUGNADA | B34: 1 | C34: 1 | D34: 0 | E34: 1 | F34: 0 | G34: 0 | H34: 1 | I34: 1 | J34: 1 | K34: 3 | L34: 2 | M34: 1 | N34: =SUM(B34:M34) -> 12
A35: RECURSOS DE MODIFICAN EL ACTO O RESOLUCIÓN IMPUGNADA | B35: 1 | C35: 1 | D35: 1 | E35: 4 | F35: 0 | G35: 0 | H35: 1 | I35: 1 | J35: 0 | K35: 1 | L35: 3 | M35: 0 | N35: =SUM(B35:M35) -> 13
A36: RECURSOS DE REVOCAN EL ACTO O RESOLUCIÓN IMPUGNADA | B36: 0 | C36: 0 | D36: 0 | E36: 1 | F36: 0 | G36: 0 | H36: 1 | I36: 1 | J36: 0 | K36: 0 | L36: 2 | M36: 0 | N36: =SUM(B36:M36) -> 5

Sheet 2018
A6: INFORMACIÓN ESTADÍSTICA, ENERO A DICIEMBRE 2018
A7: DIRECCIÓN DE INFORMACIÓN PÚBLICA DEL TRIBUNAL SUPERIOR DE JUSTICIA / PERSONAS ATENDIDAS
A9: Rubros | B9: Enero | C9: Febrero | D9: Marzo | E9: Abril | F9: Mayo | G9: Junio | H9: Julio | I9: Agosto | J9: Septiembre | K9: Octubre | L9: Noviembre | M9: Diciembre | N9: Total
A10: PERSONAS ATENDIDAS | B10: 53 | C10: 76 | D10: 60 | E10: 47 | F10: 57 | G10: 68 | H10: 28 | I10: 70 | J10: 55 | K10: 89 | L10: 45 | M10: 19 | N10: =SUM(B10:M10) -> 667
A12: SOLICITUDES DE INFORMACIÓN PÚBLICA RECIBIDAS
A13: VÍA ELECTRÓNICA (INFOMEX, TELINFOCDMX Y CORREO ELECTRÓNICO) | B13: 230 | C13: 268 | D13: 238 | E13: 314 | F13: 230 | G13: 248 | H13: 117 | I13: 334 | J13: 258 | K13: 305 | L13: 210 | M13: 75 | N13: =SUM(B13:M13) -> 2827
A14: POR ESCRITO (FORMATO IMPRESO) | B14: 53 | C14: 76 | D14: 60 | E14: 47 | F14: 57 | G14: 68 | H14: 28 | I14: 70 | J14: 55 | K14: 89 | L14: 45 | M14: 19 | N14: =SUM(B14:M14) -> 667
A15: SOLICITUDES DIRIGIDAS A JUZGADOS | B15: 22 | C15: 18 | D15: 15 | E15: 21 | F15: 17 | G15: 11 | H15: 16 | I15: 14 | J15: 38 | K15: 14 | L15: 8 | M15: 3 | N15: =SUM(B15:M15) -> 197
A16: SOLICITUDES DIRIGIDAS A SALAS | B16: 0 | C16: 2 | D16: 2 | E16: 1 | F16: 6 | G16: 2 | H16: 4 | I16: 2 | J16: 4 | K16: 3 | L16: 1 | M16: 0 | N16: =SUM(B16:M16) -> 27
A17: SOLICITUDES DIRIGIDAS A ÁREAS DE APOYO JUDICIAL | B17: 56 | C17: 52 | D17: 55 | E17: 49 | F17: 93 | G17: 55 | H17: 31 | I17: 59 | J17: 68 | K17: 103 | L17: 68 | M17: 13 | N17: =SUM(B17:M17) -> 702
A18: SOLICITUDES DIRIGIDAS A ÁREAS ADMINISTRATIVAS | B18: 129 | C18: 151 | D18: 77 | E18: 127 | F18: 75 | G18: 103 | H18: 86 | I18: 148 | J18: 130 | K18: 146 | L18: 78 | M18: 41 | N18: =SUM(B18:M18) -> 1291
A20: SOLICITUDES DE INFORMACIÓN ENTREGADAS Y CASOS EN LOS QUE SE NEGÓ EL ACCESO
A21: SOLICITUDES EN LAS QUE HUBO ENTREGA TOTAL DE LA INFORMACIÓN | B21: 153 | C21: 135 | D21: 169 | E21: 255 | F21: 217 | G21: 180 | H21: 70 | I21: 252 | J21: 162 | K21: 291 | L21: 203 | M21: 67 | N21: =SUM(B21:M21) -> 2154
A22: SOLICITUDES EN LAS QUE SE DECLARÓ LA INEXISTENCIA DE INFORMACIÓN | B22: 0 | C22: 2 | D22: 2 | E22: 8 | F22: 3 | G22: 2 | H22: 0 | I22: 0 | J22: 0 | K22: 0 | L22: 0 | M22: 0 | N22: =SUM(B22:M22) -> 17
A23: SOLICITUDES CUYA INFORMACIÓN SE ENCONTRABA BAJO EL SUPUESTO DE ACCESO RESTRINGIDO | B23: 0 | C23: 0 | D23: 0 | E23: 0 | F23: 0 | G23: 0 | H23: 0 | I23: 0 | J23: 0 | K23: 0 | L23: 0 | M23: 0 | N23: =SUM(B23:M23) -> 0
A24: SOLICITUDES EN LAS QUE SE ENTREGÓ INFORMACIÓN DISTINTA A LA SOLICITADA O EN UN FORMATO INCOMPRENSIBLE | B24: 0 | C24: 0 | D24: 0 | E24: 0 | F24: 0 | G24: 0 | H24: 0 | I24: 0 | J24: 0 | K24: 0 | L24: 0 | M24: 0 | N24: =SUM(B24:M24) -> 0
A25: SOLICITUDES EN LAS QUE HUBO ENTREGA PARCIAL DE INFORMACIÓN | B25: 0 | C25: 0 | D25: 0 | E25: 0 | F25: 0 | G25: 0 | H25: 0 | I25: 0 | J25: 0 | K25: 0 | L25: 0 | M25: 0 | N25: =SUM(B25:M25) -> 0
A26: SOLICITUDES CANALIZADAS A OTRO ENTE PÚBLICO | B26: 15 | C26: 17 | D26: 11 | E26: 32 | F26: 16 | G26: 17 | H26: 21 | I26: 33 | J26: 23 | K26: 28 | L26: 12 | M26: 9 | N26: =SUM(B26:M26) -> 234
A27: SOLICITUDES PREVENIDAS SIN DESAHOGO POR PARTE DEL PETICIONARIO | B27: 14 | C27: 35 | D27: 17 | E27: 55 | F27: 48 | G27: 27 | H27: 20 | I27: 46 | J27: 36 | K27: 51 | L27: 39 | M27: 16 | N27: =SUM(B27:M27) -> 404
A28: SOLICITUDES ORIENTADAS PARA SU TRAMITACIÓN ANTE OTRO ENTE PÚBLICO POR PARTE DEL PETICIONARIO | B28: 13 | C28: 21 | D28: 2 | E28: 12 | F28: 17 | G28: 15 | H28: 4 | I28: 8 | J28: 10 | K28: 11 | L28: 5 | M28: 7 | N28: =SUM(B28:M28) -> 125
A30: RECURSOS DE REVISIÓN
A31: NÚMERO TOTAL DE RECURSOS DE REVISIÓN | B31: 10 | C31: 5 | D31: 2 | E31: 3 | F31: 3 | G31: 4 | H31: 2 | I31: 2 | J31: 2 | K31: 2 | L31: 2 | M31: 0 | N31: =SUM(B31:M31) -> 37
A32: RECURSOS DE REVISIÓN DESHECHADOS IMPROCEDENTES | B32: 0 | C32: 0 | D32: 0 | E32: 0 | F32: 0 | G32: 0 | H32: 0 | I32: 0 | J32: 0 | K32: 0 | L32: 0 | M32: 0 | N32: =SUM(B32:M32) -> 0
A33: RECURSOS DE REVISIÓN DESHECHADOS SOBRESEÍDOS | B33: 2 | C33: 1 | D33: 4 | E33: 5 | F33: 2 | G33: 2 | H33: 0 | I33: 0 | J33: 2 | K33: 0 | L33: 0 | M33: 1 | N33: =SUM(B33:M33) -> 19
A34: RECURSOS QUE CONFIRMAN EL ACTO O RESOLUCIÓN IMPUGNADA | B34: 1 | C34: 3 | D34: 1 | E34: 1 | F34: 2 | G34: 0 | H34: 0 | I34: 1 | J34: 0 | K34: 0 | L34: 1 | M34: 0 | N34: =SUM(B34:M34) -> 10
A35: RECURSOS DE MODIFICAN EL ACTO O RESOLUCIÓN IMPUGNADA | B35: 0 | C35: 2 | D35: 0 | E35: 0 | F35: 0 | G35: 3 | H35: 0 | I35: 0 | J35: 1 | K35: 1 | L35: 0 | M35: 0 | N35: =SUM(B35:M35) -> 7
A36: RECURSOS DE REVOCAN EL ACTO O RESOLUCIÓN IMPUGNADA | B36: 1 | C36: 0 | D36: 0 | E36: 0 | F36: 1 | G36: 0 | H36: 0 | I36: 0 | J36: 1 | K36: 0 | L36: 0 | M36: 0 | N36: =SUM(B36:M36) -> 3

Sheet 2017
A6: INFORMACIÓN ESTADÍSTICA, ENERO A DICIEMBRE 2017
A7: DIRECCIÓN DE INFORMACIÓN PÚBLICA DEL TRIBUNAL SUPERIOR DE JUSTICIA / PERSONAS ATENDIDAS
A9: Rubros | B9: Enero | C9: Febrero | D9: Marzo | E9: Abril | F9: Mayo | G9: Junio | H9: Julio | I9: Agosto | J9: Septiembre | K9: Octubre | L9: Noviembre | M9: Diciembre | N9: Total
A10: PERSONAS ATENDIDAS | B10: 53 | C10: 50 | D10: 53 | E10: 41 | F10: 52 | G10: 46 | H10: 21 | I10: 65 | J10: 20 | K10: 50 | L10: 68 | M10: 36 | N10: =SUM(B10:M10) -> 555
A12: SOLICITUDES DE INFORMACIÓN PÚBLICA RECIBIDAS
A13: VÍA ELECTRÓNICA (INFOMEX, TELINFOCDMX Y CORREO ELECTRÓNICO) | B13: 175 | C13: 197 | D13: 244 | E13: 171 | F13: 212 | G13: 244 | H13: 210 | I13: 300 | J13: 218 | K13: 239 | L13: 294 | M13: 106 | N13: =SUM(B13:M13) -> 2610
A14: POR ESCRITO (FORMATO IMPRESO) | B14: 53 | C14: 50 | D14: 53 | E14: 41 | F14: 52 | G14: 46 | H14: 21 | I14: 65 | J14: 20 | K14: 50 | L14: 68 | M14: 36 | N14: =SUM(B14:M14) -> 555
A15: SOLICITUDES DIRIGIDAS A JUZGADOS | B15: 21 | C15: 12 | D15: 2 | E15: 7 | F15: 15 | G15: 18 | H15: 9 | I15: 23 | J15: 7 | K15: 4 | L15: 31 | M15: 6 | N15: =SUM(B15:M15) -> 155
A16: SOLICITUDES DIRIGIDAS A SALAS | B16: 4 | C16: 6 | D16: 3 | E16: 4 | F16: 0 | G16: 4 | H16: 4 | I16: 0 | J16: 0 | K16: 1 | L16: 0 | M16: 0 | N16: =SUM(B16:M16) -> 26
A17: SOLICITUDES DIRIGIDAS A ÁREAS DE APOYO JUDICIAL | B17: 48 | C17: 46 | D17: 52 | E17: 48 | F17: 45 | G17: 46 | H17: 24 | I17: 83 | J17: 128 | K17: 55 | L17: 78 | M17: 25 | N17: =SUM(B17:M17) -> 678
A18: SOLICITUDES DIRIGIDAS A ÁREAS ADMINISTRATIVAS | B18: 70 | C18: 95 | D18: 126 | E18: 122 | F18: 81 | G18: 91 | H18: 56 | I18: 182 | J18: 70 | K18: 148 | L18: 121 | M18: 34 | N18: =SUM(B18:M18) -> 1196
A20: SOLICITUDES DE INFORMACIÓN ENTREGADAS Y CASOS EN LOS QUE SE NEGÓ EL ACCESO
A21: SOLICITUDES EN LAS QUE HUBO ENTREGA TOTAL DE LA INFORMACIÓN | B21: 88 | C21: 120 | D21: 244 | E21: 122 | F21: 192 | G21: 155 | H21: 89 | I21: 288 | J21: 125 | K21: 286 | L21: 182 | M21: 134 | N21: =SUM(B21:M21) -> 2025
A22: SOLICITUDES EN LAS QUE SE DECLARÓ LA INEXISTENCIA DE INFORMACIÓN | B22: 0 | C22: 0 | D22: 0 | E22: 0 | F22: 4 | G22: 6 | H22: 0 | I22: 0 | J22: 0 | K22: 0 | L22: 0 | M22: 0 | N22: =SUM(B22:M22) -> 10
A23: SOLICITUDES CUYA INFORMACIÓN SE ENCONTRABA BAJO EL SUPUESTO DE ACCESO RESTRINGIDO | B23: 0 | C23: 0 | D23: 0 | E23: 0 | F23: 2 | G23: 0 | H23: 0 | I23: 0 | J23: 0 | K23: 0 | L23: 0 | M23: 0 | N23: =SUM(B23:M23) -> 2
A24: SOLICITUDES EN LAS QUE SE ENTREGÓ INFORMACIÓN DISTINTA A LA SOLICITADA O EN UN FORMATO INCOMPRENSIBLE | B24: 0 | C24: 0 | D24: 0 | E24: 0 | F24: 0 | G24: 0 | H24: 0 | I24: 0 | J24: 0 | K24: 0 | L24: 0 | M24: 0 | N24: =SUM(B24:M24) -> 0
A25: SOLICITUDES EN LAS QUE HUBO ENTREGA PARCIAL DE INFORMACIÓN | B25: 0 | C25: 0 | D25: 0 | E25: 0 | F25: 0 | G25: 0 | H25: 0 | I25: 0 | J25: 0 | K25: 0 | L25: 0 | M25: 0 | N25: =SUM(B25:M25) -> 0
A26: SOLICITUDES CANALIZADAS A OTRO ENTE PÚBLICO | B26: 0 | C26: 0 | D26: 3 | E26: 1 | F26: 10 | G26: 5 | H26: 5 | I26: 5 | J26: 14 | K26: 11 | L26: 1 | M26: 5 | N26: =SUM(B26:M26) -> 60
A27: SOLICITUDES PREVENIDAS SIN DESAHOGO POR PARTE DEL PETICIONARIO | B27: 31 | C27: 28 | D27: 33 | E27: 20 | F27: 33 | G27: 37 | H27: 26 | I27: 27 | J27: 27 | K27: 14 | L27: 8 | M27: 22 | N27: =SUM(B27:M27) -> 306
A28: SOLICITUDES ORIENTADAS PARA SU TRAMITACIÓN ANTE OTRO ENTE PÚBLICO POR PARTE DEL PETICIONARIO | B28: 11 | C28: 11 | D28: 24 | E28: 12 | F28: 15 | G28: 18 | H28: 6 | I28: 16 | J28: 15 | K28: 16 | L28: 13 | M28: 7 | N28: =SUM(B28:M28) -> 164
A30: RECURSOS DE REVISIÓN
A31: NÚMERO TOTAL DE RECURSOS DE REVISIÓN | B31: 0 | C31: 8 | D31: 3 | E31: 0 | F31: 4 | G31: 3 | H31: 6 | I31: 8 | J31: 0 | K31: 3 | L31: 7 | M31: 2 | N31: =SUM(B31:M31) -> 44
A32: RECURSOS DE REVISIÓN DESHECHADOS IMPROCEDENTES | B32: 0 | C32: 0 | D32: 0 | E32: 0 | F32: 0 | G32: 0 | H32: 0 | I32: 0 | J32: 0 | K32: 0 | L32: 0 | M32: 0 | N32: =SUM(B32:M32) -> 0
A33: RECURSOS DE REVISIÓN DESHECHADOS SOBRESEÍDOS | B33: 0 | C33: 2 | D33: 0 | E33: 0 | F33: 0 | G33: 4 | H33: 2 | I33: 0 | J33: 1 | K33: 1 | L33: 2 | M33: 1 | N33: =SUM(B33:M33) -> 13
A34: RECURSOS QUE CONFIRMAN EL ACTO O RESOLUCIÓN IMPUGNADA | B34: 0 | C34: 0 | D34: 3 | E34: 0 | F34: 0 | G34: 0 | H34: 1 | I34: 1 | J34: 0 | K34: 2 | L34: 2 | M34: 0 | N34: =SUM(B34:M34) -> 9
A35: RECURSOS DE MODIFICAN EL ACTO O RESOLUCIÓN IMPUGNADA | B35: 0 | C35: 0 | D35: 0 | E35: 0 | F35: 1 | G35: 0 | H35: 0 | I35: 1 | J35: 0 | K35: 2 | L35: 1 | M35: 0 | N35: =SUM(B35:M35) -> 5
A36: RECURSOS DE REVOCAN EL ACTO O RESOLUCIÓN IMPUGNADA | B36: 0 | C36: 0 | D36: 0 | E36: 0 | F36: 0 | G36: 0 | H36: 1 | I36: 0 | J36: 0 | K36: 0 | L36: 0 | M36: 0 | N36: =SUM(B36:M36) -> 1

Sheet 2016
A6: INFORMACIÓN ESTADÍSTICA, ENERO A DICIEMBRE 2016
A7: DIRECCIÓN DE INFORMACIÓN PÚBLICA DEL TRIBUNAL SUPERIOR DE JUSTICIA / PERSONAS ATENDIDAS
A9: Rubros | B9: Enero | C9: Febrero | D9: Marzo | E9: Abril | F9: Mayo | G9: Junio | H9: Julio | I9: Agosto | J9: Septiembre | K9: Octubre | L9: Noviembre | M9: Diciembre | N9: Total
A10: PERSONAS ATENDIDAS | B10: 46 | C10: 45 | D10: 36 | E10: 38 | F10: 45 | G10: 84 | H10: 22 | I10: 53 | J10: 47 | K10: 37 | L10: 45 | M10: 20 | N10: =SUM(B10:M10) -> 518
A12: SOLICITUDES DE INFORMACIÓN PÚBLICA RECIBIDAS
A13: VÍA ELECTRÓNICA (INFOMEX, TELINFOCDMX Y CORREO ELECTRÓNICO) | B13: 123 | C13: 190 | D13: 145 | E13: 178 | F13: 298 | G13: 176 | H13: 67 | I13: 180 | J13: 190 | K13: 165 | L13: 183 | M13: 68 | N13: =SUM(B13:M13) -> 1963
A14: POR ESCRITO (FORMATO IMPRESO) | B14: 46 | C14: 45 | D14: 36 | E14: 38 | F14: 45 | G14: 84 | H14: 22 | I14: 53 | J14: 47 | K14: 37 | L14: 45 | M14: 20 | N14: =SUM(B14:M14) -> 518
A15: SOLICITUDES DIRIGIDAS A JUZGADOS | B15: 8 | C15: 5 | D15: 3 | E15: 15 | F15: 4 | G15: 17 | H15: 6 | I15: 20 | J15: 5 | K15: 13 | L15: 9 | M15: 11 | N15: =SUM(B15:M15) -> 116
A16: SOLICITUDES DIRIGIDAS A SALAS | B16: 0 | C16: 2 | D16: 3 | E16: 11 | F16: 0 | G16: 3 | H16: 1 | I16: 3 | J16: 2 | K16: 9 | L16: 1 | M16: 1 | N16: =SUM(B16:M16) -> 36
A17: SOLICITUDES DIRIGIDAS A ÁREAS DE APOYO JUDICIAL | B17: 48 | C17: 51 | D17: 55 | E17: 60 | F17: 50 | G17: 41 | H17: 4 | I17: 70 | J17: 40 | K17: 42 | L17: 56 | M17: 14 | N17: =SUM(B17:M17) -> 531
A18: SOLICITUDES DIRIGIDAS A ÁREAS ADMINISTRATIVAS | B18: 66 | C18: 90 | D18: 61 | E18: 43 | F18: 64 | G18: 113 | H18: 50 | I18: 85 | J18: 80 | K18: 89 | L18: 61 | M18: 17 | N18: =SUM(B18:M18) -> 819
A20: SOLICITUDES DE INFORMACIÓN ENTREGADAS Y CASOS EN LOS QUE SE NEGÓ EL ACCESO
A21: SOLICITUDES EN LAS QUE HUBO ENTREGA TOTAL DE LA INFORMACIÓN | B21: 87 | C21: 131 | D21: 122 | E21: 130 | F21: 144 | G21: 167 | H21: 70 | I21: 175 | J21: 123 | K21: 135 | L21: 119 | M21: 92 | N21: =SUM(B21:M21) -> 1495
A22: SOLICITUDES EN LAS QUE SE DECLARÓ LA INEXISTENCIA DE INFORMACIÓN | B22: 0 | C22: 0 | D22: 0 | E22: 0 | F22: 0 | G22: 0 | H22: 0 | I22: 0 | J22: 0 | K22: 0 | L22: 0 | M22: 0 | N22: =SUM(B22:M22) -> 0
A23: SOLICITUDES CUYA INFORMACIÓN SE ENCONTRABA BAJO EL SUPUESTO DE ACCESO RESTRINGIDO | B23: 2 | C23: 0 | D23: 0 | E23: 0 | F23: 0 | G23: 6 | H23: 2 | I23: 4 | J23: 5 | K23: 10 | L23: 4 | M23: 0 | N23: =SUM(B23:M23) -> 33
A24: SOLICITUDES EN LAS QUE SE ENTREGÓ INFORMACIÓN DISTINTA A LA SOLICITADA O EN UN FORMATO INCOMPRENSIBLE | B24: 0 | C24: 0 | D24: 0 | E24: 0 | F24: 0 | G24: 0 | H24: 0 | I24: 0 | J24: 0 | K24: 0 | L24: 0 | M24: 0 | N24: =SUM(B24:M24) -> 0
A25: SOLICITUDES EN LAS QUE HUBO ENTREGA PARCIAL DE INFORMACIÓN | B25: 0 | C25: 0 | D25: 0 | E25: 0 | F25: 0 | G25: 0 | H25: 0 | I25: 0 | J25: 0 | K25: 0 | L25: 0 | M25: 0 | N25: =SUM(B25:M25) -> 0
A26: SOLICITUDES CANALIZADAS A OTRO ENTE PÚBLICO | B26: 9 | C26: 15 | D26: 9 | E26: 8 | F26: 8 | G26: 0 | H26: 0 | I26: 0 | J26: 0 | K26: 0 | L26: 0 | M26: 0 | N26: =SUM(B26:M26) -> 49
A27: SOLICITUDES PREVENIDAS SIN DESAHOGO POR PARTE DEL PETICIONARIO | B27: 28 | C27: 40 | D27: 29 | E27: 45 | F27: 98 | G27: 35 | H27: 9 | I27: 40 | J27: 24 | K27: 20 | L27: 20 | M27: 11 | N27: =SUM(B27:M27) -> 399
A28: SOLICITUDES ORIENTADAS PARA SU TRAMITACIÓN ANTE OTRO ENTE PÚBLICO POR PARTE DEL PETICIONARIO | B28: 6 | C28: 13 | D28: 5 | E28: 3 | F28: 25 | G28: 14 | H28: 12 | I28: 20 | J28: 15 | K28: 16 | L28: 16 | M28: 9 | N28: =SUM(B28:M28) -> 154
A30: RECURSOS DE REVISIÓN
A31: NÚMERO TOTAL DE RECURSOS DE REVISIÓN | B31: 5 | C31: 1 | D31: 2 | E31: 2 | F31: 2 | G31: 3 | H31: 0 | I31: 8 | J31: 6 | K31: 4 | L31: 3 | M31: 3 | N31: =SUM(B31:M31) -> 39
A32: RECURSOS DE REVISIÓN DESHECHADOS IMPROCEDENTES | B32: 0 | C32: 0 | D32: 0 | E32: 0 | F32: 0 | G32: 0 | H32: 0 | I32: 0 | J32: 0 | K32: 0 | L32: 0 | M32: 0 | N32: =SUM(B32:M32) -> 0
A33: RECURSOS DE REVISIÓN DESHECHADOS SOBRESEÍDOS | B33: 0 | C33: 2 | D33: 2 | E33: 2 | F33: 1 | G33: 1 | H33: 0 | I33: 3 | J33: 1 | K33: 1 | L33: 1 | M33: 1 | N33: =SUM(B33:M33) -> 15
A34: RECURSOS QUE CONFIRMAN EL ACTO O RESOLUCIÓN IMPUGNADA | B34: 0 | C34: 0 | D34: 0 | E34: 1 | F34: 1 | G34: 0 | H34: 0 | I34: 1 | J34: 0 | K34: 4 | L34: 0 | M34: 0 | N34: =SUM(B34:M34) -> 7
A35: RECURSOS DE MODIFICAN EL ACTO O RESOLUCIÓN IMPUGNADA | B35: 0 | C35: 0 | D35: 1 | E35: 0 | F35: 0 | G35: 1 | H35: 0 | I35: 0 | J35: 4 | K35: 0 | L35: 0 | M35: 0 | N35: =SUM(B35:M35) -> 6
A36: RECURSOS DE REVOCAN EL ACTO O RESOLUCIÓN IMPUGNADA | B36: 0 | C36: 0 | D36: 1 | E36: 1 | F36: 0 | G36: 0 | H36: 0 | I36: 1 | J36: 0 | K36: 2 | L36: 0 | M36: 0 | N36: =SUM(B36:M36) -> 5

Sheet 2015
A6: INFORMACIÓN ESTADÍSTICA, ENERO A DICIEMBRE 2015
A7: DIRECCIÓN DE INFORMACIÓN PÚBLICA DEL TRIBUNAL SUPERIOR DE JUSTICIA / PERSONAS ATENDIDAS
A9: Rubros | B9: Enero | C9: Febrero | D9: Marzo | E9: Abril | F9: Mayo | G9: Junio | H9: Julio | I9: Agosto | J9: Septiembre | K9: Octubre | L9: Noviembre | M9: Diciembre | N9: Total
A10: PERSONAS ATENDIDAS | B10: 30 | C10: 36 | D10: 43 | E10: 37 | F10: 31 | G10: 45 | H10: 11 | I10: 41 | J10: 36 | K10: 35 | L10: 31 | M10: 10 | N10: =SUM(B10:M10) -> 386
A12: SOLICITUDES DE INFORMACIÓN PÚBLICA RECIBIDAS
A13: VÍA ELECTRÓNICA (INFOMEX, TELINFOCDMX Y CORREO ELECTRÓNICO) | B13: 162 | C13: 165 | D13: 166 | E13: 173 | F13: 124 | G13: 144 | H13: 52 | I13: 222 | J13: 111 | K13: 169 | L13: 135 | M13: 36 | N13: =SUM(B13:M13) -> 1659
A14: POR ESCRITO (FORMATO IMPRESO) | B14: 30 | C14: 36 | D14: 43 | E14: 37 | F14: 31 | G14: 45 | H14: 11 | I14: 41 | J14: 36 | K14: 35 | L14: 31 | M14: 10 | N14: =SUM(B14:M14) -> 386
A15: SOLICITUDES DIRIGIDAS A JUZGADOS | B15: 6 | C15: 3 | D15: 1 | E15: 6 | F15: 6 | G15: 6 | H15: 2 | I15: 4 | J15: 13 | K15: 0 | L15: 9 | M15: 2 | N15: =SUM(B15:M15) -> 58
A16: SOLICITUDES DIRIGIDAS A SALAS | B16: 0 | C16: 0 | D16: 0 | E16: 1 | F16: 1 | G16: 0 | H16: 0 | I16: 1 | J16: 1 | K16: 0 | L16: 1 | M16: 1 | N16: =SUM(B16:M16) -> 6
A17: SOLICITUDES DIRIGIDAS A ÁREAS DE APOYO JUDICIAL | B17: 47 | C17: 33 | D17: 37 | E17: 42 | F17: 70 | G17: 76 | H17: 19 | I17: 28 | J17: 25 | K17: 53 | L17: 17 | M17: 14 | N17: =SUM(B17:M17) -> 461
A18: SOLICITUDES DIRIGIDAS A ÁREAS ADMINISTRATIVAS | B18: 53 | C18: 33 | D18: 47 | E18: 38 | F18: 15 | G18: 16 | H18: 2 | I18: 52 | J18: 40 | K18: 64 | L18: 56 | M18: 9 | N18: =SUM(B18:M18) -> 425
A20: SOLICITUDES DE INFORMACIÓN ENTREGADAS Y CASOS EN LOS QUE SE NEGÓ EL ACCESO
A21: SOLICITUDES EN LAS QUE HUBO ENTREGA TOTAL DE LA INFORMACIÓN | B21: 105 | C21: 99 | D21: 78 | E21: 108 | F21: 108 | G21: 108 | H21: 40 | I21: 96 | J21: 80 | K21: 95 | L21: 101 | M21: 111 | N21: =SUM(B21:M21) -> 1129
A22: SOLICITUDES EN LAS QUE SE DECLARÓ LA INEXISTENCIA DE INFORMACIÓN | B22: 0 | C22: 0 | D22: 0 | E22: 0 | F22: 0 | G22: 0 | H22: 0 | I22: 0 | J22: 0 | K22: 0 | L22: 2 | M22: 0 | N22: =SUM(B22:M22) -> 2
A23: SOLICITUDES CUYA INFORMACIÓN SE ENCONTRABA BAJO EL SUPUESTO DE ACCESO RESTRINGIDO | B23: 0 | C23: 0 | D23: 0 | E23: 0 | F23: 0 | G23: 0 | H23: 0 | I23: 0 | J23: 0 | K23: 0 | L23: 0 | M23: 0 | N23: =SUM(B23:M23) -> 0
A24: SOLICITUDES EN LAS QUE SE ENTREGÓ INFORMACIÓN DISTINTA A LA SOLICITADA O EN UN FORMATO INCOMPRENSIBLE | B24: 0 | C24: 0 | D24: 0 | E24: 0 | F24: 0 | G24: 0 | H24: 0 | I24: 0 | J24: 0 | K24: 0 | L24: 0 | M24: 0 | N24: =SUM(B24:M24) -> 0
A25: SOLICITUDES EN LAS QUE HUBO ENTREGA PARCIAL DE INFORMACIÓN | B25: 0 | C25: 0 | D25: 0 | E25: 0 | F25: 0 | G25: 0 | H25: 0 | I25: 0 | J25: 0 | K25: 0 | L25: 0 | M25: 0 | N25: =SUM(B25:M25) -> 0
A26: SOLICITUDES CANALIZADAS A OTRO ENTE PÚBLICO | B26: 14 | C26: 11 | D26: 7 | E26: 4 | F26: 8 | G26: 5 | H26: 3 | I26: 16 | J26: 1 | K26: 16 | L26: 12 | M26: 1 | N26: =SUM(B26:M26) -> 98
A27: SOLICITUDES PREVENIDAS SIN DESAHOGO POR PARTE DEL PETICIONARIO | B27: 14 | C27: 43 | D27: 16 | E27: 41 | F27: 21 | G27: 37 | H27: 9 | I27: 18 | J27: 32 | K27: 36 | L27: 26 | M27: 21 | N27: =SUM(B27:M27) -> 314
A28: SOLICITUDES ORIENTADAS PARA SU TRAMITACIÓN ANTE OTRO ENTE PÚBLICO POR PARTE DEL PETICIONARIO | B28: 6 | C28: 10 | D28: 9 | E28: 12 | F28: 4 | G28: 1 | H28: 0 | I28: 2 | J28: 6 | K28: 3 | L28: 7 | M28: 0 | N28: =SUM(B28:M28) -> 60
A30: RECURSOS DE REVISIÓN
A31: NÚMERO TOTAL DE RECURSOS DE REVISIÓN | B31: 1 | C31: 5 | D31: 3 | E31: 3 | F31: 1 | G31: 7 | H31: 2 | I31: 3 | J31: 1 | K31: 0 | L31: 3 | M31: 1 | N31: =SUM(B31:M31) -> 30
A32: RECURSOS DE REVISIÓN DESHECHADOS IMPROCEDENTES | B32: 0 | C32: 0 | D32: 0 | E32: 0 | F32: 0 | G32: 0 | H32: 0 | I32: 0 | J32: 0 | K32: 0 | L32: 0 | M32: 0 | N32: =SUM(B32:M32) -> 0
A33: RECURSOS DE REVISIÓN DESHECHADOS SOBRESEÍDOS | B33: 1 | C33: 0 | D33: 0 | E33: 0 | F33: 2 | G33: 4 | H33: 2 | I33: 0 | J33: 6 | K33: 0 | L33: 1 | M33: 0 | N33: =SUM(B33:M33) -> 16
A34: RECURSOS QUE CONFIRMAN EL ACTO O RESOLUCIÓN IMPUGNADA | B34: 0 | C34: 0 | D34: 1 | E34: 0 | F34: 3 | G34: 1 | H34: 0 | I34: 0 | J34: 0 | K34: 1 | L34: 0 | M34: 0 | N34: =SUM(B34:M34) -> 6
A35: RECURSOS DE MODIFICAN EL ACTO O RESOLUCIÓN IMPUGNADA | B35: 0 | C35: 1 | D35: 0 | E35: 0 | F35: 0 | G35: 1 | H35: 1 | I35: 0 | J35: 1 | K35: 1 | L35: 1 | M35: 0 | N35: =SUM(B35:M35) -> 6
A36: RECURSOS DE REVOCAN EL ACTO O RESOLUCIÓN IMPUGNADA | B36: 0 | C36: 0 | D36: 0 | E36: 0 | F36: 0 | G36: 0 | H36: 1 | I36: 0 | J36: 0 | K36: 1 | L36: 0 | M36: 1 | N36: =SUM(B36:M36) -> 3

Sheet 2014
A6: INFORMACIÓN ESTADÍSTICA, ENERO A DICIEMBRE 2014
A7: DIRECCIÓN DE INFORMACIÓN PÚBLICA DEL TRIBUNAL SUPERIOR DE JUSTICIA / PERSONAS ATENDIDAS
A9: Rubros | B9: Enero | C9: Febrero | D9: Marzo | E9: Abril | F9: Mayo | G9: Junio | H9: Julio | I9: Agosto | J9: Septiembre | K9: Octubre | L9: Noviembre | M9: Diciembre | N9: Total
A10: PERSONAS ATENDIDAS | B10: 27 | C10: 35 | D10: 50 | E10: 22 | F10: 40 | G10: 34 | H10: 15 | I10: 41 | J10: 33 | K10: 34 | L10: 17 | M10: 9 | N10: =SUM(B10:M10) -> 357
A12: SOLICITUDES DE INFORMACIÓN PÚBLICA RECIBIDAS
A13: VÍA ELECTRÓNICA (INFOMEX, TELINFOCDMX Y CORREO ELECTRÓNICO) | B13: 68 | C13: 108 | D13: 40 | E13: 122 | F13: 168 | G13: 280 | H13: 30 | I13: 165 | J13: 154 | K13: 172 | L13: 100 | M13: 53 | N13: =SUM(B13:M13) -> 1460
A14: POR ESCRITO (FORMATO IMPRESO) | B14: 27 | C14: 35 | D14: 50 | E14: 22 | F14: 40 | G14: 34 | H14: 15 | I14: 41 | J14: 33 | K14: 34 | L14: 17 | M14: 9 | N14: =SUM(B14:M14) -> 357
A15: SOLICITUDES DIRIGIDAS A JUZGADOS | B15: 1 | C15: 3 | D15: 6 | E15: 7 | F15: 10 | G15: 13 | H15: 2 | I15: 10 | J15: 6 | K15: 17 | L15: 4 | M15: 2 | N15: =SUM(B15:M15) -> 81
A16: SOLICITUDES DIRIGIDAS A SALAS | B16: 0 | C16: 0 | D16: 0 | E16: 0 | F16: 2 | G16: 3 | H16: 0 | I16: 0 | J16: 0 | K16: 0 | L16: 0 | M16: 0 | N16: =SUM(B16:M16) -> 5
A17: SOLICITUDES DIRIGIDAS A ÁREAS DE APOYO JUDICIAL | B17: 41 | C17: 61 | D17: 68 | E17: 30 | F17: 41 | G17: 61 | H17: 37 | I17: 62 | J17: 66 | K17: 33 | L17: 35 | M17: 13 | N17: =SUM(B17:M17) -> 548
A18: SOLICITUDES DIRIGIDAS A ÁREAS ADMINISTRATIVAS | B18: 54 | C18: 74 | D18: 22 | E18: 71 | F18: 82 | G18: 102 | H18: 8 | I18: 21 | J18: 17 | K18: 49 | L18: 18 | M18: 9 | N18: =SUM(B18:M18) -> 527
A20: SOLICITUDES DE INFORMACIÓN ENTREGADAS Y CASOS EN LOS QUE SE NEGÓ EL ACCESO
A21: SOLICITUDES EN LAS QUE HUBO ENTREGA TOTAL DE LA INFORMACIÓN | B21: 91 | C21: 100 | D21: 126 | E21: 130 | F21: 141 | G21: 160 | H21: 124 | I21: 132 | J21: 79 | K21: 115 | L21: 91 | M21: 20 | N21: =SUM(B21:M21) -> 1309
A22: SOLICITUDES EN LAS QUE SE DECLARÓ LA INEXISTENCIA DE INFORMACIÓN | B22: 0 | C22: 0 | D22: 0 | E22: 0 | F22: 0 | G22: 0 | H22: 0 | I22: 0 | J22: 0 | K22: 0 | L22: 0 | M22: 0 | N22: =SUM(B22:M22) -> 0
A23: SOLICITUDES CUYA INFORMACIÓN SE ENCONTRABA BAJO EL SUPUESTO DE ACCESO RESTRINGIDO | B23: 0 | C23: 0 | D23: 0 | E23: 1 | F23: 3 | G23: 6 | H23: 0 | I23: 0 | J23: 0 | K23: 0 | L23: 0 | M23: 0 | N23: =SUM(B23:M23) -> 10
A24: SOLICITUDES EN LAS QUE SE ENTREGÓ INFORMACIÓN DISTINTA A LA SOLICITADA O EN UN FORMATO INCOMPRENSIBLE | B24: 0 | C24: 0 | D24: 0 | E24: 0 | F24: 0 | G24: 0 | H24: 0 | I24: 0 | J24: 0 | K24: 0 | L24: 0 | M24: 0 | N24: =SUM(B24:M24) -> 0
A25: SOLICITUDES EN LAS QUE HUBO ENTREGA PARCIAL DE INFORMACIÓN | B25: 0 | C25: 0 | D25: 0 | E25: 0 | F25: 0 | G25: 0 | H25: 0 | I25: 0 | J25: 0 | K25: 0 | L25: 0 | M25: 0 | N25: =SUM(B25:M25) -> 0
A26: SOLICITUDES CANALIZADAS A OTRO ENTE PÚBLICO | B26: 7 | C26: 19 | D26: 8 | E26: 7 | F26: 7 | G26: 10 | H26: 3 | I26: 5 | J26: 10 | K26: 1 | L26: 20 | M26: 2 | N26: =SUM(B26:M26) -> 99
A27: SOLICITUDES PREVENIDAS SIN DESAHOGO POR PARTE DEL PETICIONARIO | B27: 43 | C27: 30 | D27: 43 | E27: 45 | F27: 60 | G27: 70 | H27: 25 | I27: 40 | J27: 49 | K27: 64 | L27: 33 | M27: 22 | N27: =SUM(B27:M27) -> 524
A28: SOLICITUDES ORIENTADAS PARA SU TRAMITACIÓN ANTE OTRO ENTE PÚBLICO POR PARTE DEL PETICIONARIO | B28: 5 | C28: 8 | D28: 2 | E28: 3 | F28: 4 | G28: 10 | H28: 9 | I28: 16 | J28: 4 | K28: 3 | L28: 0 | M28: 0 | N28: =SUM(B28:M28) -> 64
A30: RECURSOS DE REVISIÓN
A31: NÚMERO TOTAL DE RECURSOS DE REVISIÓN | B31: 1 | C31: 3 | D31: 2 | E31: 1 | F31: 2 | G31: 3 | H31: 0 | I31: 1 | J31: 4 | K31: 3 | L31: 1 | M31: 0 | N31: =SUM(B31:M31) -> 21
A32: RECURSOS DE REVISIÓN DESHECHADOS IMPROCEDENTES | B32: 0 | C32: 0 | D32: 0 | E32: 0 | F32: 0 | G32: 0 | H32: 0 | I32: 0 | J32: 0 | K32: 0 | L32: 0 | M32: 0 | N32: =SUM(B32:M32) -> 0
A33: RECURSOS DE REVISIÓN DESHECHADOS SOBRESEÍDOS | B33: 0 | C33: 1 | D33: 1 | E33: 0 | F33: 0 | G33: 0 | H33: 0 | I33: 3 | J33: 0 | K33: 0 | L33: 2 | M33: 1 | N33: =SUM(B33:M33) -> 8
A34: RECURSOS QUE CONFIRMAN EL ACTO O RESOLUCIÓN IMPUGNADA | B34: 0 | C34: 0 | D34: 0 | E34: 0 | F34: 0 | G34: 0 | H34: 1 | I34: 0 | J34: 1 | K34: 0 | L34: 0 | M34: 0 | N34: =SUM(B34:M34) -> 2
A35: RECURSOS DE MODIFICAN EL ACTO O RESOLUCIÓN IMPUGNADA | B35: 1 | C35: 0 | D35: 0 | E35: 2 | F35: 2 | G35: 0 | H35: 0 | I35: 0 | J35: 1 | K35: 0 | L35: 2 | M35: 0 | N35: =SUM(B35:M35) -> 8
A36: RECURSOS DE REVOCAN EL ACTO O RESOLUCIÓN IMPUGNADA | B36: 0 | C36: 0 | D36: 0 | E36: 0 | F36: 0 | G36: 1 | H36: 0 | I36: 0 | J36: 0 | K36: 0 | L36: 0 | M36: 1 | N36: =SUM(B36:M36) -> 2

Sheet 2013
A6: INFORMACIÓN ESTADÍSTICA, ENERO A DICIEMBRE 2013
A7: DIRECCIÓN DE INFORMACIÓN PÚBLICA DEL TRIBUNAL SUPERIOR DE JUSTICIA / PERSONAS ATENDIDAS
A9: Rubros | B9: Enero | C9: Febrero | D9: Marzo | E9: Abril | F9: Mayo | G9: Junio | H9: Julio | I9: Agosto | J9: Septiembre | K9: Octubre | L9: Noviembre | M9: Diciembre | N9: Total
A10: PERSONAS ATENDIDAS | B10: 68 | C10: 50 | D10: 47 | E10: 85 | F10: 60 | G10: 50 | H10: 30 | I10: 73 | J10: 50 | K10: 60 | L10: 60 | M10: 15 | N10: =SUM(B10:M10) -> 648
A12: SOLICITUDES DE INFORMACIÓN PÚBLICA RECIBIDAS
A13: VÍA ELECTRÓNICA (INFOMEX, TELINFOCDMX Y CORREO ELECTRÓNICO) | B13: 70 | C13: 62 | D13: 45 | E13: 100 | F13: 78 | G13: 53 | H13: 45 | I13: 90 | J13: 80 | K13: 93 | L13: 82 | M13: 11 | N13: =SUM(B13:M13) -> 809
A14: POR ESCRITO (FORMATO IMPRESO) | B14: 68 | C14: 50 | D14: 47 | E14: 85 | F14: 60 | G14: 50 | H14: 30 | I14: 73 | J14: 50 | K14: 60 | L14: 60 | M14: 15 | N14: =SUM(B14:M14) -> 648
A15: SOLICITUDES DIRIGIDAS A JUZGADOS | B15: 9 | C15: 16 | D15: 11 | E15: 20 | F15: 21 | G15: 7 | H15: 4 | I15: 5 | J15: 7 | K15: 7 | L15: 10 | M15: 1 | N15: =SUM(B15:M15) -> 118
A16: SOLICITUDES DIRIGIDAS A SALAS | B16: 0 | C16: 0 | D16: 0 | E16: 1 | F16: 0 | G16: 0 | H16: 0 | I16: 1 | J16: 1 | K16: 0 | L16: 0 | M16: 0 | N16: =SUM(B16:M16) -> 3
A17: SOLICITUDES DIRIGIDAS A ÁREAS DE APOYO JUDICIAL | B17: 33 | C17: 58 | D17: 25 | E17: 52 | F17: 34 | G17: 42 | H17: 50 | I17: 43 | J17: 33 | K17: 42 | L17: 58 | M17: 14 | N17: =SUM(B17:M17) -> 484
A18: SOLICITUDES DIRIGIDAS A ÁREAS ADMINISTRATIVAS | B18: 7 | C18: 10 | D18: 13 | E18: 21 | F18: 32 | G18: 17 | H18: 6 | I18: 75 | J18: 39 | K18: 33 | L18: 13 | M18: 12 | N18: =SUM(B18:M18) -> 278
A20: SOLICITUDES DE INFORMACIÓN ENTREGADAS Y CASOS EN LOS QUE SE NEGÓ EL ACCESO
A21: SOLICITUDES EN LAS QUE HUBO ENTREGA TOTAL DE LA INFORMACIÓN | B21: 83 | C21: 83 | D21: 66 | E21: 132 | F21: 92 | G21: 90 | H21: 33 | I21: 101 | J21: 100 | K21: 70 | L21: 103 | M21: 45 | N21: =SUM(B21:M21) -> 998
A22: SOLICITUDES EN LAS QUE SE DECLARÓ LA INEXISTENCIA DE INFORMACIÓN | B22: 0 | C22: 0 | D22: 0 | E22: 0 | F22: 0 | G22: 0 | H22: 0 | I22: 0 | J22: 0 | K22: 0 | L22: 0 | M22: 0 | N22: =SUM(B22:M22) -> 0
A23: SOLICITUDES CUYA INFORMACIÓN SE ENCONTRABA BAJO EL SUPUESTO DE ACCESO RESTRINGIDO | B23: 0 | C23: 0 | D23: 0 | E23: 0 | F23: 0 | G23: 0 | H23: 0 | I23: 0 | J23: 0 | K23: 0 | L23: 0 | M23: 0 | N23: =SUM(B23:M23) -> 0
A24: SOLICITUDES EN LAS QUE SE ENTREGÓ INFORMACIÓN DISTINTA A LA SOLICITADA O EN UN FORMATO INCOMPRENSIBLE | B24: 0 | C24: 0 | D24: 0 | E24: 0 | F24: 0 | G24: 0 | H24: 0 | I24: 0 | J24: 0 | K24: 0 | L24: 0 | M24: 0 | N24: =SUM(B24:M24) -> 0
A25: SOLICITUDES EN LAS QUE HUBO ENTREGA PARCIAL DE INFORMACIÓN | B25: 0 | C25: 0 | D25: 0 | E25: 0 | F25: 0 | G25: 0 | H25: 0 | I25: 0 | J25: 0 | K25: 0 | L25: 0 | M25: 0 | N25: =SUM(B25:M25) -> 0
A26: SOLICITUDES CANALIZADAS A OTRO ENTE PÚBLICO | B26: 8 | C26: 6 | D26: 6 | E26: 10 | F26: 9 | G26: 14 | H26: 1 | I26: 6 | J26: 10 | K26: 18 | L26: 19 | M26: 9 | N26: =SUM(B26:M26) -> 116
A27: SOLICITUDES PREVENIDAS SIN DESAHOGO POR PARTE DEL PETICIONARIO | B27: 39 | C27: 27 | D27: 28 | E27: 63 | F27: 48 | G27: 28 | H27: 17 | I27: 44 | J27: 32 | K27: 38 | L27: 42 | M27: 12 | N27: =SUM(B27:M27) -> 418
A28: SOLICITUDES ORIENTADAS PARA SU TRAMITACIÓN ANTE OTRO ENTE PÚBLICO POR PARTE DEL PETICIONARIO | B28: 6 | C28: 0 | D28: 2 | E28: 11 | F28: 0 | G28: 0 | H28: 0 | I28: 13 | J28: 4 | K28: 2 | L28: 16 | M28: 0 | N28: =SUM(B28:M28) -> 54
A30: RECURSOS DE REVISIÓN
A31: NÚMERO TOTAL DE RECURSOS DE REVISIÓN | B31: 2 | C31: 1 | D31: 0 | E31: 5 | F31: 1 | G31: 0 | H31: 0 | I31: 0 | J31: 1 | K31: 3 | L31: 2 | M31: 1 | N31: =SUM(B31:M31) -> 16
A32: RECURSOS DE REVISIÓN DESHECHADOS IMPROCEDENTES | B32: 0 | C32: 0 | D32: 0 | E32: 0 | F32: 0 | G32: 0 | H32: 0 | I32: 0 | J32: 0 | K32: 0 | L32: 0 | M32: 0 | N32: =SUM(B32:M32) -> 0
A33: RECURSOS DE REVISIÓN DESHECHADOS SOBRESEÍDOS | B33: 1 | C33: 1 | D33: 0 | E33: 1 | F33: 0 | G33: 2 | H33: 0 | I33: 0 | J33: 0 | K33: 0 | L33: 0 | M33: 0 | N33: =SUM(B33:M33) -> 5
A34: RECURSOS QUE CONFIRMAN EL ACTO O RESOLUCIÓN IMPUGNADA | B34: 0 | C34: 0 | D34: 0 | E34: 2 | F34: 0 | G34: 1 | H34: 0 | I34: 0 | J34: 0 | K34: 0 | L34: 1 | M34: 2 | N34: =SUM(B34:M34) -> 6
A35: RECURSOS DE MODIFICAN EL ACTO O RESOLUCIÓN IMPUGNADA | B35: 0 | C35: 0 | D35: 0 | E35: 0 | F35: 0 | G35: 1 | H35: 1 | I35: 0 | J35: 0 | K35: 0 | L35: 0 | M35: 0 | N35: =SUM(B35:M35) -> 2
A36: RECURSOS DE REVOCAN EL ACTO O RESOLUCIÓN IMPUGNADA | B36: 0 | C36: 0 | D36: 0 | E36: 0 | F36: 0 | G36: 1 | H36: 0 | I36: 0 | J36: 0 | K36: 0 | L36: 0 | M36: 1 | N36: =SUM(B36:M36) -> 2

Sheet 2012
A6: INFORMACIÓN ESTADÍSTICA, ENERO A DICIEMBRE 2012
A7: DIRECCIÓN DE INFORMACIÓN PÚBLICA DEL TRIBUNAL SUPERIOR DE JUSTICIA / PERSONAS ATENDIDAS
A9: Rubros | B9: Enero | C9: Febrero | D9: Marzo | E9: Abril | F9: Mayo | G9: Junio | H9: Julio | I9: Agosto | J9: Septiembre | K9: Octubre | L9: Noviembre | M9: Diciembre | N9: Total
A10: PERSONAS ATENDIDAS | B10: 54 | C10: 61 | D10: 37 | E10: 43 | F10: 49 | G10: 54 | H10: 30 | I10: 65 | J10: 41 | K10: 35 | L10: 23 | M10: 19 | N10: =SUM(B10:M10) -> 511
A12: SOLICITUDES DE INFORMACIÓN PÚBLICA RECIBIDAS
A13: VÍA ELECTRÓNICA (INFOMEX, TELINFOCDMX Y CORREO ELECTRÓNICO) | B13: 99 | C13: 87 | D13: 107 | E13: 133 | F13: 123 | G13: 123 | H13: 40 | I13: 129 | J13: 37 | K13: 117 | L13: 73 | M13: 24 | N13: =SUM(B13:M13) -> 1092
A14: POR ESCRITO (FORMATO IMPRESO) | B14: 29 | C14: 35 | D14: 23 | E14: 20 | F14: 14 | G14: 37 | H14: 13 | I14: 49 | J14: 15 | K14: 22 | L14: 4 | M14: 19 | N14: =SUM(B14:M14) -> 280
A15: SOLICITUDES DIRIGIDAS A JUZGADOS | B15: 72 | C15: 6 | D15: 5 | E15: 8 | F15: 11 | G15: 12 | H15: 4 | I15: 6 | J15: 3 | K15: 4 | L15: 5 | M15: 8 | N15: =SUM(B15:M15) -> 144
A16: SOLICITUDES DIRIGIDAS A SALAS | B16: 2 | C16: 0 | D16: 1 | E16: 1 | F16: 1 | G16: 0 | H16: 0 | I16: 2 | J16: 0 | K16: 0 | L16: 1 | M16: 0 | N16: =SUM(B16:M16) -> 8
A17: SOLICITUDES DIRIGIDAS A ÁREAS DE APOYO JUDICIAL | B17: 50 | C17: 75 | D17: 57 | E17: 63 | F17: 43 | G17: 45 | H17: 26 | I17: 71 | J17: 44 | K17: 86 | L17: 24 | M17: 32 | N17: =SUM(B17:M17) -> 616
A18: SOLICITUDES DIRIGIDAS A ÁREAS ADMINISTRATIVAS | B18: 58 | C18: 41 | D18: 73 | E18: 81 | F18: 94 | G18: 103 | H18: 27 | I18: 97 | J18: 73 | K18: 53 | L18: 53 | M18: 3 | N18: =SUM(B18:M18) -> 756
A20: SOLICITUDES DE INFORMACIÓN ENTREGADAS Y CASOS EN LOS QUE SE NEGÓ EL ACCESO
A21: SOLICITUDES EN LAS QUE HUBO ENTREGA TOTAL DE LA INFORMACIÓN | B21: 160 | C21: 97 | D21: 127 | E21: 110 | F21: 112 | G21: 96 | H21: 33 | I21: 88 | J21: 80 | K21: 122 | L21: 79 | M21: 40 | N21: =SUM(B21:M21) -> 1144
A22: SOLICITUDES EN LAS QUE SE DECLARÓ LA INEXISTENCIA DE INFORMACIÓN | B22: 0 | C22: 0 | D22: 0 | E22: 0 | F22: 0 | G22: 0 | H22: 0 | I22: 0 | J22: 0 | K22: 0 | L22: 0 | M22: 0 | N22: =SUM(B22:M22) -> 0
A23: SOLICITUDES CUYA INFORMACIÓN SE ENCONTRABA BAJO EL SUPUESTO DE ACCESO RESTRINGIDO | B23: 0 | C23: 0 | D23: 0 | E23: 0 | F23: 0 | G23: 0 | H23: 0 | I23: 0 | J23: 0 | K23: 0 | L23: 0 | M23: 0 | N23: =SUM(B23:M23) -> 0
A24: SOLICITUDES EN LAS QUE SE ENTREGÓ INFORMACIÓN DISTINTA A LA SOLICITADA O EN UN FORMATO INCOMPRENSIBLE | B24: 0 | C24: 0 | D24: 0 | E24: 0 | F24: 0 | G24: 0 | H24: 0 | I24: 0 | J24: 0 | K24: 0 | L24: 0 | M24: 0 | N24: =SUM(B24:M24) -> 0
A25: SOLICITUDES EN LAS QUE HUBO ENTREGA PARCIAL DE INFORMACIÓN | B25: 0 | C25: 0 | D25: 0 | E25: 0 | F25: 0 | G25: 0 | H25: 0 | I25: 0 | J25: 0 | K25: 0 | L25: 0 | M25: 0 | N25: =SUM(B25:M25) -> 0
A26: SOLICITUDES CANALIZADAS A OTRO ENTE PÚBLICO | B26: 7 | C26: 11 | D26: 11 | E26: 8 | F26: 6 | G26: 9 | H26: 1 | I26: 9 | J26: 2 | K26: 8 | L26: 9 | M26: 3 | N26: =SUM(B26:M26) -> 84
A27: SOLICITUDES PREVENIDAS SIN DESAHOGO POR PARTE DEL PETICIONARIO | B27: 27 | C27: 17 | D27: 87 | E27: 83 | F27: 47 | G27: 31 | H27: 17 | I27: 47 | J27: 43 | K27: 52 | L27: 62 | M27: 12 | N27: =SUM(B27:M27) -> 525
A28: SOLICITUDES ORIENTADAS PARA SU TRAMITACIÓN ANTE OTRO ENTE PÚBLICO POR PARTE DEL PETICIONARIO | B28: 4 | C28: 16 | D28: 27 | E28: 4 | F28: 8 | G28: 8 | H28: 2 | I28: 0 | J28: 4 | K28: 0 | L28: 4 | M28: 5 | N28: =SUM(B28:M28) -> 82
A30: RECURSOS DE REVISIÓN
A31: NÚMERO TOTAL DE RECURSOS DE REVISIÓN | B31: 3 | C31: 1 | D31: 2 | E31: 2 | F31: 2 | G31: 0 | H31: 0 | I31: 1 | J31: 0 | K31: 3 | L31: 1 | M31: 2 | N31: =SUM(B31:M31) -> 17
A32: RECURSOS DE REVISIÓN DESHECHADOS IMPROCEDENTES | B32: 0 | C32: 0 | D32: 0 | E32: 0 | F32: 0 | G32: 0 | H32: 0 | I32: 0 | J32: 0 | K32: 0 | L32: 0 | M32: 0 | N32: =SUM(B32:M32) -> 0
A33: RECURSOS DE REVISIÓN DESHECHADOS SOBRESEÍDOS | B33: 4 | C33: 1 | D33: 0 | E33: 0 | F33: 1 | G33: 1 | H33: 0 | I33: 0 | J33: 1 | K33: 0 | L33: 0 | M33: 2 | N33: =SUM(B33:M33) -> 10
A34: RECURSOS QUE CONFIRMAN EL ACTO O RESOLUCIÓN IMPUGNADA | B34: 0 | C34: 0 | D34: 0 | E34: 0 | F34: 0 | G34: 0 | H34: 0 | I34: 0 | J34: 0 | K34: 0 | L34: 0 | M34: 0 | N34: =SUM(B34:M34) -> 0
A35: RECURSOS DE MODIFICAN EL ACTO O RESOLUCIÓN IMPUGNADA | B35: 0 | C35: 3 | D35: 0 | E35: 0 | F35: 0 | G35: 0 | H35: 0 | I35: 0 | J35: 0 | K35: 0 | L35: 0 | M35: 0 | N35: =SUM(B35:M35) -> 3
A36: RECURSOS DE REVOCAN EL ACTO O RESOLUCIÓN IMPUGNADA | B36: 0 | C36: 1 | D36: 1 | E36: 0 | F36: 0 | G36: 2 | H36: 1 | I36: 0 | J36: 0 | K36: 0 | L36: 0 | M36: 0 | N36: =SUM(B36:M36) -> 5

Sheet 2011
A6: INFORMACIÓN ESTADÍSTICA, ENERO A DICIEMBRE 2011
A7: DIRECCIÓN DE INFORMACIÓN PÚBLICA DEL TRIBUNAL SUPERIOR DE JUSTICIA / PERSONAS ATENDIDAS
A9: Rubros | B9: Enero | C9: Febrero | D9: Marzo | E9: Abril | F9: Mayo | G9: Junio | H9: Julio | I9: Agosto | J9: Septiembre | K9: Octubre | L9: Noviembre | M9: Diciembre | N9: Total
A10: PERSONAS ATENDIDAS | B10: 91 | C10: 82 | D10: 85 | E10: 60 | F10: 93 | G10: 100 | H10: 38 | I10: 108 | J10: 89 | K10: 45 | L10: 41 | M10: 14 | N10: =SUM(B10:M10) -> 846
A12: SOLICITUDES DE INFORMACIÓN PÚBLICA RECIBIDAS
A13: VÍA ELECTRÓNICA (INFOMEX, TELINFOCDMX Y CORREO ELECTRÓNICO) | B13: 142 | C13: 156 | D13: 207 | E13: 79 | F13: 119 | G13: 116 | H13: 59 | I13: 171 | J13: 161 | K13: 104 | L13: 102 | M13: 32 | N13: =SUM(B13:M13) -> 1448
A14: POR ESCRITO (FORMATO IMPRESO) | B14: 70 | C14: 57 | D14: 89 | E14: 51 | F14: 64 | G14: 72 | H14: 34 | I14: 71 | J14: 22 | K14: 26 | L14: 23 | M14: 4 | N14: =SUM(B14:M14) -> 583
A15: SOLICITUDES DIRIGIDAS A JUZGADOS | B15: 29 | C15: 43 | D15: 106 | E15: 12 | F15: 15 | G15: 13 | H15: 7 | I15: 21 | J15: 40 | K15: 31 | L15: 5 | M15: 2 | N15: =SUM(B15:M15) -> 324
A16: SOLICITUDES DIRIGIDAS A SALAS | B16: 2 | C16: 2 | D16: 1 | E16: 2 | F16: 3 | G16: 0 | H16: 3 | I16: 2 | J16: 0 | K16: 2 | L16: 2 | M16: 0 | N16: =SUM(B16:M16) -> 19
A17: SOLICITUDES DIRIGIDAS A ÁREAS DE APOYO JUDICIAL | B17: 145 | C17: 81 | D17: 105 | E17: 68 | F17: 108 | G17: 130 | H17: 58 | I17: 124 | J17: 103 | K17: 52 | L17: 58 | M17: 10 | N17: =SUM(B17:M17) -> 1042
A18: SOLICITUDES DIRIGIDAS A ÁREAS ADMINISTRATIVAS | B18: 61 | C18: 83 | D18: 84 | E18: 48 | F18: 57 | G18: 58 | H18: 25 | I18: 95 | J18: 40 | K18: 45 | L18: 60 | M18: 24 | N18: =SUM(B18:M18) -> 680
A20: SOLICITUDES DE INFORMACIÓN ENTREGADAS Y CASOS EN LOS QUE SE NEGÓ EL ACCESO
A21: SOLICITUDES EN LAS QUE HUBO ENTREGA TOTAL DE LA INFORMACIÓN | B21: 139 | C21: 174 | D21: 190 | E21: 113 | F21: 167 | G21: 180 | H21: 80 | I21: 175 | J21: 145 | K21: 157 | L21: 108 | M21: 48 | N21: =SUM(B21:M21) -> 1676
A22: SOLICITUDES EN LAS QUE SE DECLARÓ LA INEXISTENCIA DE INFORMACIÓN | B22: 0 | C22: 0 | D22: 0 | E22: 0 | F22: 0 | G22: 0 | H22: 0 | I22: 0 | J22: 0 | K22: 0 | L22: 0 | M22: 0 | N22: =SUM(B22:M22) -> 0
