Workbook

Sheet NOTAS
A6: NOTAS GENERALES DEL INFORME - DIRECCIÓN DE INFORMACIÓN PÚBLICA DEL TRIBUNAL SUPERIOR DE JUSTICIA / PERSONAS ATENDIDAS
A8: NOTAS
A9: Fuente: Dirección de Estadística de la Presidencia con información capturada por la Dirección de Información Pública del TSJCDMX.
A11: Última actualización: 26 de Agosto de 2026
A12: .

Sheet CONCENTRADO
A6: INFORMACIÓN ESTADÍSTICA, DICIEMBRE 2010 A JULIO 2026
A7: DIRECCIÓN DE INFORMACIÓN PÚBLICA DEL TRIBUNAL SUPERIOR DE JUSTICIA / PERSONAS ATENDIDAS
A9: Rubros | B9: Diciembre 2010 | C9: 2011 | D9: 2012 | E9: 2013 | F9: 2014 | G9: 2015 | H9: 2016 | I9: 2017 | J9: 2018 | K9: 2019 | L9: 2020 | M9: 2021 | N9: 2022 | O9: 2023 | P9: 2024 | Q9: 2025 | R9: 2026
A10: PERSONAS ATENDIDAS | B10: =DICIEMBRE_2010!C10 -> 14 | C10: ='2011'!N10 -> 846 | D10: ='2012'!N10 -> 511 | E10: ='2013'!N10 -> 648 | F10: ='2014'!N10 -> 357 | G10: ='2015'!N10 -> 386 | H10: ='2016'!N10 -> 518 | I10: ='2017'!N10 -> 555 | J10: ='2018'!N10 -> 667 | K10: ='2019'!N10 -> 578 | L10: ='2020'!N10 -> 136 | M10: ='2021'!N10 -> 64 | N10: ='2022'!N10 -> 76 | O10: ='2023'!N10 -> 96 | P10: ='2024'!N10 -> 24 | Q10: ='2025'!N10 -> 15 | R10: ='2026'!N10 -> 2
A12: SOLICITUDES DE INFORMACIÓN PÚBLICA RECIBIDAS
A13: VÍA ELECTRÓNICA (INFOMEX, TELINFOCDMX Y CORREO ELECTRÓNICO) | B13: =DICIEMBRE_2010!C13 -> 18 | C13: ='2011'!N13 -> 1448 | D13: ='2012'!N13 -> 1092 | E13: ='2013'!N13 -> 809 | F13: ='2014'!N13 -> 1460 | G13: ='2015'!N13 -> 1659 | H13: ='2016'!N13 -> 1963 | I13: ='2017'!N13 -> 2610 | J13: ='2018'!N13 -> 2827 | K13: ='2019'!N13 -> 3501 | L13: ='2020'!N13 -> 2335 | M13: ='2021'!N13 -> 2304 | N13: ='2022'!N13 -> 2228 | O13: ='2023'!N13 -> 2517 | P13: ='2024'!N13 -> 2099 | Q13: ='2025'!N13 -> 2027 | R13: ='2026'!N13 -> 240
A14: POR ESCRITO (FORMATO IMPRESO) | B14: =DICIEMBRE_2010!C14 -> 25 | C14: ='2011'!N14 -> 583 | D14: ='2012'!N14 -> 280 | E14: ='2013'!N14 -> 648 | F14: ='2014'!N14 -> 357 | G14: ='2015'!N14 -> 386 | H14: ='2016'!N14 -> 518 | I14: ='2017'!N14 -> 555 | J14: ='2018'!N14 -> 667 | K14: ='2019'!N14 -> 578 | L14: ='2020'!N14 -> 136 | M14: ='2021'!N14 -> 64 | N14: ='2022'!N14 -> 76 | O14: ='2023'!N14 -> 33 | P14: ='2024'!N14 -> 24 | Q14: ='2025'!N14 -> 20 | R14: ='2026'!N14 -> 2
A15: SOLICITUDES DIRIGIDAS A JUZGADOS | B15: =DICIEMBRE_2010!C15 -> 4 | C15: ='2011'!N15 -> 324 | D15: ='2012'!N15 -> 144 | E15: ='2013'!N15 -> 118 | F15: ='2014'!N15 -> 81 | G15: ='2015'!N15 -> 58 | H15: ='2016'!N15 -> 116 | I15: ='2017'!N15 -> 155 | J15: ='2018'!N15 -> 197 | K15: ='2019'!N15 -> 232 | L15: ='2020'!N15 -> 107 | M15: ='2021'!N15 -> 188 | N15: ='2022'!N15 -> 233 | O15: ='2023'!N15 -> 156 | P15: ='2024'!N15 -> 113 | Q15: ='2025'!N15 -> 60 | R15: ='2026'!N15 -> 19
A16: SOLICITUDES DIRIGIDAS A SALAS | B16: =DICIEMBRE_2010!C16 -> 0 | C16: ='2011'!N16 -> 19 | D16: ='2012'!N16 -> 8 | E16: ='2013'!N16 -> 3 | F16: ='2014'!N16 -> 5 | G16: ='2015'!N16 -> 6 | H16: ='2016'!N16 -> 36 | I16: ='2017'!N16 -> 26 | J16: ='2018'!N16 -> 27 | K16: ='2019'!N16 -> 28 | L16: ='2020'!N16 -> 29 | M16: ='2021'!N16 -> 24 | N16: ='2022'!N16 -> 51 | O16: ='2023'!N16 -> 25 | P16: ='2024'!N16 -> 43 | Q16: ='2025'!N16 -> 15 | R16: ='2026'!N16 -> 4
A17: SOLICITUDES DIRIGIDAS A ÁREAS DE APOYO JUDICIAL | B17: =DICIEMBRE_2010!C17 -> 25 | C17: ='2011'!N17 -> 1042 | D17: ='2012'!N17 -> 616 | E17: ='2013'!N17 -> 484 | F17: ='2014'!N17 -> 548 | G17: ='2015'!N17 -> 461 | H17: ='2016'!N17 -> 531 | I17: ='2017'!N17 -> 678 | J17: ='2018'!N17 -> 702 | K17: ='2019'!N17 -> 528 | L17: ='2020'!N17 -> 310 | M17: ='2021'!N17 -> 446 | N17: ='2022'!N17 -> 493 | O17: ='2023'!N17 -> 218 | P17: ='2024'!N17 -> 209 | Q17: ='2025'!N17 -> 446 | R17: ='2026'!N17 -> 95
A18: SOLICITUDES DIRIGIDAS A ÁREAS ADMINISTRATIVAS | B18: =DICIEMBRE_2010!C18 -> 14 | C18: ='2011'!N18 -> 680 | D18: ='2012'!N18 -> 756 | E18: ='2013'!N18 -> 278 | F18: ='2014'!N18 -> 527 | G18: ='2015'!N18 -> 425 | H18: ='2016'!N18 -> 819 | I18: ='2017'!N18 -> 1196 | J18: ='2018'!N18 -> 1291 | K18: ='2019'!N18 -> 1811 | L18: ='2020'!N18 -> 1796 | M18: ='2021'!N18 -> 1237 | N18: ='2022'!N18 -> 664 | O18: ='2023'!N18 -> 1790 | P18: ='2024'!N18 -> 1392 | Q18: ='2025'!N18 -> 1642 | R18: ='2026'!N18 -> 171
A20: SOLICITUDES DE INFORMACIÓN ENTREGADAS Y CASOS EN LOS QUE SE NEGÓ EL ACCESO
A21: SOLICITUDES EN LAS QUE HUBO ENTREGA TOTAL DE LA INFORMACIÓN | B21: =DICIEMBRE_2010!C21 -> 37 | C21: ='2011'!N21 -> 1676 | D21: ='2012'!N21 -> 1144 | E21: ='2013'!N21 -> 998 | F21: ='2014'!N21 -> 1309 | G21: ='2015'!N21 -> 1129 | H21: ='2016'!N21 -> 1495 | I21: ='2017'!N21 -> 2025 | J21: ='2018'!N21 -> 2154 | K21: ='2019'!N21 -> 2350 | L21: ='2020'!N21 -> 2101 | M21: ='2021'!N21 -> 2042 | N21: ='2022'!N21 -> 2474 | O21: ='2023'!N21 -> 3037 | P21: ='2024'!N21 -> 2123 | Q21: ='2025'!N21 -> 929 | R21: ='2026'!N21 -> 143
A22: SOLICITUDES EN LAS QUE SE DECLARÓ LA INEXISTENCIA DE INFORMACIÓN | B22: =DICIEMBRE_2010!C22 -> 0 | C22: ='2011'!N22 -> 0 | D22: ='2012'!N22 -> 0 | E22: ='2013'!N22 -> 0 | F22: ='2014'!N22 -> 0 | G22: ='2015'!N22 -> 2 | H22: ='2016'!N22 -> 0 | I22: ='2017'!N22 -> 10 | J22: ='2018'!N22 -> 17 | K22: ='2019'!N22 -> 4 | L22: ='2020'!N22 -> 2 | M22: ='2021'!N22 -> 0 | N22: ='2022'!N22 -> 0 | O22: ='2023'!N22 -> 21 | P22: ='2024'!N22 -> 14 | Q22: ='2025'!N22 -> 5 | R22: ='2026'!N22 -> 0
A23: SOLICITUDES CUYA INFORMACIÓN SE ENCONTRABA BAJO EL SUPUESTO DE ACCESO RESTRINGIDO | B23: =DICIEMBRE_2010!C23 -> 0 | C23: ='2011'!N23 -> 0 | D23: ='2012'!N23 -> 0 | E23: ='2013'!N23 -> 0 | F23: ='2014'!N23 -> 10 | G23: ='2015'!N23 -> 0 | H23: ='2016'!N23 -> 33 | I23: ='2017'!N23 -> 2 | J23: ='2018'!N23 -> 0 | K23: ='2019'!N23 -> 42 | L23: ='2020'!N23 -> 10 | M23: ='2021'!N23 -> 0 | N23: ='2022'!N23 -> 7 | O23: ='2023'!N23 -> 71 | P23: ='2024'!N23 -> 120 | Q23: ='2025'!N23 -> 13 | R23: ='2026'!N23 -> 0
A24: SOLICITUDES EN LAS QUE SE ENTREGÓ INFORMACIÓN DISTINTA A LA SOLICITADA O EN UN FORMATO INCOMPRENSIBLE | B24: =DICIEMBRE_2010!C24 -> 0 | C24: ='2011'!N24 -> 0 | D24: ='2012'!N24 -> 0 | E24: ='2013'!N24 -> 0 | F24: ='2014'!N24 -> 0 | G24: ='2015'!N24 -> 0 | H24: ='2016'!N24 -> 0 | I24: ='2017'!N24 -> 0 | J24: ='2018'!N24 -> 0 | K24: ='2019'!N24 -> 0 | L24: ='2020'!N24 -> 0 | M24: ='2021'!N24 -> 0 | N24: ='2022'!N24 -> 0 | O24: ='2023'!N24 -> 6 | P24: ='2024'!N24 -> 6 | Q24: ='2025'!N24 -> 0 | R24: ='2026'!N24 -> 0
A25: SOLICITUDES EN LAS QUE HUBO ENTREGA PARCIAL DE INFORMACIÓN | B25: =DICIEMBRE_2010!C25 -> 0 | C25: ='2011'!N25 -> 0 | D25: ='2012'!N25 -> 0 | E25: ='2013'!N25 -> 0 | F25: ='2014'!N25 -> 0 | G25: ='2015'!N25 -> 0 | H25: ='2016'!N25 -> 0 | I25: ='2017'!N25 -> 0 | J25: ='2018'!N25 -> 0 | K25: ='2019'!N25 -> 0 | L25: ='2020'!N25 -> 0 | M25: ='2021'!N25 -> 0 | N25: ='2022'!N25 -> 0 | O25: ='2023'!N25 -> 0 | P25: ='2024'!N25 -> 27 | Q25: ='2025'!N25 -> 0 | R25: ='2026'!N25 -> 0
A26: SOLICITUDES CANALIZADAS A OTRO ENTE PÚBLICO | B26: =DICIEMBRE_2010!C26 -> 5 | C26: ='2011'!N26 -> 95 | D26: ='2012'!N26 -> 84 | E26: ='2013'!N26 -> 116 | F26: ='2014'!N26 -> 99 | G26: ='2015'!N26 -> 98 | H26: ='2016'!N26 -> 49 | I26: ='2017'!N26 -> 60 | J26: ='2018'!N26 -> 234 | K26: ='2019'!N26 -> 366 | L26: ='2020'!N26 -> 202 | M26: ='2021'!N26 -> 271 | N26: ='2022'!N26 -> 272 | O26: ='2023'!N26 -> 136 | P26: ='2024'!N26 -> 241 | Q26: ='2025'!N26 -> 110 | R26: ='2026'!N26 -> 30
A27: SOLICITUDES PREVENIDAS SIN DESAHOGO POR PARTE DEL PETICIONARIO | B27: =DICIEMBRE_2010!C27 -> 2 | C27: ='2011'!N27 -> 196 | D27: ='2012'!N27 -> 525 | E27: ='2013'!N27 -> 418 | F27: ='2014'!N27 -> 524 | G27: ='2015'!N27 -> 314 | H27: ='2016'!N27 -> 399 | I27: ='2017'!N27 -> 306 | J27: ='2018'!N27 -> 404 | K27: ='2019'!N27 -> 388 | L27: ='2020'!N27 -> 258 | M27: ='2021'!N27 -> 275 | N27: ='2022'!N27 -> 230 | O27: ='2023'!N27 -> 368 | P27: ='2024'!N27 -> 172 | Q27: ='2025'!N27 -> 247 | R27: ='2026'!N27 -> 4
A28: SOLICITUDES ORIENTADAS PARA SU TRAMITACIÓN ANTE OTRO ENTE PÚBLICO POR PARTE DEL PETICIONARIO | B28: =DICIEMBRE_2010!C28 -> 0 | C28: ='2011'!N28 -> 32 | D28: ='2012'!N28 -> 82 | E28: ='2013'!N28 -> 54 | F28: ='2014'!N28 -> 64 | G28: ='2015'!N28 -> 60 | H28: ='2016'!N28 -> 154 | I28: ='2017'!N28 -> 164 | J28: ='2018'!N28 -> 125 | K28: ='2019'!N28 -> 100 | L28: ='2020'!N28 -> 159 | M28: ='2021'!N28 -> 248 | N28: ='2022'!N28 -> 213 | O28: ='2023'!N28 -> 95 | P28: ='2024'!N28 -> 80 | Q28: ='2025'!N28 -> 92 | R28: ='2026'!N28 -> 10
A30: RECURSOS DE REVISIÓN
A31: NÚMERO TOTAL DE RECURSOS DE REVISIÓN | B31: =DICIEMBRE_2010!C31 -> 0 | C31: ='2011'!N31 -> 32 | D31: ='2012'!N31 -> 17 | E31: ='2013'!N31 -> 16 | F31: ='2014'!N31 -> 21 | G31: ='2015'!N31 -> 30 | H31: ='2016'!N31 -> 39 | I31: ='2017'!N31 -> 44 | J31: ='2018'!N31 -> 37 | K31: ='2019'!N31 -> 58 | L31: ='2020'!N31 -> 30 | M31: ='2021'!N31 -> 72 | N31: ='2022'!N31 -> 123 | O31: ='2023'!N31 -> 104 | P31: ='2024'!N31 -> 93 | Q31: ='2025'!N31 -> 60 | R31: ='2026'!N31 -> 0
A32: RECURSOS DE REVISIÓN DESHECHADOS IMPROCEDENTES | B32: =DICIEMBRE_2010!C32 -> 0 | C32: ='2011'!N32 -> 0 | D32: ='2012'!N32 -> 0 | E32: ='2013'!N32 -> 0 | F32: ='2014'!N32 -> 0 | G32: ='2015'!N32 -> 0 | H32: ='2016'!N32 -> 0 | I32: ='2017'!N32 -> 0 | J32: ='2018'!N32 -> 0 | K32: ='2019'!N32 -> 3 | L32: ='2020'!N32 -> 0 | M32: ='2021'!N32 -> 0 | N32: ='2022'!N32 -> 0 | O32: ='2023'!N32 -> 0 | P32: ='2024'!N32 -> 0 | Q32: ='2025'!N32 -> 1 | R32: ='2026'!N32 -> 0
A33: RECURSOS DE REVISIÓN DESHECHADOS SOBRESEÍDOS | B33: =DICIEMBRE_2010!C33 -> 0 | C33: ='2011'!N33 -> 5 | D33: ='2012'!N33 -> 10 | E33: ='2013'!N33 -> 5 | F33: ='2014'!N33 -> 8 | G33: ='2015'!N33 -> 16 | H33: ='2016'!N33 -> 15 | I33: ='2017'!N33 -> 13 | J33: ='2018'!N33 -> 19 | K33: ='2019'!N33 -> 6 | L33: ='2020'!N33 -> 10 | M33: ='2021'!N33 -> 35 | N33: ='2022'!N33 -> 38 | O33: ='2023'!N33 -> 31 | P33: ='2024'!N33 -> 52 | Q33: ='2025'!N33 -> 29 | R33: ='2026'!N33 -> 0
A34: RECURSOS QUE CONFIRMAN EL ACTO O RESOLUCIÓN IMPUGNADA | B34: =DICIEMBRE_2010!C34 -> 0 | C34: ='2011'!N34 -> 4 | D34: ='2012'!N34 -> 0 | E34: ='2013'!N34 -> 6 | F34: ='2014'!N34 -> 2 | G34: ='2015'!N34 -> 6 | H34: ='2016'!N34 -> 7 | I34: ='2017'!N34 -> 9 | J34: ='2018'!N34 -> 10 | K34: ='2019'!N34 -> 12 | L34: ='2020'!N34 -> 8 | M34: ='2021'!N34 -> 18 | N34: ='2022'!N34 -> 18 | O34: ='2023'!N34 -> 8 | P34: ='2024'!N34 -> 5 | Q34: ='2025'!N34 -> 7 | R34: ='2026'!N34 -> 0
A35: RECURSOS DE MODIFICAN EL ACTO O RESOLUCIÓN IMPUGNADA | B35: =DICIEMBRE_2010!C35 -> 0 | C35: ='2011'!N35 -> 9 | D35: ='2012'!N35 -> 3 | E35: ='2013'!N35 -> 2 | F35: ='2014'!N35 -> 8 | G35: ='2015'!N35 -> 6 | H35: ='2016'!N35 -> 6 | I35: ='2017'!N35 -> 5 | J35: ='2018'!N35 -> 7 | K35: ='2019'!N35 -> 13 | L35: ='2020'!N35 -> 8 | M35: ='2021'!N35 -> 20 | N35: ='2022'!N35 -> 46 | O35: ='2023'!N35 -> 24 | P35: ='2024'!N35 -> 16 | Q35: ='2025'!N35 -> 11 | R35: ='2026'!N35 -> 0
A36: RECURSOS DE REVOCAN EL ACTO O RESOLUCIÓN IMPUGNADA | B36: =DICIEMBRE_2010!C36 -> 0 | C36: ='2011'!N36 -> 9 | D36: ='2012'!N36 -> 5 | E36: ='2013'!N36 -> 2 | F36: ='2014'!N36 -> 2 | G36: ='2015'!N36 -> 3 | H36: ='2016'!N36 -> 5 | I36: ='2017'!N36 -> 1 | J36: ='2018'!N36 -> 3 | K36: ='2019'!N36 -> 5 | L36: ='2020'!N36 -> 4 | M36: ='2021'!N36 -> 4 | N36: ='2022'!N36 -> 16 | O36: ='2023'!N36 -> 21 | P36: ='2024'!N36 -> 11 | Q36: ='2025'!N36 -> 15 | R36: ='2026'!N36 -> 0

Sheet FEBRERO_2011
A2: TIPO DE ÁREA: UNIDAD ADMINISTRATIVA DE LA OFICILIA MAYOR ENTIDAD: DIRECCIÓN DE INFORMACIÓN PÚBLICA DEL TRIBUNAL SUPERIOR DE JUSTICIA INFORME: PERSONAS ATENDIDAS FEBRERO 2011 | B2: VALOR
A5: PERSONAS ATENDIDAS | B5: 82
A7: SOLICITUDES DE INFORMACIÓN PÚBLICA RECIBIDAS
A8: VÍA ELECTRÓNICA (INFOMEX, TELINFOCDMX Y CORREO ELECTRÓNICO) | B8: 156
A9: POR ESCRITO (FORMATO IMPRESO) | B9: 57
A10: SOLICITUDES DIRIGIDAS A JUZGADOS | B10: 43
A11: SOLICITUDES DIRIGIDAS A SALAS | B11: 2
A12: SOLICITUDES DIRIGIDAS A ÁREAS DE APOYO JUDICIAL | B12: 81
A13: SOLICITUDES DIRIGIDAS A ÁREAS ADMINISTRATIVAS | B13: 83
A15: SOLICITUDES DE INFORMACIÓN ENTREGADAS Y CASOS EN LOS QUE SE NEGÓ EL ACCESO
A16: SOLICITUDES EN LAS QUE HUBO ENTREGA TOTAL DE LA INFORMACIÓN | B16: 174
A17: SOLICITUDES EN LAS QUE SE DECLARÓ LA INEXISTENCIA DE INFORMACIÓN | B17: 0
A18: SOLICITUDES CUYA INFORMACIÓN SE ENCONTRABA BAJO EL SUPUESTO DE ACCESO RESTRINGIDO | B18: 0
A19: SOLICITUDES EN LAS QUE SE ENTREGÓ INFORMACIÓN DISTINTA A LA SOLICITADA O EN UN FORMATO INCOMPRENSIBLE | B19: 0
A20: SOLICITUDES EN LAS QUE HUBO ENTREGA PARCIAL DE INFORMACIÓN | B20: 0
A21: SOLICITUDES CANALIZADAS A OTRO ENTE PÚBLICO | B21: 10
A22: SOLICITUDES PREVENIDAS SIN DESAHOGO POR PARTE DEL PETICIONARIO | B22: 14
A23: SOLICITUDES ORIENTADAS PARA SU TRAMITACIÓN ANTE OTRO ENTE PÚBLICO POR PARTE DEL PETICIONARIO | B23: 1
A25: RECURSOS DE REVISIÓN
A26: NÚMERO TOTAL DE RECURSOS DE REVISIÓN | B26: 1
A27: RECURSOS DE REVISIÓN DESHECHADOS IMPROCEDENTES | B27: 0
A28: RECURSOS DE REVISIÓN DESHECHADOS SOBRESEÍDOS | B28: 0
A29: RECURSOS QUE CONFIRMAN EL ACTO O RESOLUCIÓN IMPUGNADA | B29: 0
A30: RECURSOS DE MODIFICAN EL ACTO O RESOLUCIÓN IMPUGNADA | B30: 1
A31: RECURSOS DE REVOCAN EL ACTO O RESOLUCIÓN IMPUGNADA | B31: 0

Sheet MARZO_2011
A2: TIPO DE ÁREA: UNIDAD ADMINISTRATIVA DE LA OFICILIA MAYOR ENTIDAD: DIRECCIÓN DE INFORMACIÓN PÚBLICA DEL TRIBUNAL SUPERIOR DE JUSTICIA INFORME: PERSONAS ATENDIDAS MARZO 2011 | B2: VALOR
A5: PERSONAS ATENDIDAS | B5: 85
A7: SOLICITUDES DE INFORMACIÓN PÚBLICA RECIBIDAS
A8: VÍA ELECTRÓNICA (INFOMEX, TELINFOCDMX Y CORREO ELECTRÓNICO) | B8: 207
A9: POR ESCRITO (FORMATO IMPRESO) | B9: 89
A10: SOLICITUDES DIRIGIDAS A JUZGADOS | B10: 106
A11: SOLICITUDES DIRIGIDAS A SALAS | B11: 1
A12: SOLICITUDES DIRIGIDAS A ÁREAS DE APOYO JUDICIAL | B12: 105
A13: SOLICITUDES DIRIGIDAS A ÁREAS ADMINISTRATIVAS | B13: 84
A15: SOLICITUDES DE INFORMACIÓN ENTREGADAS Y CASOS EN LOS QUE SE NEGÓ EL ACCESO
A16: SOLICITUDES EN LAS QUE HUBO ENTREGA TOTAL DE LA INFORMACIÓN | B16: 190
A17: SOLICITUDES EN LAS QUE SE DECLARÓ LA INEXISTENCIA DE INFORMACIÓN | B17: 0
A18: SOLICITUDES CUYA INFORMACIÓN SE ENCONTRABA BAJO EL SUPUESTO DE ACCESO RESTRINGIDO | B18: 0
A19: SOLICITUDES EN LAS QUE SE ENTREGÓ INFORMACIÓN DISTINTA A LA SOLICITADA O EN UN FORMATO INCOMPRENSIBLE | B19: 0
A20: SOLICITUDES EN LAS QUE HUBO ENTREGA PARCIAL DE INFORMACIÓN | B20: 0
A21: SOLICITUDES CANALIZADAS A OTRO ENTE PÚBLICO | B21: 13
A22: SOLICITUDES PREVENIDAS SIN DESAHOGO POR PARTE DEL PETICIONARIO | B22: 10
A23: SOLICITUDES ORIENTADAS PARA SU TRAMITACIÓN ANTE OTRO ENTE PÚBLICO POR PARTE DEL PETICIONARIO | B23: 3
A25: RECURSOS DE REVISIÓN
A26: NÚMERO TOTAL DE RECURSOS DE REVISIÓN | B26: 3
A27: RECURSOS DE REVISIÓN DESHECHADOS IMPROCEDENTES | B27: 0
A28: RECURSOS DE REVISIÓN DESHECHADOS SOBRESEÍDOS | B28: 0
A29: RECURSOS QUE CONFIRMAN EL ACTO O RESOLUCIÓN IMPUGNADA | B29: 0
A30: RECURSOS DE MODIFICAN EL ACTO O RESOLUCIÓN IMPUGNADA | B30: 1
A31: RECURSOS DE REVOCAN EL ACTO O RESOLUCIÓN IMPUGNADA | B31: 1

Sheet ABRIL_2011
A2: TIPO DE ÁREA: UNIDAD ADMINISTRATIVA DE LA OFICILIA MAYOR ENTIDAD: DIRECCIÓN DE INFORMACIÓN PÚBLICA DEL TRIBUNAL SUPERIOR DE JUSTICIA INFORME: PERSONAS ATENDIDAS ABRIL 2011 | B2: VALOR
A5: PERSONAS ATENDIDAS | B5: 60
A7: SOLICITUDES DE INFORMACIÓN PÚBLICA RECIBIDAS
A8: VÍA ELECTRÓNICA (INFOMEX, TELINFOCDMX Y CORREO ELECTRÓNICO) | B8: 79
A9: POR ESCRITO (FORMATO IMPRESO) | B9: 51
A10: SOLICITUDES DIRIGIDAS A JUZGADOS | B10: 12
A11: SOLICITUDES DIRIGIDAS A SALAS | B11: 2
A12: SOLICITUDES DIRIGIDAS A ÁREAS DE APOYO JUDICIAL | B12: 68
A13: SOLICITUDES DIRIGIDAS A ÁREAS ADMINISTRATIVAS | B13: 48
A15: SOLICITUDES DE INFORMACIÓN ENTREGADAS Y CASOS EN LOS QUE SE NEGÓ EL ACCESO
A16: SOLICITUDES EN LAS QUE HUBO ENTREGA TOTAL DE LA INFORMACIÓN | B16: 113
A17: SOLICITUDES EN LAS QUE SE DECLARÓ LA INEXISTENCIA DE INFORMACIÓN | B17: 0
A18: SOLICITUDES CUYA INFORMACIÓN SE ENCONTRABA BAJO EL SUPUESTO DE ACCESO RESTRINGIDO | B18: 0
A19: SOLICITUDES EN LAS QUE SE ENTREGÓ INFORMACIÓN DISTINTA A LA SOLICITADA O EN UN FORMATO INCOMPRENSIBLE | B19: 0
A20: SOLICITUDES EN LAS QUE HUBO ENTREGA PARCIAL DE INFORMACIÓN | B20: 0
A21: SOLICITUDES CANALIZADAS A OTRO ENTE PÚBLICO | B21: 14
A22: SOLICITUDES PREVENIDAS SIN DESAHOGO POR PARTE DEL PETICIONARIO | B22: 10
A23: SOLICITUDES ORIENTADAS PARA SU TRAMITACIÓN ANTE OTRO ENTE PÚBLICO POR PARTE DEL PETICIONARIO | B23: 1
A25: RECURSOS DE REVISIÓN
A26: NÚMERO TOTAL DE RECURSOS DE REVISIÓN | B26: 1
A27: RECURSOS DE REVISIÓN DESHECHADOS IMPROCEDENTES | B27: 0
A28: RECURSOS DE REVISIÓN DESHECHADOS SOBRESEÍDOS | B28: 0
A29: RECURSOS QUE CONFIRMAN EL ACTO O RESOLUCIÓN IMPUGNADA | B29: 0
A30: RECURSOS DE MODIFICAN EL ACTO O RESOLUCIÓN IMPUGNADA | B30: 0
A31: RECURSOS DE REVOCAN EL ACTO O RESOLUCIÓN IMPUGNADA | B31: 0

Sheet MAYO_2011
A2: TIPO DE ÁREA: UNIDAD ADMINISTRATIVA DE LA OFICILIA MAYOR ENTIDAD: DIRECCIÓN DE INFORMACIÓN PÚBLICA DEL TRIBUNAL SUPERIOR DE JUSTICIA INFORME: PERSONAS ATENDIDAS MAYO 2011 | B2: VALOR
A5: PERSONAS ATENDIDAS | B5: 93
A7: SOLICITUDES DE INFORMACIÓN PÚBLICA RECIBIDAS
A8: VÍA ELECTRÓNICA (INFOMEX, TELINFOCDMX Y CORREO ELECTRÓNICO) | B8: 119
A9: POR ESCRITO (FORMATO IMPRESO) | B9: 64
A10: SOLICITUDES DIRIGIDAS A JUZGADOS | B10: 15
A11: SOLICITUDES DIRIGIDAS A SALAS | B11: 3
A12: SOLICITUDES DIRIGIDAS A ÁREAS DE APOYO JUDICIAL | B12: 108
A13: SOLICITUDES DIRIGIDAS A ÁREAS ADMINISTRATIVAS | B13: 57
A15: SOLICITUDES DE INFORMACIÓN ENTREGADAS Y CASOS EN LOS QUE SE NEGÓ EL ACCESO
A16: SOLICITUDES EN LAS QUE HUBO ENTREGA TOTAL DE LA INFORMACIÓN | B16: 167
A17: SOLICITUDES EN LAS QUE SE DECLARÓ LA INEXISTENCIA DE INFORMACIÓN | B17: 0
A18: SOLICITUDES CUYA INFORMACIÓN SE ENCONTRABA BAJO EL SUPUESTO DE ACCESO RESTRINGIDO | B18: 0
A19: SOLICITUDES EN LAS QUE SE ENTREGÓ INFORMACIÓN DISTINTA A LA SOLICITADA O EN UN FORMATO INCOMPRENSIBLE | B19: 0
A20: SOLICITUDES EN LAS QUE HUBO ENTREGA PARCIAL DE INFORMACIÓN | B20: 0
A21: SOLICITUDES CANALIZADAS A OTRO ENTE PÚBLICO | B21: 8
A22: SOLICITUDES PREVENIDAS SIN DESAHOGO POR PARTE DEL PETICIONARIO | B22: 13
A23: SOLICITUDES ORIENTADAS PARA SU TRAMITACIÓN ANTE OTRO ENTE PÚBLICO POR PARTE DEL PETICIONARIO | B23: 7
A25: RECURSOS DE REVISIÓN
A26: NÚMERO TOTAL DE RECURSOS DE REVISIÓN | B26: 5
A27: RECURSOS DE REVISIÓN DESHECHADOS IMPROCEDENTES | B27: 0
A28: RECURSOS DE REVISIÓN DESHECHADOS SOBRESEÍDOS | B28: 1
A29: RECURSOS QUE CONFIRMAN EL ACTO O RESOLUCIÓN IMPUGNADA | B29: 0
A30: RECURSOS DE MODIFICAN EL ACTO O RESOLUCIÓN IMPUGNADA | B30: 3
A31: RECURSOS DE REVOCAN EL ACTO O RESOLUCIÓN IMPUGNADA | B31: 0

Sheet JUNIO_2011
A2: TIPO DE ÁREA: UNIDAD ADMINISTRATIVA DE LA OFICILIA MAYOR ENTIDAD: DIRECCIÓN DE INFORMACIÓN PÚBLICA DEL TRIBUNAL SUPERIOR DE JUSTICIA INFORME: PERSONAS ATENDIDAS JUNIO 2011 | B2: VALOR
A5: PERSONAS ATENDIDAS | B5: 100
A7: SOLICITUDES DE INFORMACIÓN PÚBLICA RECIBIDAS
A8: VÍA ELECTRÓNICA (INFOMEX, TELINFOCDMX Y CORREO ELECTRÓNICO) | B8: 116
A9: POR ESCRITO (FORMATO IMPRESO) | B9: 72
A10: SOLICITUDES DIRIGIDAS A JUZGADOS | B10: 13
A11: SOLICITUDES DIRIGIDAS A SALAS | B11: 0
A12: SOLICITUDES DIRIGIDAS A ÁREAS DE APOYO JUDICIAL | B12: 130
A13: SOLICITUDES DIRIGIDAS A ÁREAS ADMINISTRATIVAS | B13: 58
A15: SOLICITUDES DE INFORMACIÓN ENTREGADAS Y CASOS EN LOS QUE SE NEGÓ EL ACCESO
A16: SOLICITUDES EN LAS QUE HUBO ENTREGA TOTAL DE LA INFORMACIÓN | B16: 180
A17: SOLICITUDES EN LAS QUE SE DECLARÓ LA INEXISTENCIA DE INFORMACIÓN | B17: 0
A18: SOLICITUDES CUYA INFORMACIÓN SE ENCONTRABA BAJO EL SUPUESTO DE ACCESO RESTRINGIDO | B18: 0
A19: SOLICITUDES EN LAS QUE SE ENTREGÓ INFORMACIÓN DISTINTA A LA SOLICITADA O EN UN FORMATO INCOMPRENSIBLE | B19: 0
A20: SOLICITUDES EN LAS QUE HUBO ENTREGA PARCIAL DE INFORMACIÓN | B20: 0
A21: SOLICITUDES CANALIZADAS A OTRO ENTE PÚBLICO | B21: 6
A22: SOLICITUDES PREVENIDAS SIN DESAHOGO POR PARTE DEL PETICIONARIO | B22: 13
A23: SOLICITUDES ORIENTADAS PARA SU TRAMITACIÓN ANTE OTRO ENTE PÚBLICO POR PARTE DEL PETICIONARIO | B23: 2
A25: RECURSOS DE REVISIÓN
A26: NÚMERO TOTAL DE RECURSOS DE REVISIÓN | B26: 2
A27: RECURSOS DE REVISIÓN DESHECHADOS IMPROCEDENTES | B27: 0
A28: RECURSOS DE REVISIÓN DESHECHADOS SOBRESEÍDOS | B28: 0
A29: RECURSOS QUE CONFIRMAN EL ACTO O RESOLUCIÓN IMPUGNADA | B29: 0
A30: RECURSOS DE MODIFICAN EL ACTO O RESOLUCIÓN IMPUGNADA | B30: 0
A31: RECURSOS DE REVOCAN EL ACTO O RESOLUCIÓN IMPUGNADA | B31: 1

Sheet JULIO_2011
A2: TIPO DE ÁREA: UNIDAD ADMINISTRATIVA DE LA OFICILIA MAYOR ENTIDAD: DIRECCIÓN DE INFORMACIÓN PÚBLICA DEL TRIBUNAL SUPERIOR DE JUSTICIA INFORME: PERSONAS ATENDIDAS JULIO 2011 | B2: VALOR
A5: PERSONAS ATENDIDAS | B5: 38
A7: SOLICITUDES DE INFORMACIÓN PÚBLICA RECIBIDAS
A8: VÍA ELECTRÓNICA (INFOMEX, TELINFOCDMX Y CORREO ELECTRÓNICO) | B8: 59
A9: POR ESCRITO (FORMATO IMPRESO) | B9: 34
A10: SOLICITUDES DIRIGIDAS A JUZGADOS | B10: 7
A11: SOLICITUDES DIRIGIDAS A SALAS | B11: 3
A12: SOLICITUDES DIRIGIDAS A ÁREAS DE APOYO JUDICIAL | B12: 58
A13: SOLICITUDES DIRIGIDAS A ÁREAS ADMINISTRATIVAS | B13: 25
A15: SOLICITUDES DE INFORMACIÓN ENTREGADAS Y CASOS EN LOS QUE SE NEGÓ EL ACCESO
A16: SOLICITUDES EN LAS QUE HUBO ENTREGA TOTAL DE LA INFORMACIÓN | B16: 80
A17: SOLICITUDES EN LAS QUE SE DECLARÓ LA INEXISTENCIA DE INFORMACIÓN | B17: 0
A18: SOLICITUDES CUYA INFORMACIÓN SE ENCONTRABA BAJO EL SUPUESTO DE ACCESO RESTRINGIDO | B18: 0
A19: SOLICITUDES EN LAS QUE SE ENTREGÓ INFORMACIÓN DISTINTA A LA SOLICITADA O EN UN FORMATO INCOMPRENSIBLE | B19: 0
A20: SOLICITUDES EN LAS QUE HUBO ENTREGA PARCIAL DE INFORMACIÓN | B20: 0
A21: SOLICITUDES CANALIZADAS A OTRO ENTE PÚBLICO | B21: 6
A22: SOLICITUDES PREVENIDAS SIN DESAHOGO POR PARTE DEL PETICIONARIO | B22: 6
A23: SOLICITUDES ORIENTADAS PARA SU TRAMITACIÓN ANTE OTRO ENTE PÚBLICO POR PARTE DEL PETICIONARIO | B23: 0
A25: RECURSOS DE REVISIÓN
A26: NÚMERO TOTAL DE RECURSOS DE REVISIÓN | B26: 2
A27: RECURSOS DE REVISIÓN DESHECHADOS IMPROCEDENTES | B27: 0
A28: RECURSOS DE REVISIÓN DESHECHADOS SOBRESEÍDOS | B28: 2
A29: RECURSOS QUE CONFIRMAN EL ACTO O RESOLUCIÓN IMPUGNADA | B29: 1
A30: RECURSOS DE MODIFICAN EL ACTO O RESOLUCIÓN IMPUGNADA | B30: 0
A31: RECURSOS DE REVOCAN EL ACTO O RESOLUCIÓN IMPUGNADA | B31: 0

Sheet AGOSTO_2011
A2: TIPO DE ÁREA: UNIDAD ADMINISTRATIVA DE LA OFICILIA MAYOR ENTIDAD: DIRECCIÓN DE INFORMACIÓN PÚBLICA DEL TRIBUNAL SUPERIOR DE JUSTICIA INFORME: PERSONAS ATENDIDAS AGOSTO 2011 | B2: VALOR
A5: PERSONAS ATENDIDAS | B5: 108
A7: SOLICITUDES DE INFORMACIÓN PÚBLICA RECIBIDAS
A8: VÍA ELECTRÓNICA (INFOMEX, TELINFOCDMX Y CORREO ELECTRÓNICO) | B8: 171
A9: POR ESCRITO (FORMATO IMPRESO) | B9: 71
A10: SOLICITUDES DIRIGIDAS A JUZGADOS | B10: 21
A11: SOLICITUDES DIRIGIDAS A SALAS | B11: 2
A12: SOLICITUDES DIRIGIDAS A ÁREAS DE APOYO JUDICIAL | B12: 124
A13: SOLICITUDES DIRIGIDAS A ÁREAS ADMINISTRATIVAS | B13: 95
A15: SOLICITUDES DE INFORMACIÓN ENTREGADAS Y CASOS EN LOS QUE SE NEGÓ EL ACCESO
A16: SOLICITUDES EN LAS QUE HUBO ENTREGA TOTAL DE LA INFORMACIÓN | B16: 175
A17: SOLICITUDES EN LAS QUE SE DECLARÓ LA INEXISTENCIA DE INFORMACIÓN | B17: 0
A18: SOLICITUDES CUYA INFORMACIÓN SE ENCONTRABA BAJO EL SUPUESTO DE ACCESO RESTRINGIDO | B18: 0
A19: SOLICITUDES EN LAS QUE SE ENTREGÓ INFORMACIÓN DISTINTA A LA SOLICITADA O EN UN FORMATO INCOMPRENSIBLE | B19: 0
A20: SOLICITUDES EN LAS QUE HUBO ENTREGA PARCIAL DE INFORMACIÓN | B20: 0
A21: SOLICITUDES CANALIZADAS A OTRO ENTE PÚBLICO | B21: 6
A22: SOLICITUDES PREVENIDAS SIN DESAHOGO POR PARTE DEL PETICIONARIO | B22: 38
A23: SOLICITUDES ORIENTADAS PARA SU TRAMITACIÓN ANTE OTRO ENTE PÚBLICO POR PARTE DEL PETICIONARIO | B23: 8
A25: RECURSOS DE REVISIÓN
A26: NÚMERO TOTAL DE RECURSOS DE REVISIÓN | B26: 1
A27: RECURSOS DE REVISIÓN DESHECHADOS IMPROCEDENTES | B27: 0
A28: RECURSOS DE REVISIÓN DESHECHADOS SOBRESEÍDOS | B28: 1
A29: RECURSOS QUE CONFIRMAN EL ACTO O RESOLUCIÓN IMPUGNADA | B29: 2
A30: RECURSOS DE MODIFICAN EL ACTO O RESOLUCIÓN IMPUGNADA | B30: 0
A31: RECURSOS DE REVOCAN EL ACTO O RESOLUCIÓN IMPUGNADA | B31: 1

Sheet SEPTIEMBRE_2011
A2: TIPO DE ÁREA: UNIDAD ADMINISTRATIVA DE LA OFICILIA MAYOR ENTIDAD: DIRECCIÓN DE INFORMACIÓN PÚBLICA DEL TRIBUNAL SUPERIOR DE JUSTICIA INFORME: PERSONAS ATENDIDAS SEPTIEMBRE 2011 | B2: VALOR
A5: PERSONAS ATENDIDAS | B5: 89
A7: SOLICITUDES DE INFORMACIÓN PÚBLICA RECIBIDAS
A8: VÍA ELECTRÓNICA (INFOMEX, TELINFOCDMX Y CORREO ELECTRÓNICO) | B8: 161
A9: POR ESCRITO (FORMATO IMPRESO) | B9: 22
A10: SOLICITUDES DIRIGIDAS A JUZGADOS | B10: 40
A11: SOLICITUDES DIRIGIDAS A SALAS | B11: 0
A12: SOLICITUDES DIRIGIDAS A ÁREAS DE APOYO JUDICIAL | B12: 103
A13: SOLICITUDES DIRIGIDAS A ÁREAS ADMINISTRATIVAS | B13: 40
A15: SOLICITUDES DE INFORMACIÓN ENTREGADAS Y CASOS EN LOS QUE SE NEGÓ EL ACCESO
A16: SOLICITUDES EN LAS QUE HUBO ENTREGA TOTAL DE LA INFORMACIÓN | B16: 145
A17: SOLICITUDES EN LAS QUE SE DECLARÓ LA INEXISTENCIA DE INFORMACIÓN | B17: 0
A18: SOLICITUDES CUYA INFORMACIÓN SE ENCONTRABA BAJO EL SUPUESTO DE ACCESO RESTRINGIDO | B18: 0
A19: SOLICITUDES EN LAS QUE SE ENTREGÓ INFORMACIÓN DISTINTA A LA SOLICITADA O EN UN FORMATO INCOMPRENSIBLE | B19: 0
A20: SOLICITUDES EN LAS QUE HUBO ENTREGA PARCIAL DE INFORMACIÓN | B20: 0
A21: SOLICITUDES CANALIZADAS A OTRO ENTE PÚBLICO | B21: 17
A22: SOLICITUDES PREVENIDAS SIN DESAHOGO POR PARTE DEL PETICIONARIO | B22: 20
A23: SOLICITUDES ORIENTADAS PARA SU TRAMITACIÓN ANTE OTRO ENTE PÚBLICO POR PARTE DEL PETICIONARIO | B23: 2
A25: RECURSOS DE REVISIÓN
A26: NÚMERO TOTAL DE RECURSOS DE REVISIÓN | B26: 2
A27: RECURSOS DE REVISIÓN DESHECHADOS IMPROCEDENTES | B27: 0
A28: RECURSOS DE REVISIÓN DESHECHADOS SOBRESEÍDOS | B28: 0
A29: RECURSOS QUE CONFIRMAN EL ACTO O RESOLUCIÓN IMPUGNADA | B29: 0
A30: RECURSOS DE MODIFICAN EL ACTO O RESOLUCIÓN IMPUGNADA | B30: 0
A31: RECURSOS DE REVOCAN EL ACTO O RESOLUCIÓN IMPUGNADA | B31: 1

Sheet OCTUBRE_2011
A2: TIPO DE ÁREA: UNIDAD ADMINISTRATIVA DE LA OFICILIA MAYOR ENTIDAD: DIRECCIÓN DE INFORMACIÓN PÚBLICA DEL TRIBUNAL SUPERIOR DE JUSTICIA INFORME: PERSONAS ATENDIDAS OCTUBRE 2011 | B2: VALOR
A5: PERSONAS ATENDIDAS | B5: 45
A7: SOLICITUDES DE INFORMACIÓN PÚBLICA RECIBIDAS
A8: VÍA ELECTRÓNICA (INFOMEX, TELINFOCDMX Y CORREO ELECTRÓNICO) | B8: 104
A9: POR ESCRITO (FORMATO IMPRESO) | B9: 26
A10: SOLICITUDES DIRIGIDAS A JUZGADOS | B10: 31
A11: SOLICITUDES DIRIGIDAS A SALAS | B11: 2
A12: SOLICITUDES DIRIGIDAS A ÁREAS DE APOYO JUDICIAL | B12: 52
A13: SOLICITUDES DIRIGIDAS A ÁREAS ADMINISTRATIVAS | B13: 45
A15: SOLICITUDES DE INFORMACIÓN ENTREGADAS Y CASOS EN LOS QUE SE NEGÓ EL ACCESO
A16: SOLICITUDES EN LAS QUE HUBO ENTREGA TOTAL DE LA INFORMACIÓN | B16: 157
A17: SOLICITUDES EN LAS QUE SE DECLARÓ LA INEXISTENCIA DE INFORMACIÓN | B17: 0
A18: SOLICITUDES CUYA INFORMACIÓN SE ENCONTRABA BAJO EL SUPUESTO DE ACCESO RESTRINGIDO | B18: 0
A19: SOLICITUDES EN LAS QUE SE ENTREGÓ INFORMACIÓN DISTINTA A LA SOLICITADA O EN UN FORMATO INCOMPRENSIBLE | B19: 0
A20: SOLICITUDES EN LAS QUE HUBO ENTREGA PARCIAL DE INFORMACIÓN | B20: 0
A21: SOLICITUDES CANALIZADAS A OTRO ENTE PÚBLICO | B21: 2
A22: SOLICITUDES PREVENIDAS SIN DESAHOGO POR PARTE DEL PETICIONARIO | B22: 28
A23: SOLICITUDES ORIENTADAS PARA SU TRAMITACIÓN ANTE OTRO ENTE PÚBLICO POR PARTE DEL PETICIONARIO | B23: 0
A25: RECURSOS DE REVISIÓN
A26: NÚMERO TOTAL DE RECURSOS DE REVISIÓN | B26: 6
A27: RECURSOS DE REVISIÓN DESHECHADOS IMPROCEDENTES | B27: 0
A28: RECURSOS DE REVISIÓN DESHECHADOS SOBRESEÍDOS | B28: 0
A29: RECURSOS QUE CONFIRMAN EL ACTO O RESOLUCIÓN IMPUGNADA | B29: 0
A30: RECURSOS DE MODIFICAN EL ACTO O RESOLUCIÓN IMPUGNADA | B30: 2
A31: RECURSOS DE REVOCAN EL ACTO O RESOLUCIÓN IMPUGNADA | B31: 0

Sheet NOVIEMBRE_2011
A2: TIPO DE ÁREA: UNIDAD ADMINISTRATIVA DE LA OFICILIA MAYOR ENTIDAD: DIRECCIÓN DE INFORMACIÓN PÚBLICA DEL TRIBUNAL SUPERIOR DE JUSTICIA INFORME: PERSONAS ATENDIDAS NOVIEMBRE 2011 | B2: VALOR
A5: PERSONAS ATENDIDAS | B5: 41
A7: SOLICITUDES DE INFORMACIÓN PÚBLICA RECIBIDAS
A8: VÍA ELECTRÓNICA (INFOMEX, TELINFOCDMX Y CORREO ELECTRÓNICO) | B8: 102
A9: POR ESCRITO (FORMATO IMPRESO) | B9: 23
A10: SOLICITUDES DIRIGIDAS A JUZGADOS | B10: 5
A11: SOLICITUDES DIRIGIDAS A SALAS | B11: 2
A12: SOLICITUDES DIRIGIDAS A ÁREAS DE APOYO JUDICIAL | B12: 58
A13: SOLICITUDES DIRIGIDAS A ÁREAS ADMINISTRATIVAS | B13: 60
A15: SOLICITUDES DE INFORMACIÓN ENTREGADAS Y CASOS EN LOS QUE SE NEGÓ EL ACCESO
A16: SOLICITUDES EN LAS QUE HUBO ENTREGA TOTAL DE LA INFORMACIÓN | B16: 108
A17: SOLICITUDES EN LAS QUE SE DECLARÓ LA INEXISTENCIA DE INFORMACIÓN | B17: 0
A18: SOLICITUDES CUYA INFORMACIÓN SE ENCONTRABA BAJO EL SUPUESTO DE ACCESO RESTRINGIDO | B18: 0
A19: SOLICITUDES EN LAS QUE SE ENTREGÓ INFORMACIÓN DISTINTA A LA SOLICITADA O EN UN FORMATO INCOMPRENSIBLE | B19: 0
A20: SOLICITUDES EN LAS QUE HUBO ENTREGA PARCIAL DE INFORMACIÓN | B20: 0
A21: SOLICITUDES CANALIZADAS A OTRO ENTE PÚBLICO | B21: 9
A22: SOLICITUDES PREVENIDAS SIN DESAHOGO POR PARTE DEL PETICIONARIO | B22: 27
A23: SOLICITUDES ORIENTADAS PARA SU TRAMITACIÓN ANTE OTRO ENTE PÚBLICO POR PARTE DEL PETICIONARIO | B23: 1
A25: RECURSOS DE REVISIÓN
A26: NÚMERO TOTAL DE RECURSOS DE REVISIÓN | B26: 5
A27: RECURSOS DE REVISIÓN DESHECHADOS IMPROCEDENTES | B27: 0
A28: RECURSOS DE REVISIÓN DESHECHADOS SOBRESEÍDOS | B28: 0
A29: RECURSOS QUE CONFIRMAN EL ACTO O RESOLUCIÓN IMPUGNADA | B29: 0
A30: RECURSOS DE MODIFICAN EL ACTO O RESOLUCIÓN IMPUGNADA | B30: 0
A31: RECURSOS DE REVOCAN EL ACTO O RESOLUCIÓN IMPUGNADA | B31: 2

Sheet DICIEMBRE_2011
A2: TIPO DE ÁREA: UNIDAD ADMINISTRATIVA DE LA OFICILIA MAYOR ENTIDAD: DIRECCIÓN DE INFORMACIÓN PÚBLICA DEL TRIBUNAL SUPERIOR DE JUSTICIA INFORME: PERSONAS ATENDIDAS DICIEMBRE 2011 | B2: VALOR
A5: PERSONAS ATENDIDAS | B5: 14
A7: SOLICITUDES DE INFORMACIÓN PÚBLICA RECIBIDAS
A8: VÍA ELECTRÓNICA (INFOMEX, TELINFOCDMX Y CORREO ELECTRÓNICO) | B8: 32
A9: POR ESCRITO (FORMATO IMPRESO) | B9: 4
A10: SOLICITUDES DIRIGIDAS A JUZGADOS | B10: 2
A11: SOLICITUDES DIRIGIDAS A SALAS | B11: 0
A12: SOLICITUDES DIRIGIDAS A ÁREAS DE APOYO JUDICIAL | B12: 10
A13: SOLICITUDES DIRIGIDAS A ÁREAS ADMINISTRATIVAS | B13: 24
A15: SOLICITUDES DE INFORMACIÓN ENTREGADAS Y CASOS EN LOS QUE SE NEGÓ EL ACCESO
A16: SOLICITUDES EN LAS QUE HUBO ENTREGA TOTAL DE LA INFORMACIÓN | B16: 48
A17: SOLICITUDES EN LAS QUE SE DECLARÓ LA INEXISTENCIA DE INFORMACIÓN | B17: 0
A18: SOLICITUDES CUYA INFORMACIÓN SE ENCONTRABA BAJO EL SUPUESTO DE ACCESO RESTRINGIDO | B18: 0
A19: SOLICITUDES EN LAS QUE SE ENTREGÓ INFORMACIÓN DISTINTA A LA SOLICITADA O EN UN FORMATO INCOMPRENSIBLE | B19: 0
A20: SOLICITUDES EN LAS QUE HUBO ENTREGA PARCIAL DE INFORMACIÓN | B20: 0
A21: SOLICITUDES CANALIZADAS A OTRO ENTE PÚBLICO | B21: 0
A22: SOLICITUDES PREVENIDAS SIN DESAHOGO POR PARTE DEL PETICIONARIO | B22: 5
A23: SOLICITUDES ORIENTADAS PARA SU TRAMITACIÓN ANTE OTRO ENTE PÚBLICO POR PARTE DEL PETICIONARIO | B23: 1
A25: RECURSOS DE REVISIÓN
A26: NÚMERO TOTAL DE RECURSOS DE REVISIÓN | B26: 1
A27: RECURSOS DE REVISIÓN DESHECHADOS IMPROCEDENTES | B27: 0
A28: RECURSOS DE REVISIÓN DESHECHADOS SOBRESEÍDOS | B28: 0
A29: RECURSOS QUE CONFIRMAN EL ACTO O RESOLUCIÓN IMPUGNADA | B29: 0
A30: RECURSOS DE MODIFICAN EL ACTO O RESOLUCIÓN IMPUGNADA | B30: 0
A31: RECURSOS DE REVOCAN EL ACTO O RESOLUCIÓN IMPUGNADA | B31: 2

Sheet FEBRERO_2012
A2: TIPO DE ÁREA: UNIDAD ADMINISTRATIVA DE LA OFICILIA MAYOR ENTIDAD: DIRECCIÓN DE INFORMACIÓN PÚBLICA DEL TRIBUNAL SUPERIOR DE JUSTICIA INFORME: PERSONAS ATENDIDAS FEBRERO 2012 | B2: VALOR
A5: PERSONAS ATENDIDAS | B5: 61
A7: SOLICITUDES DE INFORMACIÓN PÚBLICA RECIBIDAS
A8: VÍA ELECTRÓNICA (INFOMEX, TELINFOCDMX Y CORREO ELECTRÓNICO) | B8: 87
A9: POR ESCRITO (FORMATO IMPRESO) | B9: 35
A10: SOLICITUDES DIRIGIDAS A JUZGADOS | B10: 6
A11: SOLICITUDES DIRIGIDAS A SALAS | B11: 0
A12: SOLICITUDES DIRIGIDAS A ÁREAS DE APOYO JUDICIAL | B12: 75
A13: SOLICITUDES DIRIGIDAS A ÁREAS ADMINISTRATIVAS | B13: 41
A15: SOLICITUDES DE INFORMACIÓN ENTREGADAS Y CASOS EN LOS QUE SE NEGÓ EL ACCESO
A16: SOLICITUDES EN LAS QUE HUBO ENTREGA TOTAL DE LA INFORMACIÓN | B16: 97
A17: SOLICITUDES EN LAS QUE SE DECLARÓ LA INEXISTENCIA DE INFORMACIÓN | B17: 0
A18: SOLICITUDES CUYA INFORMACIÓN SE ENCONTRABA BAJO EL SUPUESTO DE ACCESO RESTRINGIDO | B18: 0
A19: SOLICITUDES EN LAS QUE SE ENTREGÓ INFORMACIÓN DISTINTA A LA SOLICITADA O EN UN FORMATO INCOMPRENSIBLE | B19: 0
A20: SOLICITUDES EN LAS QUE HUBO ENTREGA PARCIAL DE INFORMACIÓN | B20: 0
A21: SOLICITUDES CANALIZADAS A OTRO ENTE PÚBLICO | B21: 11
A22: SOLICITUDES PREVENIDAS SIN DESAHOGO POR PARTE DEL PETICIONARIO | B22: 17
A23: SOLICITUDES ORIENTADAS PARA SU TRAMITACIÓN ANTE OTRO ENTE PÚBLICO POR PARTE DEL PETICIONARIO | B23: 16
A25: RECURSOS DE REVISIÓN
A26: NÚMERO TOTAL DE RECURSOS DE REVISIÓN | B26: 1
A27: RECURSOS DE REVISIÓN DESHECHADOS IMPROCEDENTES | B27: 0
A28: RECURSOS DE REVISIÓN DESHECHADOS SOBRESEÍDOS | B28: 1
A29: RECURSOS QUE CONFIRMAN EL ACTO O RESOLUCIÓN IMPUGNADA | B29: 0
A30: RECURSOS DE MODIFICAN EL ACTO O RESOLUCIÓN IMPUGNADA | B30: 3
A31: RECURSOS DE REVOCAN EL ACTO O RESOLUCIÓN IMPUGNADA | B31: 1

Sheet MARZO_2012
A2: TIPO DE ÁREA: UNIDAD ADMINISTRATIVA DE LA OFICILIA MAYOR ENTIDAD: DIRECCIÓN DE INFORMACIÓN PÚBLICA DEL TRIBUNAL SUPERIOR DE JUSTICIA INFORME: PERSONAS ATENDIDAS MARZO 2012 | B2: VALOR
A5: PERSONAS ATENDIDAS | B5: 37
A7: SOLICITUDES DE INFORMACIÓN PÚBLICA RECIBIDAS
A8: VÍA ELECTRÓNICA (INFOMEX, TELINFOCDMX Y CORREO ELECTRÓNICO) | B8: 107
A9: POR ESCRITO (FORMATO IMPRESO) | B9: 23
A10: SOLICITUDES DIRIGIDAS A JUZGADOS | B10: 5
A11: SOLICITUDES DIRIGIDAS A SALAS | B11: 1
A12: SOLICITUDES DIRIGIDAS A ÁREAS DE APOYO JUDICIAL | B12: 57
A13: SOLICITUDES DIRIGIDAS A ÁREAS ADMINISTRATIVAS | B13: 73
A15: SOLICITUDES DE INFORMACIÓN ENTREGADAS Y CASOS EN LOS QUE SE NEGÓ EL ACCESO
A16: SOLICITUDES EN LAS QUE HUBO ENTREGA TOTAL DE LA INFORMACIÓN | B16: 127
A17: SOLICITUDES EN LAS QUE SE DECLARÓ LA INEXISTENCIA DE INFORMACIÓN | B17: 0
A18: SOLICITUDES CUYA INFORMACIÓN SE ENCONTRABA BAJO EL SUPUESTO DE ACCESO RESTRINGIDO | B18: 0
A19: SOLICITUDES EN LAS QUE SE ENTREGÓ INFORMACIÓN DISTINTA A LA SOLICITADA O EN UN FORMATO INCOMPRENSIBLE | B19: 0
A20: SOLICITUDES EN LAS QUE HUBO ENTREGA PARCIAL DE INFORMACIÓN | B20: 0
A21: SOLICITUDES CANALIZADAS A OTRO ENTE PÚBLICO | B21: 11
A22: SOLICITUDES PREVENIDAS SIN DESAHOGO POR PARTE DEL PETICIONARIO | B22: 87
A23: SOLICITUDES ORIENTADAS PARA SU TRAMITACIÓN ANTE OTRO ENTE PÚBLICO POR PARTE DEL PETICIONARIO | B23: 27
A25: RECURSOS DE REVISIÓN
A26: NÚMERO TOTAL DE RECURSOS DE REVISIÓN | B26: 2
A27: RECURSOS DE REVISIÓN DESHECHADOS IMPROCEDENTES | B27: 0
A28: RECURSOS DE REVISIÓN DESHECHADOS SOBRESEÍDOS | B28: 0
A29: RECURSOS QUE CONFIRMAN EL ACTO O RESOLUCIÓN IMPUGNADA | B29: 0
A30: RECURSOS DE MODIFICAN EL ACTO O RESOLUCIÓN IMPUGNADA | B30: 0
A31: RECURSOS DE REVOCAN EL ACTO O RESOLUCIÓN IMPUGNADA | B31: 1

Sheet ABRIL_2012
A2: TIPO DE ÁREA: UNIDAD ADMINISTRATIVA DE LA OFICILIA MAYOR ENTIDAD: DIRECCIÓN DE INFORMACIÓN PÚBLICA DEL TRIBUNAL SUPERIOR DE JUSTICIA INFORME: PERSONAS ATENDIDAS ABRIL 2012 | B2: VALOR
A5: PERSONAS ATENDIDAS | B5: 43
A7: SOLICITUDES DE INFORMACIÓN PÚBLICA RECIBIDAS
A8: VÍA ELECTRÓNICA (INFOMEX, TELINFOCDMX Y CORREO ELECTRÓNICO) | B8: 133
A9: POR ESCRITO (FORMATO IMPRESO) | B9: 20
A10: SOLICITUDES DIRIGIDAS A JUZGADOS | B10: 8
A11: SOLICITUDES DIRIGIDAS A SALAS | B11: 1
A12: SOLICITUDES DIRIGIDAS A ÁREAS DE APOYO JUDICIAL | B12: 63
A13: SOLICITUDES DIRIGIDAS A ÁREAS ADMINISTRATIVAS | B13: 81
A15: SOLICITUDES DE INFORMACIÓN ENTREGADAS Y CASOS EN LOS QUE SE NEGÓ EL ACCESO
A16: SOLICITUDES EN LAS QUE HUBO ENTREGA TOTAL DE LA INFORMACIÓN | B16: 110
A17: SOLICITUDES EN LAS QUE SE DECLARÓ LA INEXISTENCIA DE INFORMACIÓN | B17: 0
A18: SOLICITUDES CUYA INFORMACIÓN SE ENCONTRABA BAJO EL SUPUESTO DE ACCESO RESTRINGIDO | B18: 0
A19: SOLICITUDES EN LAS QUE SE ENTREGÓ INFORMACIÓN DISTINTA A LA SOLICITADA O EN UN FORMATO INCOMPRENSIBLE | B19: 0
A20: SOLICITUDES EN LAS QUE HUBO ENTREGA PARCIAL DE INFORMACIÓN | B20: 0
A21: SOLICITUDES CANALIZADAS A OTRO ENTE PÚBLICO | B21: 8
A22: SOLICITUDES PREVENIDAS SIN DESAHOGO POR PARTE DEL PETICIONARIO | B22: 83
A23: SOLICITUDES ORIENTADAS PARA SU TRAMITACIÓN ANTE OTRO ENTE PÚBLICO POR PARTE DEL PETICIONARIO | B23: 4
A25: RECURSOS DE REVISIÓN
A26: NÚMERO TOTAL DE RECURSOS DE REVISIÓN | B26: 2
A27: RECURSOS DE REVISIÓN DESHECHADOS IMPROCEDENTES | B27: 0
A28: RECURSOS DE REVISIÓN DESHECHADOS SOBRESEÍDOS | B28: 0
A29: RECURSOS QUE CONFIRMAN EL ACTO O RESOLUCIÓN IMPUGNADA | B29: 0
A30: RECURSOS DE MODIFICAN EL ACTO O RESOLUCIÓN IMPUGNADA | B30: 0
A31: RECURSOS DE REVOCAN EL ACTO O RESOLUCIÓN IMPUGNADA | B31: 0

Sheet MAYO_2012
A2: TIPO DE ÁREA: UNIDAD ADMINISTRATIVA DE LA OFICILIA MAYOR ENTIDAD: DIRECCIÓN DE INFORMACIÓN PÚBLICA DEL TRIBUNAL SUPERIOR DE JUSTICIA INFORME: PERSONAS ATENDIDAS MAYO 2012 | B2: VALOR
A5: PERSONAS ATENDIDAS | B5: 49
A7: SOLICITUDES DE INFORMACIÓN PÚBLICA RECIBIDAS
A8: VÍA ELECTRÓNICA (INFOMEX, TELINFOCDMX Y CORREO ELECTRÓNICO) | B8: 123
A9: POR ESCRITO (FORMATO IMPRESO) | B9: 14
A10: SOLICITUDES DIRIGIDAS A JUZGADOS | B10: 11
A11: SOLICITUDES DIRIGIDAS A SALAS | B11: 1
A12: SOLICITUDES DIRIGIDAS A ÁREAS DE APOYO JUDICIAL | B12: 43
A13: SOLICITUDES DIRIGIDAS A ÁREAS ADMINISTRATIVAS | B13: 94
A15: SOLICITUDES DE INFORMACIÓN ENTREGADAS Y CASOS EN LOS QUE SE NEGÓ EL ACCESO
A16: SOLICITUDES EN LAS QUE HUBO ENTREGA TOTAL DE LA INFORMACIÓN | B16: 112
A17: SOLICITUDES EN LAS QUE SE DECLARÓ LA INEXISTENCIA DE INFORMACIÓN | B17: 0
A18: SOLICITUDES CUYA INFORMACIÓN SE ENCONTRABA BAJO EL SUPUESTO DE ACCESO RESTRINGIDO | B18: 0
A19: SOLICITUDES EN LAS QUE SE ENTREGÓ INFORMACIÓN DISTINTA A LA SOLICITADA O EN UN FORMATO INCOMPRENSIBLE | B19: 0
A20: SOLICITUDES EN LAS QUE HUBO ENTREGA PARCIAL DE INFORMACIÓN | B20: 0
A21: SOLICITUDES CANALIZADAS A OTRO ENTE PÚBLICO | B21: 6
A22: SOLICITUDES PREVENIDAS SIN DESAHOGO POR PARTE DEL PETICIONARIO | B22: 47
A23: SOLICITUDES ORIENTADAS PARA SU TRAMITACIÓN ANTE OTRO ENTE PÚBLICO POR PARTE DEL PETICIONARIO | B23: 8
A25: RECURSOS DE REVISIÓN
A26: NÚMERO TOTAL DE RECURSOS DE REVISIÓN | B26: 2
A27: RECURSOS DE REVISIÓN DESHECHADOS IMPROCEDENTES | B27: 0
A28: RECURSOS DE REVISIÓN DESHECHADOS SOBRESEÍDOS | B28: 1
A29: RECURSOS QUE CONFIRMAN EL ACTO O RESOLUCIÓN IMPUGNADA | B29: 0
A30: RECURSOS DE MODIFICAN EL ACTO O RESOLUCIÓN IMPUGNADA | B30: 0
A31: RECURSOS DE REVOCAN EL ACTO O RESOLUCIÓN IMPUGNADA | B31: 0

Sheet JUNIO_2012
A2: TIPO DE ÁREA: UNIDAD ADMINISTRATIVA DE LA OFICILIA MAYOR ENTIDAD: DIRECCIÓN DE INFORMACIÓN PÚBLICA DEL TRIBUNAL SUPERIOR DE JUSTICIA INFORME: PERSONAS ATENDIDAS JUNIO 2012 | B2: VALOR
A5: PERSONAS ATENDIDAS | B5: 54
A7: SOLICITUDES DE INFORMACIÓN PÚBLICA RECIBIDAS
A8: VÍA ELECTRÓNICA (INFOMEX, TELINFOCDMX Y CORREO ELECTRÓNICO) | B8: 123
A9: POR ESCRITO (FORMATO IMPRESO) | B9: 37
A10: SOLICITUDES DIRIGIDAS A JUZGADOS | B10: 12
A11: SOLICITUDES DIRIGIDAS A SALAS | B11: 0
A12: SOLICITUDES DIRIGIDAS A ÁREAS DE APOYO JUDICIAL | B12: 45
A13: SOLICITUDES DIRIGIDAS A ÁREAS ADMINISTRATIVAS | B13: 103
A15: SOLICITUDES DE INFORMACIÓN ENTREGADAS Y CASOS EN LOS QUE SE NEGÓ EL ACCESO
A16: SOLICITUDES EN LAS QUE HUBO ENTREGA TOTAL DE LA INFORMACIÓN | B16: 96
A17: SOLICITUDES EN LAS QUE SE DECLARÓ LA INEXISTENCIA DE INFORMACIÓN | B17: 0
A18: SOLICITUDES CUYA INFORMACIÓN SE ENCONTRABA BAJO EL SUPUESTO DE ACCESO RESTRINGIDO | B18: 0
A19: SOLICITUDES EN LAS QUE SE ENTREGÓ INFORMACIÓN DISTINTA A LA SOLICITADA O EN UN FORMATO INCOMPRENSIBLE | B19: 0
A20: SOLICITUDES EN LAS QUE HUBO ENTREGA PARCIAL DE INFORMACIÓN | B20: 0
A21: SOLICITUDES CANALIZADAS A OTRO ENTE PÚBLICO | B21: 9
A22: SOLICITUDES PREVENIDAS SIN DESAHOGO POR PARTE DEL PETICIONARIO | B22: 31
A23: SOLICITUDES ORIENTADAS PARA SU TRAMITACIÓN ANTE OTRO ENTE PÚBLICO POR PARTE DEL PETICIONARIO | B23: 8
A25: RECURSOS DE REVISIÓN
A26: NÚMERO TOTAL DE RECURSOS DE REVISIÓN | B26: 0
A27: RECURSOS DE REVISIÓN DESHECHADOS IMPROCEDENTES | B27: 0
A28: RECURSOS DE REVISIÓN DESHECHADOS SOBRESEÍDOS | B28: 1
A29: RECURSOS QUE CONFIRMAN EL ACTO O RESOLUCIÓN IMPUGNADA | B29: 0
A30: RECURSOS DE MODIFICAN EL ACTO O RESOLUCIÓN IMPUGNADA | B30: 0
A31: RECURSOS DE REVOCAN EL ACTO O RESOLUCIÓN IMPUGNADA | B31: 2

Sheet JULIO_2012
A2: TIPO DE ÁREA: UNIDAD ADMINISTRATIVA DE LA OFICILIA MAYOR ENTIDAD: DIRECCIÓN DE INFORMACIÓN PÚBLICA DEL TRIBUNAL SUPERIOR DE JUSTICIA INFORME: PERSONAS ATENDIDAS JULIO 2012 | B2: VALOR
A5: PERSONAS ATENDIDAS | B5: 30
A7: SOLICITUDES DE INFORMACIÓN PÚBLICA RECIBIDAS
A8: VÍA ELECTRÓNICA (INFOMEX, TELINFOCDMX Y CORREO ELECTRÓNICO) | B8: 40
A9: POR ESCRITO (FORMATO IMPRESO) | B9: 13
A10: SOLICITUDES DIRIGIDAS A JUZGADOS | B10: 4
A11: SOLICITUDES DIRIGIDAS A SALAS | B11: 0
A12: SOLICITUDES DIRIGIDAS A ÁREAS DE APOYO JUDICIAL | B12: 26
A13: SOLICITUDES DIRIGIDAS A ÁREAS ADMINISTRATIVAS | B13: 27
A15: SOLICITUDES DE INFORMACIÓN ENTREGADAS Y CASOS EN LOS QUE SE NEGÓ EL ACCESO
A16: SOLICITUDES EN LAS QUE HUBO ENTREGA TOTAL DE LA INFORMACIÓN | B16: 33
A17: SOLICITUDES EN LAS QUE SE DECLARÓ LA INEXISTENCIA DE INFORMACIÓN | B17: 0
A18: SOLICITUDES CUYA INFORMACIÓN SE ENCONTRABA BAJO EL SUPUESTO DE ACCESO RESTRINGIDO | B18: 0
A19: SOLICITUDES EN LAS QUE SE ENTREGÓ INFORMACIÓN DISTINTA A LA SOLICITADA O EN UN FORMATO INCOMPRENSIBLE | B19: 0
A20: SOLICITUDES EN LAS QUE HUBO ENTREGA PARCIAL DE INFORMACIÓN | B20: 0
A21: SOLICITUDES CANALIZADAS A OTRO ENTE PÚBLICO | B21: 1
A22: SOLICITUDES PREVENIDAS SIN DESAHOGO POR PARTE DEL PETICIONARIO | B22: 17
A23: SOLICITUDES ORIENTADAS PARA SU TRAMITACIÓN ANTE OTRO ENTE PÚBLICO POR PARTE DEL PETICIONARIO | B23: 2
A25: RECURSOS DE REVISIÓN
A26: NÚMERO TOTAL DE RECURSOS DE REVISIÓN | B26: 0
A27: RECURSOS DE REVISIÓN DESHECHADOS IMPROCEDENTES | B27: 0
A28: RECURSOS DE REVISIÓN DESHECHADOS SOBRESEÍDOS | B28: 0
A29: RECURSOS QUE CONFIRMAN EL ACTO O RESOLUCIÓN IMPUGNADA | B29: 0
A30: RECURSOS DE MODIFICAN EL ACTO O RESOLUCIÓN IMPUGNADA | B30: 0
A31: RECURSOS DE REVOCAN EL ACTO O RESOLUCIÓN IMPUGNADA | B31: 1

Sheet AGOSTO_2012
A2: TIPO DE ÁREA: UNIDAD ADMINISTRATIVA DE LA OFICILIA MAYOR ENTIDAD: DIRECCIÓN DE INFORMACIÓN PÚBLICA DEL TRIBUNAL SUPERIOR DE JUSTICIA INFORME: PERSONAS ATENDIDAS AGOSTO 2012 | B2: VALOR
A5: PERSONAS ATENDIDAS | B5: 65
A7: SOLICITUDES DE INFORMACIÓN PÚBLICA RECIBIDAS
A8: VÍA ELECTRÓNICA (INFOMEX, TELINFOCDMX Y CORREO ELECTRÓNICO) | B8: 129
A9: POR ESCRITO (FORMATO IMPRESO) | B9: 49
A10: SOLICITUDES DIRIGIDAS A JUZGADOS | B10: 6
A11: SOLICITUDES DIRIGIDAS A SALAS | B11: 2
A12: SOLICITUDES DIRIGIDAS A ÁREAS DE APOYO JUDICIAL | B12: 71
A13: SOLICITUDES DIRIGIDAS A ÁREAS ADMINISTRATIVAS | B13: 97
A15: SOLICITUDES DE INFORMACIÓN ENTREGADAS Y CASOS EN LOS QUE SE NEGÓ EL ACCESO
A16: SOLICITUDES EN LAS QUE HUBO ENTREGA TOTAL DE LA INFORMACIÓN | B16: 88
A17: SOLICITUDES EN LAS QUE SE DECLARÓ LA INEXISTENCIA DE INFORMACIÓN | B17: 0
A18: SOLICITUDES CUYA INFORMACIÓN SE ENCONTRABA BAJO EL SUPUESTO DE ACCESO RESTRINGIDO | B18: 0
A19: SOLICITUDES EN LAS QUE SE ENTREGÓ INFORMACIÓN DISTINTA A LA SOLICITADA O EN UN FORMATO INCOMPRENSIBLE | B19: 0
A20: SOLICITUDES EN LAS QUE HUBO ENTREGA PARCIAL DE INFORMACIÓN | B20: 0
A21: SOLICITUDES CANALIZADAS A OTRO ENTE PÚBLICO | B21: 9
A22: SOLICITUDES PREVENIDAS SIN DESAHOGO POR PARTE DEL PETICIONARIO | B22: 47
A23: SOLICITUDES ORIENTADAS PARA SU TRAMITACIÓN ANTE OTRO ENTE PÚBLICO POR PARTE DEL PETICIONARIO | B23: 0
A25: RECURSOS DE REVISIÓN
A26: NÚMERO TOTAL DE RECURSOS DE REVISIÓN | B26: 1
A27: RECURSOS DE REVISIÓN DESHECHADOS IMPROCEDENTES | B27: 0
A28: RECURSOS DE REVISIÓN DESHECHADOS SOBRESEÍDOS | B28: 0
A29: RECURSOS QUE CONFIRMAN EL ACTO O RESOLUCIÓN IMPUGNADA | B29: 0
A30: RECURSOS DE MODIFICAN EL ACTO O RESOLUCIÓN IMPUGNADA | B30: 0
A31: RECURSOS DE REVOCAN EL ACTO O RESOLUCIÓN IMPUGNADA | B31: 0

Sheet SEPTIEMBRE_2012
A2: TIPO DE ÁREA: UNIDAD ADMINISTRATIVA DE LA OFICILIA MAYOR ENTIDAD: DIRECCIÓN DE INFORMACIÓN PÚBLICA DEL TRIBUNAL SUPERIOR DE JUSTICIA INFORME: PERSONAS ATENDIDAS SEPTIEMBRE 2012 | B2: VALOR
A5: PERSONAS ATENDIDAS | B5: 41
A7: SOLICITUDES DE INFORMACIÓN PÚBLICA RECIBIDAS
A8: VÍA ELECTRÓNICA (INFOMEX, TELINFOCDMX Y CORREO ELECTRÓNICO) | B8: 37
A9: POR ESCRITO (FORMATO IMPRESO) | B9: 15
A10: SOLICITUDES DIRIGIDAS A JUZGADOS | B10: 3
A11: SOLICITUDES DIRIGIDAS A SALAS | B11: 0
A12: SOLICITUDES DIRIGIDAS A ÁREAS DE APOYO JUDICIAL | B12: 44
A13: SOLICITUDES DIRIGIDAS A ÁREAS ADMINISTRATIVAS | B13: 73
A15: SOLICITUDES DE INFORMACIÓN ENTREGADAS Y CASOS EN LOS QUE SE NEGÓ EL ACCESO
A16: SOLICITUDES EN LAS QUE HUBO ENTREGA TOTAL DE LA INFORMACIÓN | B16: 80
A17: SOLICITUDES EN LAS QUE SE DECLARÓ LA INEXISTENCIA DE INFORMACIÓN | B17: 0
A18: SOLICITUDES CUYA INFORMACIÓN SE ENCONTRABA BAJO EL SUPUESTO DE ACCESO RESTRINGIDO | B18: 0
A19: SOLICITUDES EN LAS QUE SE ENTREGÓ INFORMACIÓN DISTINTA A LA SOLICITADA O EN UN FORMATO INCOMPRENSIBLE | B19: 0
A20: SOLICITUDES EN LAS QUE HUBO ENTREGA PARCIAL DE INFORMACIÓN | B20: 0
A21: SOLICITUDES CANALIZADAS A OTRO ENTE PÚBLICO | B21: 2
A22: SOLICITUDES PREVENIDAS SIN DESAHOGO POR PARTE DEL PETICIONARIO | B22: 43
A23: SOLICITUDES ORIENTADAS PARA SU TRAMITACIÓN ANTE OTRO ENTE PÚBLICO POR PARTE DEL PETICIONARIO | B23: 4
A25: RECURSOS DE REVISIÓN
A26: NÚMERO TOTAL DE RECURSOS DE REVISIÓN | B26: 0
A27: RECURSOS DE REVISIÓN DESHECHADOS IMPROCEDENTES | B27: 0
A28: RECURSOS DE REVISIÓN DESHECHADOS SOBRESEÍDOS | B28: 1
A29: RECURSOS QUE CONFIRMAN EL ACTO O RESOLUCIÓN IMPUGNADA | B29: 0
A30: RECURSOS DE MODIFICAN EL ACTO O RESOLUCIÓN IMPUGNADA | B30: 0
A31: RECURSOS DE REVOCAN EL ACTO O RESOLUCIÓN IMPUGNADA | B31: 0

Sheet OCTUBRE_2012
A2: TIPO DE ÁREA: UNIDAD ADMINISTRATIVA DE LA OFICILIA MAYOR ENTIDAD: DIRECCIÓN DE INFORMACIÓN PÚBLICA DEL TRIBUNAL SUPERIOR DE JUSTICIA INFORME: PERSONAS ATENDIDAS OCTUBRE 2012 | B2: VALOR
A5: PERSONAS ATENDIDAS | B5: 35
A7: SOLICITUDES DE INFORMACIÓN PÚBLICA RECIBIDAS
A8: VÍA ELECTRÓNICA (INFOMEX, TELINFOCDMX Y CORREO ELECTRÓNICO) | B8: 117
A9: POR ESCRITO (FORMATO IMPRESO) | B9: 22
A10: SOLICITUDES DIRIGIDAS A JUZGADOS | B10: 4
A11: SOLICITUDES DIRIGIDAS A SALAS | B11: 0
A12: SOLICITUDES DIRIGIDAS A ÁREAS DE APOYO JUDICIAL | B12: 86
A13: SOLICITUDES DIRIGIDAS A ÁREAS ADMINISTRATIVAS | B13: 53
A15: SOLICITUDES DE INFORMACIÓN ENTREGADAS Y CASOS EN LOS QUE SE NEGÓ EL ACCESO
A16: SOLICITUDES EN LAS QUE HUBO ENTREGA TOTAL DE LA INFORMACIÓN | B16: 122
A17: SOLICITUDES EN LAS QUE SE DECLARÓ LA INEXISTENCIA DE INFORMACIÓN | B17: 0
A18: SOLICITUDES CUYA INFORMACIÓN SE ENCONTRABA BAJO EL SUPUESTO DE ACCESO RESTRINGIDO | B18: 0
A19: SOLICITUDES EN LAS QUE SE ENTREGÓ INFORMACIÓN DISTINTA A LA SOLICITADA O EN UN FORMATO INCOMPRENSIBLE | B19: 0
A20: SOLICITUDES EN LAS QUE HUBO ENTREGA PARCIAL DE INFORMACIÓN | B20: 0
A21: SOLICITUDES CANALIZADAS A OTRO ENTE PÚBLICO | B21: 8
A22: SOLICITUDES PREVENIDAS SIN DESAHOGO POR PARTE DEL PETICIONARIO | B22: 52
A23: SOLICITUDES ORIENTADAS PARA SU TRAMITACIÓN ANTE OTRO ENTE PÚBLICO POR PARTE DEL PETICIONARIO | B23: 0
A25: RECURSOS DE REVISIÓN
A26: NÚMERO TOTAL DE RECURSOS DE REVISIÓN | B26: 3
A27: RECURSOS DE REVISIÓN DESHECHADOS IMPROCEDENTES | B27: 0
A28: RECURSOS DE REVISIÓN DESHECHADOS SOBRESEÍDOS | B28: 0
A29: RECURSOS QUE CONFIRMAN EL ACTO O RESOLUCIÓN IMPUGNADA | B29: 0
A30: RECURSOS DE MODIFICAN EL ACTO O RESOLUCIÓN IMPUGNADA | B30: 0
A31: RECURSOS DE REVOCAN EL ACTO O RESOLUCIÓN IMPUGNADA | B31: 0

Sheet NOVIEMBRE_2012
A2: TIPO DE ÁREA: UNIDAD ADMINISTRATIVA DE LA OFICILIA MAYOR ENTIDAD: DIRECCIÓN DE INFORMACIÓN PÚBLICA DEL TRIBUNAL SUPERIOR DE JUSTICIA INFORME: PERSONAS ATENDIDAS NOVIEMBRE 2012 | B2: VALOR
A5: PERSONAS ATENDIDAS | B5: 23
A7: SOLICITUDES DE INFORMACIÓN PÚBLICA RECIBIDAS
A8: VÍA ELECTRÓNICA (INFOMEX, TELINFOCDMX Y CORREO ELECTRÓNICO) | B8: 73
A9: POR ESCRITO (FORMATO IMPRESO) | B9: 4
A10: SOLICITUDES DIRIGIDAS A JUZGADOS | B10: 5
A11: SOLICITUDES DIRIGIDAS A SALAS | B11: 1
A12: SOLICITUDES DIRIGIDAS A ÁREAS DE APOYO JUDICIAL | B12: 24
A13: SOLICITUDES DIRIGIDAS A ÁREAS ADMINISTRATIVAS | B13: 53
A15: SOLICITUDES DE INFORMACIÓN ENTREGADAS Y CASOS EN LOS QUE SE NEGÓ EL ACCESO
A16: SOLICITUDES EN LAS QUE HUBO ENTREGA TOTAL DE LA INFORMACIÓN | B16: 79
A17: SOLICITUDES EN LAS QUE SE DECLARÓ LA INEXISTENCIA DE INFORMACIÓN | B17: 0
A18: SOLICITUDES CUYA INFORMACIÓN SE ENCONTRABA BAJO EL SUPUESTO DE ACCESO RESTRINGIDO | B18: 0
A19: SOLICITUDES EN LAS QUE SE ENTREGÓ INFORMACIÓN DISTINTA A LA SOLICITADA O EN UN FORMATO INCOMPRENSIBLE | B19: 0
A20: SOLICITUDES EN LAS QUE HUBO ENTREGA PARCIAL DE INFORMACIÓN | B20: 0
A21: SOLICITUDES CANALIZADAS A OTRO ENTE PÚBLICO | B21: 9
A22: SOLICITUDES PREVENIDAS SIN DESAHOGO POR PARTE DEL PETICIONARIO | B22: 62
A23: SOLICITUDES ORIENTADAS PARA SU TRAMITACIÓN ANTE OTRO ENTE PÚBLICO POR PARTE DEL PETICIONARIO | B23: 4
A25: RECURSOS DE REVISIÓN
A26: NÚMERO TOTAL DE RECURSOS DE REVISIÓN | B26: 1
A27: RECURSOS DE REVISIÓN DESHECHADOS IMPROCEDENTES | B27: 0
A28: RECURSOS DE REVISIÓN DESHECHADOS SOBRESEÍDOS | B28: 0
A29: RECURSOS QUE CONFIRMAN EL ACTO O RESOLUCIÓN IMPUGNADA | B29: 0
A30: RECURSOS DE MODIFICAN EL ACTO O RESOLUCIÓN IMPUGNADA | B30: 0
A31: RECURSOS DE REVOCAN EL ACTO O RESOLUCIÓN IMPUGNADA | B31: 0

Sheet DICIEMBRE_2012
A2: TIPO DE ÁREA: UNIDAD ADMINISTRATIVA DE LA OFICILIA MAYOR ENTIDAD: DIRECCIÓN DE INFORMACIÓN PÚBLICA DEL TRIBUNAL SUPERIOR DE JUSTICIA INFORME: PERSONAS ATENDIDAS DICIEMBRE 2012 | B2: VALOR
A5: PERSONAS ATENDIDAS | B5: 19
A7: SOLICITUDES DE INFORMACIÓN PÚBLICA RECIBIDAS
A8: VÍA ELECTRÓNICA (INFOMEX, TELINFOCDMX Y CORREO ELECTRÓNICO) | B8: 24
A9: POR ESCRITO (FORMATO IMPRESO) | B9: 19
A10: SOLICITUDES DIRIGIDAS A JUZGADOS | B10: 8
A11: SOLICITUDES DIRIGIDAS A SALAS | B11: 0
A12: SOLICITUDES DIRIGIDAS A ÁREAS DE APOYO JUDICIAL | B12: 32
A13: SOLICITUDES DIRIGIDAS A ÁREAS ADMINISTRATIVAS | B13: 3
A15: SOLICITUDES DE INFORMACIÓN ENTREGADAS Y CASOS EN LOS QUE SE NEGÓ EL ACCESO
A16: SOLICITUDES EN LAS QUE HUBO ENTREGA TOTAL DE LA INFORMACIÓN | B16: 40
A17: SOLICITUDES EN LAS QUE SE DECLARÓ LA INEXISTENCIA DE INFORMACIÓN | B17: 0
A18: SOLICITUDES CUYA INFORMACIÓN SE ENCONTRABA BAJO EL SUPUESTO DE ACCESO RESTRINGIDO | B18: 0
A19: SOLICITUDES EN LAS QUE SE ENTREGÓ INFORMACIÓN DISTINTA A LA SOLICITADA O EN UN FORMATO INCOMPRENSIBLE | B19: 0
A20: SOLICITUDES EN LAS QUE HUBO ENTREGA PARCIAL DE INFORMACIÓN | B20: 0
A21: SOLICITUDES CANALIZADAS A OTRO ENTE PÚBLICO | B21: 3
A22: SOLICITUDES PREVENIDAS SIN DESAHOGO POR PARTE DEL PETICIONARIO | B22: 12
A23: SOLICITUDES ORIENTADAS PARA SU TRAMITACIÓN ANTE OTRO ENTE PÚBLICO POR PARTE DEL PETICIONARIO | B23: 5
A25: RECURSOS DE REVISIÓN
A26: NÚMERO TOTAL DE RECURSOS DE REVISIÓN | B26: 2
A27: RECURSOS DE REVISIÓN DESHECHADOS IMPROCEDENTES | B27: 0
A28: RECURSOS DE REVISIÓN DESHECHADOS SOBRESEÍDOS | B28: 2
A29: RECURSOS QUE CONFIRMAN EL ACTO O RESOLUCIÓN IMPUGNADA | B29: 0
A30: RECURSOS DE MODIFICAN EL ACTO O RESOLUCIÓN IMPUGNADA | B30: 0
A31: RECURSOS DE REVOCAN EL ACTO O RESOLUCIÓN IMPUGNADA | B31: 0

Sheet FEBRERO_2013
A2: TIPO DE ÁREA: UNIDAD ADMINISTRATIVA DE LA OFICILIA MAYOR ENTIDAD: DIRECCIÓN DE INFORMACIÓN PÚBLICA DEL TRIBUNAL SUPERIOR DE JUSTICIA INFORME: PERSONAS ATENDIDAS FEBRERO 2013 | B2: VALOR
A5: PERSONAS ATENDIDAS | B5: 50
A7: SOLICITUDES DE INFORMACIÓN PÚBLICA RECIBIDAS
A8: VÍA ELECTRÓNICA (INFOMEX, TELINFOCDMX Y CORREO ELECTRÓNICO) | B8: 62
A9: POR ESCRITO (FORMATO IMPRESO) | B9: 50
A10: SOLICITUDES DIRIGIDAS A JUZGADOS | B10: 16
A11: SOLICITUDES DIRIGIDAS A SALAS | B11: 0
A12: SOLICITUDES DIRIGIDAS A ÁREAS DE APOYO JUDICIAL | B12: 58
A13: SOLICITUDES DIRIGIDAS A ÁREAS ADMINISTRATIVAS | B13: 10
A15: SOLICITUDES DE INFORMACIÓN ENTREGADAS Y CASOS EN LOS QUE SE NEGÓ EL ACCESO
A16: SOLICITUDES EN LAS QUE HUBO ENTREGA TOTAL DE LA INFORMACIÓN | B16: 83
A17: SOLICITUDES EN LAS QUE SE DECLARÓ LA INEXISTENCIA DE INFORMACIÓN | B17: 0
A18: SOLICITUDES CUYA INFORMACIÓN SE ENCONTRABA BAJO EL SUPUESTO DE ACCESO RESTRINGIDO | B18: 0
A19: SOLICITUDES EN LAS QUE SE ENTREGÓ INFORMACIÓN DISTINTA A LA SOLICITADA O EN UN FORMATO INCOMPRENSIBLE | B19: 0
A20: SOLICITUDES EN LAS QUE HUBO ENTREGA PARCIAL DE INFORMACIÓN | B20: 0
A21: SOLICITUDES CANALIZADAS A OTRO ENTE PÚBLICO | B21: 6
A22: SOLICITUDES PREVENIDAS SIN DESAHOGO POR PARTE DEL PETICIONARIO | B22: 27
A23: SOLICITUDES ORIENTADAS PARA SU TRAMITACIÓN ANTE OTRO ENTE PÚBLICO POR PARTE DEL PETICIONARIO | B23: 0
A25: RECURSOS DE REVISIÓN
A26: NÚMERO TOTAL DE RECURSOS DE REVISIÓN | B26: 1
A27: RECURSOS DE REVISIÓN DESHECHADOS IMPROCEDENTES | B27: 0
A28: RECURSOS DE REVISIÓN DESHECHADOS SOBRESEÍDOS | B28: 1
A29: RECURSOS QUE CONFIRMAN EL ACTO O RESOLUCIÓN IMPUGNADA | B29: 0
A30: RECURSOS DE MODIFICAN EL ACTO O RESOLUCIÓN IMPUGNADA | B30: 0
A31: RECURSOS DE REVOCAN EL ACTO O RESOLUCIÓN IMPUGNADA | B31: 0

Sheet MARZO_2013
A2: TIPO DE ÁREA: UNIDAD ADMINISTRATIVA DE LA OFICILIA MAYOR ENTIDAD: DIRECCIÓN DE INFORMACIÓN PÚBLICA DEL TRIBUNAL SUPERIOR DE JUSTICIA INFORME: PERSONAS ATENDIDAS MARZO 2013 | B2: VALOR
A5: PERSONAS ATENDIDAS | B5: 47
A7: SOLICITUDES DE INFORMACIÓN PÚBLICA RECIBIDAS
A8: VÍA ELECTRÓNICA (INFOMEX, TELINFOCDMX Y CORREO ELECTRÓNICO) | B8: 45
A9: POR ESCRITO (FORMATO IMPRESO) | B9: 47
A10: SOLICITUDES DIRIGIDAS A JUZGADOS | B10: 11
A11: SOLICITUDES DIRIGIDAS A SALAS | B11: 0
A12: SOLICITUDES DIRIGIDAS A ÁREAS DE APOYO JUDICIAL | B12: 25
A13: SOLICITUDES DIRIGIDAS A ÁREAS ADMINISTRATIVAS | B13: 13
A15: SOLICITUDES DE INFORMACIÓN ENTREGADAS Y CASOS EN LOS QUE SE NEGÓ EL ACCESO
A16: SOLICITUDES EN LAS QUE HUBO ENTREGA TOTAL DE LA INFORMACIÓN | B16: 66
A17: SOLICITUDES EN LAS QUE SE DECLARÓ LA INEXISTENCIA DE INFORMACIÓN | B17: 0
A18: SOLICITUDES CUYA INFORMACIÓN SE ENCONTRABA BAJO EL SUPUESTO DE ACCESO RESTRINGIDO | B18: 0
A19: SOLICITUDES EN LAS QUE SE ENTREGÓ INFORMACIÓN DISTINTA A LA SOLICITADA O EN UN FORMATO INCOMPRENSIBLE | B19: 0
A20: SOLICITUDES EN LAS QUE HUBO ENTREGA PARCIAL DE INFORMACIÓN | B20: 0
A21: SOLICITUDES CANALIZADAS A OTRO ENTE PÚBLICO | B21: 6
A22: SOLICITUDES PREVENIDAS SIN DESAHOGO POR PARTE DEL PETICIONARIO | B22: 28
A23: SOLICITUDES ORIENTADAS PARA SU TRAMITACIÓN ANTE OTRO ENTE PÚBLICO POR PARTE DEL PETICIONARIO | B23: 2
A25: RECURSOS DE REVISIÓN
A26: NÚMERO TOTAL DE RECURSOS DE REVISIÓN | B26: 0
A27: RECURSOS DE REVISIÓN DESHECHADOS IMPROCEDENTES | B27: 0
A28: RECURSOS DE REVISIÓN DESHECHADOS SOBRESEÍDOS | B28: 0
A29: RECURSOS QUE CONFIRMAN EL ACTO O RESOLUCIÓN IMPUGNADA | B29: 0
A30: RECURSOS DE MODIFICAN EL ACTO O RESOLUCIÓN IMPUGNADA | B30: 0
A31: RECURSOS DE REVOCAN EL ACTO O RESOLUCIÓN IMPUGNADA | B31: 0

Sheet ABRIL_2013
A2: TIPO DE ÁREA: UNIDAD ADMINISTRATIVA DE LA OFICILIA MAYOR ENTIDAD: DIRECCIÓN DE INFORMACIÓN PÚBLICA DEL TRIBUNAL SUPERIOR DE JUSTICIA INFORME: PERSONAS ATENDIDAS ABRIL 2013 | B2: VALOR
A5: PERSONAS ATENDIDAS | B5: 85
A7: SOLICITUDES DE INFORMACIÓN PÚBLICA RECIBIDAS
A8: VÍA ELECTRÓNICA (INFOMEX, TELINFOCDMX Y CORREO ELECTRÓNICO) | B8: 100
A9: POR ESCRITO (FORMATO IMPRESO) | B9: 85
A10: SOLICITUDES DIRIGIDAS A JUZGADOS | B10: 20
A11: SOLICITUDES DIRIGIDAS A SALAS | B11: 1
A12: SOLICITUDES DIRIGIDAS A ÁREAS DE APOYO JUDICIAL | B12: 52
A13: SOLICITUDES DIRIGIDAS A ÁREAS ADMINISTRATIVAS | B13: 21
A15: SOLICITUDES DE INFORMACIÓN ENTREGADAS Y CASOS EN LOS QUE SE NEGÓ EL ACCESO
A16: SOLICITUDES EN LAS QUE HUBO ENTREGA TOTAL DE LA INFORMACIÓN | B16: 132
A17: SOLICITUDES EN LAS QUE SE DECLARÓ LA INEXISTENCIA DE INFORMACIÓN | B17: 0
A18: SOLICITUDES CUYA INFORMACIÓN SE ENCONTRABA BAJO EL SUPUESTO DE ACCESO RESTRINGIDO | B18: 0
A19: SOLICITUDES EN LAS QUE SE ENTREGÓ INFORMACIÓN DISTINTA A LA SOLICITADA O EN UN FORMATO INCOMPRENSIBLE | B19: 0
A20: SOLICITUDES EN LAS QUE HUBO ENTREGA PARCIAL DE INFORMACIÓN | B20: 0
A21: SOLICITUDES CANALIZADAS A OTRO ENTE PÚBLICO | B21: 10
A22: SOLICITUDES PREVENIDAS SIN DESAHOGO POR PARTE DEL PETICIONARIO | B22: 63
A23: SOLICITUDES ORIENTADAS PARA SU TRAMITACIÓN ANTE OTRO ENTE PÚBLICO POR PARTE DEL PETICIONARIO | B23: 11
A25: RECURSOS DE REVISIÓN
A26: NÚMERO TOTAL DE RECURSOS DE REVISIÓN | B26: 5
A27: RECURSOS DE REVISIÓN DESHECHADOS IMPROCEDENTES | B27: 0
A28: RECURSOS DE REVISIÓN DESHECHADOS SOBRESEÍDOS | B28: 1
A29: RECURSOS QUE CONFIRMAN EL ACTO O RESOLUCIÓN IMPUGNADA | B29: 2
A30: RECURSOS DE MODIFICAN EL ACTO O RESOLUCIÓN IMPUGNADA | B30: 0
A31: RECURSOS DE REVOCAN EL ACTO O RESOLUCIÓN IMPUGNADA | B31: 0

Sheet MAYO_2013
A2: TIPO DE ÁREA: UNIDAD ADMINISTRATIVA DE LA OFICILIA MAYOR ENTIDAD: DIRECCIÓN DE INFORMACIÓN PÚBLICA DEL TRIBUNAL SUPERIOR DE JUSTICIA INFORME: PERSONAS ATENDIDAS MAYO 2013 | B2: VALOR
A5: PERSONAS ATENDIDAS | B5: 60
A7: SOLICITUDES DE INFORMACIÓN PÚBLICA RECIBIDAS
A8: VÍA ELECTRÓNICA (INFOMEX, TELINFOCDMX Y CORREO ELECTRÓNICO) | B8: 78
A9: POR ESCRITO (FORMATO IMPRESO) | B9: 60
A10: SOLICITUDES DIRIGIDAS A JUZGADOS | B10: 21
A11: SOLICITUDES DIRIGIDAS A SALAS | B11: 0
A12: SOLICITUDES DIRIGIDAS A ÁREAS DE APOYO JUDICIAL | B12: 34
A13: SOLICITUDES DIRIGIDAS A ÁREAS ADMINISTRATIVAS | B13: 32
A15: SOLICITUDES DE INFORMACIÓN ENTREGADAS Y CASOS EN LOS QUE SE NEGÓ EL ACCESO
A16: SOLICITUDES EN LAS QUE HUBO ENTREGA TOTAL DE LA INFORMACIÓN | B16: 92
A17: SOLICITUDES EN LAS QUE SE DECLARÓ LA INEXISTENCIA DE INFORMACIÓN | B17: 0
A18: SOLICITUDES CUYA INFORMACIÓN SE ENCONTRABA BAJO EL SUPUESTO DE ACCESO RESTRINGIDO | B18: 0
A19: SOLICITUDES EN LAS QUE SE ENTREGÓ INFORMACIÓN DISTINTA A LA SOLICITADA O EN UN FORMATO INCOMPRENSIBLE | B19: 0
A20: SOLICITUDES EN LAS QUE HUBO ENTREGA PARCIAL DE INFORMACIÓN | B20: 0
A21: SOLICITUDES CANALIZADAS A OTRO ENTE PÚBLICO | B21: 9
A22: SOLICITUDES PREVENIDAS SIN DESAHOGO POR PARTE DEL PETICIONARIO | B22: 48
A23: SOLICITUDES ORIENTADAS PARA SU TRAMITACIÓN ANTE OTRO ENTE PÚBLICO POR PARTE DEL PETICIONARIO | B23: 0
A25: RECURSOS DE REVISIÓN
A26: NÚMERO TOTAL DE RECURSOS DE REVISIÓN | B26: 1
A27: RECURSOS DE REVISIÓN DESHECHADOS IMPROCEDENTES | B27: 0
A28: RECURSOS DE REVISIÓN DESHECHADOS SOBRESEÍDOS | B28: 0
A29: RECURSOS QUE CONFIRMAN EL ACTO O RESOLUCIÓN IMPUGNADA | B29: 0
A30: RECURSOS DE MODIFICAN EL ACTO O RESOLUCIÓN IMPUGNADA | B30: 0
A31: RECURSOS DE REVOCAN EL ACTO O RESOLUCIÓN IMPUGNADA | B31: 0

Sheet JUNIO_2013
A2: TIPO DE ÁREA: UNIDAD ADMINISTRATIVA DE LA OFICILIA MAYOR ENTIDAD: DIRECCIÓN DE INFORMACIÓN PÚBLICA DEL TRIBUNAL SUPERIOR DE JUSTICIA INFORME: PERSONAS ATENDIDAS JUNIO 2013 | B2: VALOR
A5: PERSONAS ATENDIDAS | B5: 50
A7: SOLICITUDES DE INFORMACIÓN PÚBLICA RECIBIDAS
A8: VÍA ELECTRÓNICA (INFOMEX, TELINFOCDMX Y CORREO ELECTRÓNICO) | B8: 53
A9: POR ESCRITO (FORMATO IMPRESO) | B9: 50
A10: SOLICITUDES DIRIGIDAS A JUZGADOS | B10: 7
A11: SOLICITUDES DIRIGIDAS A SALAS | B11: 0
A12: SOLICITUDES DIRIGIDAS A ÁREAS DE APOYO JUDICIAL | B12: 42
A13: SOLICITUDES DIRIGIDAS A ÁREAS ADMINISTRATIVAS | B13: 17
A15: SOLICITUDES DE INFORMACIÓN ENTREGADAS Y CASOS EN LOS QUE SE NEGÓ EL ACCESO
A16: SOLICITUDES EN LAS QUE HUBO ENTREGA TOTAL DE LA INFORMACIÓN | B16: 90
A17: SOLICITUDES EN LAS QUE SE DECLARÓ LA INEXISTENCIA DE INFORMACIÓN | B17: 0
A18: SOLICITUDES CUYA INFORMACIÓN SE ENCONTRABA BAJO EL SUPUESTO DE ACCESO RESTRINGIDO | B18: 0
A19: SOLICITUDES EN LAS QUE SE ENTREGÓ INFORMACIÓN DISTINTA A LA SOLICITADA O EN UN FORMATO INCOMPRENSIBLE | B19: 0
A20: SOLICITUDES EN LAS QUE HUBO ENTREGA PARCIAL DE INFORMACIÓN | B20: 0
A21: SOLICITUDES CANALIZADAS A OTRO ENTE PÚBLICO | B21: 14
A22: SOLICITUDES PREVENIDAS SIN DESAHOGO POR PARTE DEL PETICIONARIO | B22: 28
A23: SOLICITUDES ORIENTADAS PARA SU TRAMITACIÓN ANTE OTRO ENTE PÚBLICO POR PARTE DEL PETICIONARIO | B23: 0
A25: RECURSOS DE REVISIÓN
A26: NÚMERO TOTAL DE RECURSOS DE REVISIÓN | B26: 0
A27: RECURSOS DE REVISIÓN DESHECHADOS IMPROCEDENTES | B27: 0
A28: RECURSOS DE REVISIÓN DESHECHADOS SOBRESEÍDOS | B28: 2
A29: RECURSOS QUE CONFIRMAN EL ACTO O RESOLUCIÓN IMPUGNADA | B29: 1
A30: RECURSOS DE MODIFICAN EL ACTO O RESOLUCIÓN IMPUGNADA | B30: 1
A31: RECURSOS DE REVOCAN EL ACTO O RESOLUCIÓN IMPUGNADA | B31: 1

Sheet JULIO_2013
A2: TIPO DE ÁREA: UNIDAD ADMINISTRATIVA DE LA OFICILIA MAYOR ENTIDAD: DIRECCIÓN DE INFORMACIÓN PÚBLICA DEL TRIBUNAL SUPERIOR DE JUSTICIA INFORME: PERSONAS ATENDIDAS JULIO 2013 | B2: VALOR
A5: PERSONAS ATENDIDAS | B5: 30
A7: SOLICITUDES DE INFORMACIÓN PÚBLICA RECIBIDAS
A8: VÍA ELECTRÓNICA (INFOMEX, TELINFOCDMX Y CORREO ELECTRÓNICO) | B8: 45
A9: POR ESCRITO (FORMATO IMPRESO) | B9: 30
A10: SOLICITUDES DIRIGIDAS A JUZGADOS | B10: 4
A11: SOLICITUDES DIRIGIDAS A SALAS | B11: 0
A12: SOLICITUDES DIRIGIDAS A ÁREAS DE APOYO JUDICIAL | B12: 50
A13: SOLICITUDES DIRIGIDAS A ÁREAS ADMINISTRATIVAS | B13: 6
